{"text_format":"1","workbook":"xlsx","n_sheets":5,"sheets":["Introduction","Site-Specific Inputs","Pathway Summary","Avoided Emissions","CA-GREET4.0"],"not_rendered":{"charts":0,"images":18,"macros":1,"external_links":0,"defined_names":35,"comments":0,"pivot_tables":0},"unopened":[],"bounds":{"document_bytes":16777216,"sheet_cells":100000,"rows_first":2000,"rows_last":500,"rows_between":2000,"halvings":0,"cell_chars":16384,"cell_head_chars":4096},"cells_cut":0,"cells_raw":0,"read":"whole","date_system":"1900"}

{"sheet":"Introduction","index":0,"n_rows":44,"n_cols":6,"rows_kept":44,"cut":false,"hidden":false,"merged":[[2,2,2,6],[3,2,3,6],[8,1,8,7],[1,1,1,7],[4,1,7,2],[4,4,7,4],[4,6,7,7]]}
[]
[]
[null,null,"Low Carbon Fuel Standard\nTier 1 CI Calculator for Organic Waste Biomethane (Release Date: 07/01/2025)"]
[null,null,"The Tier 1 CI Calculator for Organic Waste Biomethane (T1 OW Calculator) offers a simplified interface for calculating the carbon intensity (CI) of biogas derived from organic waste that is upgraded to biomethane and used in a transportation vehicle as compressed natural gas (Bio-CNG), liquified natural gas (Bio-LNG) or re-gasified liquified natural gas (Bio-L-CNG).\n\nTo begin, navigate to the \"Site-Specific Inputs\" worksheet and enter all relevant project data. For Tier 1 pathways, a minimum of 3 months of operational data is required. The \"Avoided Emissions\" worksheet demonstrates how avoided landfilling and composting emissions are assessed. Carbon Intensity (CI) results are provided on the \"Pathway Summary\" worksheet, along with calculated input results and finished fuel quantities. Pathway-specific Operating Conditions may be added by CARB prior to pathway certification. The \"CA-GREET4.0\" worksheet contains predefined input values from the CA-GREET4.0 model. \n\nData entered by the applicant are limited to User Input cells (see Color Key below). Additional worksheets may be added to the calculator by the applicant to document and support User Input cell values, but existing worksheets and cells containing Calculated Value or CA-GREET4.0 Input values may not be modified without CARB approval via a Tier 2 pathway. \n\nNote: This calculator contains macros that allow the user to hide site-specific input fields that are not relevant to a given pathway. In order for macros to function properly, the \"Enable Content\" button in Microsoft Excel must be selected upon opening this calculator.  In order to ensure that CI calculations reflect the most recent inputs, select \"Automatic\" calculations from the \"Calculation Options\" in the \"Formulas\" toolbar or press F9 (if using Microsoft Excel)."]
[null,null,null,"Color Key",null,"LCFS Website Resources"]
[null,null,null,"User Input",null,"LCFS Program Overview"]
[null,null,null,"Calculated Value",null,"Tier 1 Pathway Calculators and Instruction Manuals"]
[null,null,null,"CA-GREET4.0",null,"Tier 1 Pathway Application Process"]
[]
[]
[]
[]
[]
[]
[]
[]
[]
[]
[]
[]
[]
[]
[]
[]
[]
[]
[]
[]
[]
[]
[]
[]
[]
[]
[]
[]
[]
[]
[]
[]
[]
[]
[]
[null,null,null,"`"]

{"sheet":"Site-Specific Inputs","index":1,"n_rows":32,"n_cols":33,"rows_kept":32,"cut":false,"hidden":false,"merged":[[10,2,12,2],[1,1,1,2],[7,1,7,2],[2,21,2,22],[17,1,17,2],[8,1,9,1],[8,2,9,2],[14,1,15,1],[10,1,12,1],[2,30,2,32],[1,4,1,32],[2,5,2,8],[2,9,2,12],[2,17,2,20],[2,23,2,28],[2,13,2,16]]}
[]
[null,"Section 1: Applicant Information",null,null,"Section 4: Monthly Operational Data"]
[null,"1.1 Application Number",null,null,null,"Urban Landscaping Waste (ULW) Feedstock",null,null,null,"Food Scraps (FS) Feedstock",null,null,null,"Recovered Organics (RO) Feedstock ",null,null,null,"Other Organic Waste (OOW) Feedstock",null,null,null,"Biogas",null,"Process Energy",null,null,null,null,null,"Tail Gas","Pipeline Injection"]
[null,"1.2 Company Name",null,null,4.0999999999999996,4.2,4.3,4.4000000000000004,4.5,4.5999999999999996,4.7,4.8,4.9000000000000004,4.0999999999999996,4.1100000000000003,4.12,4.13,4.1399999999999997,4.1500000000000004,4.16,4.17,4.1800000000000104,4.1900000000000102,4.2000000000000099,4.2100000000000097,4.2200000000000104,4.2300000000000102,4.24000000000001,4.2500000000000098,4.2600000000000096,4.2700000000000102,4.28000000000001,4.2900000000000098]
[null,"1.3 Company ID",null,null,"Reporting Month","ULW Received","ULW Rejected","ULW Moisture Content","ULW Transport Distance","FS Received","FS Rejected","FS Moisture Content","FS Transport Distance","RO Received","RO Rejected","RO Moisture Content","RO Transport Distance","OOW Received","OOW Rejected","OOW Moisture Content","OOW Transport Distance","Biogas Collected","Methane Content","Biogas Combusted Onsite","North American Natural Gas","Grid Electricity","Low-CI Electricity","LPG or Propane","Diesel","Flared Gas","Natural Gas Blended","LPG or Propane Blended","Total Gas Injected"]
[null,"1.4 Fuel Production Facility ID",null,null,"MM/YYYY","wet short tons","wet short tons","%","weighted av. miles",{"$f":"F6","v":"wet short tons"},{"$f":"G6","v":"wet short tons"},{"$f":"H6","v":"%"},"weighted av. miles",{"$f":"J6","v":"wet short tons"},{"$f":"K6","v":"wet short tons"},{"$f":"L6","v":"%"},{"$f":"M6","v":"weighted av. miles"},{"$f":"J6","v":"wet short tons"},{"$f":"O6","v":"wet short tons"},{"$f":"H6","v":"%"},{"$f":"M6","v":"weighted av. miles"},"ft3 @ 60oF, 1 atm","%v/v (CH4/biogas)","ft3 @ 60oF, 1 atm","MMBtu, HHV","kWh","kWh","gallons","gallons","MMBtu, HHV","MMBtu, HHV","gallons","MMBtu, HHV"]
[]
[null,"Section 2: Pathway Inputs"]
[null,"2.1 Organic Waste Feedstocks"]
[]
[null,"2.2 Process Energy"]
[]
[]
[null,"2.3 Blended Fossil Fuels"]
[null,"2.4 Finished Fuels"]
[]
[]
[null,"Section 3: Static Operational Data"]
[null,"3.1 Electricity Grid Region"]
[null,"3.2 Grid Electricity EF (gCO2e/kWh)"]
[null,"3.3 Low-CI Electricity EF (gCO2e/kWh)"]
[null,"3.4 Distance to CNG Station (miles)"]
[null,"3.5 LNG Facility ID"]
[null,"3.6 Distance to LNG Facility (miles)"]
[null,"3.7 Liquefaction EF (gCO2e/gallon)"]
[null,"3.8 Bio-LNG Trucking Distance (miles)"]
[null,"3.9 Bio-LNG Truck Type"]
[null,"3.10 OOW - % Diverted from Landfill"]
[null,"3.11 OOW - % Diverted from Composting"]
[null,"3.12 OOW - TDOC (% dry basis)"]
[null,"3.13 OOW - DANF (%)"]
[null,"3.14 OOW - Decay Rate (k)"]

{"sheet":"Pathway Summary","index":2,"n_rows":63,"n_cols":12,"rows_kept":63,"cut":false,"hidden":false,"merged":[[38,1,39,1],[41,1,45,1],[36,1,37,1],[56,12,56,16],[49,1,49,7],[47,1,47,7],[48,1,48,7],[52,1,52,10],[51,1,51,10],[1,2,2,10],[3,2,4,10],[5,1,5,10],[6,1,6,2],[29,1,34,1],[12,1,12,6],[6,8,6,10],[8,9,8,10],[7,9,7,10],[21,1,21,10],[6,4,6,6],[13,1,14,1],[24,1,27,1],[22,1,22,4],[22,5,22,6],[22,8,22,10]]}
[]
[null,null,"Tier 1 Organic Waste Biomethane Pathway Summary"]
[]
[null,null,"FOR APPLICANT ONLY - CONTAINS CONFIDENTIAL BUSINESS INFORMATION - DO NOT DISTRIBUTE"]
[]
[]
[null,"Applicant Information",null,null,"Biomethane Quantities",null,null,null,"Loss Factors"]
[null,"Application #",{"$f":"'Site-Specific Inputs'!C3","v":0},null,null,"MT CH4","MJ, LHV",null,"Bio-CNG ","Bio-LNG / Bio L-CNG"]
[null,"Company Name and ID",{"$f":"CONCATENATE('Site-Specific Inputs'!C4,\" \",'Site-Specific Inputs'!C5)","v":" "},null,"At Digester Outlet",{"$f":"G9/'CA-GREET4.0'!E4*'CA-GREET4.0'!E5*'CA-GREET4.0'!I14","v":0},{"$f":"SUMPRODUCT('Site-Specific Inputs'!V7:V30,'Site-Specific Inputs'!W7:W30)*'CA-GREET4.0'!E4","v":0},null,{"$f":"IFERROR(F10/(F10-D44*'CA-GREET4.0'!I14),)","v":0},{"$f":"IFERROR(F10/(F10-SUM(D45:D46)*'CA-GREET4.0'!I14),)","v":0}]
[null,"Fuel Production Facility ID",{"$f":"'Site-Specific Inputs'!C6","v":0},null,"Pipeline Injected",{"$f":"G10/'CA-GREET4.0'!E4*'CA-GREET4.0'!E5*'CA-GREET4.0'!I14","v":0},{"$f":"(SUM('Site-Specific Inputs'!AG7:AG30)*'CA-GREET4.0'!E6-SUM('Site-Specific Inputs'!AE7:AE30)*'CA-GREET4.0'!E7)*'CA-GREET4.0'!M6-SUM('Site-Specific Inputs'!AF7:AF30)*'CA-GREET4.0'!E9","v":0}]
[null,"Operational Data Period",{"$f":"IF('Site-Specific Inputs'!E7=0,\"\",CONCATENATE(TEXT(MIN('Site-Specific Inputs'!E7:E30),\"mm/yyyy\"),\" — \",TEXT(MAX('Site-Specific Inputs'!E7:E30),\"mm/yyyy\")))","v":""}]
[]
[null,"Avoided Emissions"]
[null,"Feedstock Category","Feedstock Input to Digester ","Generation Potential in Landfill","Avoided Methane Fugitives","Avoided N2O Fugitives","Avoided Flaring"]
[null,null,"dry short tons","MT CH4","MT CH4","MT N2O","MMBtu, LHV"]
[null,"Urban Landscaping Waste (ULW)",{"$f":"SUMPRODUCT('Site-Specific Inputs'!F7:F30-'Site-Specific Inputs'!G7:G30,1-'Site-Specific Inputs'!H7:H30)","v":0},{"$f":"C16*'Avoided Emissions'!G131","v":0},{"$f":"IFERROR((AVERAGE('Avoided Emissions'!I131,'Avoided Emissions'!K131)*C16*'Avoided Emissions'!H19+SUM('Site-Specific Inputs'!F7:F30-'Site-Specific Inputs'!G7:G30)*'CA-GREET4.0'!M13*'Avoided Emissions'!F19*'CA-GREET4.0'!I14*'Avoided Emissions'!I19),)","v":0},{"$f":"IFERROR(SUM('Site-Specific Inputs'!F7:F30-'Site-Specific Inputs'!G7:G30)*'CA-GREET4.0'!M13*'Avoided Emissions'!F20*'CA-GREET4.0'!I14*'Avoided Emissions'!I19,)","v":0},{"$f":"C16*('Avoided Emissions'!G131-AVERAGE('Avoided Emissions'!I131,'Avoided Emissions'!K131))*'CA-GREET4.0'!K12/'CA-GREET4.0'!E5*'CA-GREET4.0'!E4*'CA-GREET4.0'!J10","v":0}]
[null,"Food Scraps (FS)",{"$f":"SUMPRODUCT('Site-Specific Inputs'!J7:J30-'Site-Specific Inputs'!K7:K30,1-'Site-Specific Inputs'!L7:L30)","v":0},{"$f":"C17*'Avoided Emissions'!G238","v":0},{"$f":"IFERROR((AVERAGE('Avoided Emissions'!I238,'Avoided Emissions'!K238)*C17*'Avoided Emissions'!H20+SUM('Site-Specific Inputs'!J7:J30-'Site-Specific Inputs'!K7:K30)*'CA-GREET4.0'!M13*'Avoided Emissions'!F19*'CA-GREET4.0'!I14*'Avoided Emissions'!I20),)","v":0},{"$f":"IFERROR(SUM('Site-Specific Inputs'!J7:J30-'Site-Specific Inputs'!K7:K30)*'CA-GREET4.0'!M13*'Avoided Emissions'!F20*'CA-GREET4.0'!I14*'Avoided Emissions'!I20,)","v":0},{"$f":"C17*('Avoided Emissions'!G238-AVERAGE('Avoided Emissions'!I238,'Avoided Emissions'!K238))*'CA-GREET4.0'!K12/'CA-GREET4.0'!E5*'CA-GREET4.0'!E4*'CA-GREET4.0'!J10","v":0}]
[null,"Recovered Organics (RO)",{"$f":"SUMPRODUCT('Site-Specific Inputs'!N7:N30-'Site-Specific Inputs'!O7:O30,1-'Site-Specific Inputs'!P7:P30)","v":0},{"$f":"C18*'Avoided Emissions'!G345","v":0},{"$f":"IFERROR(C18*AVERAGE('Avoided Emissions'!I345,'Avoided Emissions'!K345),)","v":0},null,{"$f":"C18*('Avoided Emissions'!G345-AVERAGE('Avoided Emissions'!I345,'Avoided Emissions'!K345))*'CA-GREET4.0'!K12/'CA-GREET4.0'!E5*'CA-GREET4.0'!E4*'CA-GREET4.0'!J10","v":0}]
[null,"Other Organic Waste (OOW)",{"$f":"SUMPRODUCT('Site-Specific Inputs'!R7:R30-'Site-Specific Inputs'!S7:S30,1-'Site-Specific Inputs'!T7:T30)","v":0},{"$f":"IFERROR(C19*'Avoided Emissions'!G452,)","v":0},{"$f":"IFERROR((AVERAGE('Avoided Emissions'!I452,'Avoided Emissions'!K452)*C19*'Site-Specific Inputs'!C28+SUM('Site-Specific Inputs'!R7:R30-'Site-Specific Inputs'!S7:S30)*'CA-GREET4.0'!M13*'Avoided Emissions'!F19*'CA-GREET4.0'!I14*'Site-Specific Inputs'!C29),)","v":0},{"$f":"IFERROR(SUM('Site-Specific Inputs'!R7:R30-'Site-Specific Inputs'!S7:S30)*'CA-GREET4.0'!M13*'Avoided Emissions'!F20*'CA-GREET4.0'!I14*'Site-Specific Inputs'!C29,)","v":0},{"$f":"IFERROR(C19*('Avoided Emissions'!G452-AVERAGE('Avoided Emissions'!I452,'Avoided Emissions'!K452))*'CA-GREET4.0'!K12/'CA-GREET4.0'!E5*'CA-GREET4.0'!E4*'CA-GREET4.0'!J10,)","v":0}]
[null,"Adjusted Total",{"$f":"SUM(C16:C19)","v":0},{"$f":"SUM(D16:D19)","v":0},{"$f":"IFERROR(SUM(E16:E19)*MIN('Pathway Summary'!F9/SUM(D16:D19),1),)","v":0},{"$f":"IFERROR(SUM(F16:F19)*MIN('Pathway Summary'!F9/SUM(D16:D19),1),)","v":0},{"$f":"IFERROR(SUM(G16:G19)*MIN('Pathway Summary'!F9/SUM(D16:D19),1),)","v":0}]
[]
[null,"Carbon Intensity Calculations"]
[null,"Fuel Pathway Inputs",null,null,null,"Emission Factors",null,"Emissions ","CI (gCO2e/MJ)"]
[null,"Category","Name","Value","Unit","Value","Unit","gCO2e","Bio-CNG","Bio-LNG","Bio-L-CNG"]
[null,"Avoided Emissions","Methane",{"$f":"-E20*'CA-GREET4.0'!K12","v":0},"g CH4",{"$f":"'CA-GREET4.0'!E13","v":25},"gCO2e/gCH4",{"$f":"D25*F25","v":0},{"$f":"IFERROR(H25/G10/I9,)","v":0},{"$f":"IFERROR(H25/G10/J9,)","v":0},{"$f":"IFERROR(H25/G10/J9,)","v":0}]
[null,null,"Nitrous Oxide",{"$f":"-F20*'CA-GREET4.0'!K12","v":0},"g N2O",{"$f":"'CA-GREET4.0'!E14","v":298},"gCO2e/gN2O",{"$f":"D26*F26","v":0},{"$f":"IFERROR(H26/G10/I9,)","v":0},{"$f":"IFERROR(H26/G10/J9,)","v":0},{"$f":"IFERROR(H26/G10/J9,)","v":0}]
[null,null,"Landfill Gas Flaring",{"$f":"-G20","v":0},"MMBtu, LHV",{"$f":"'CA-GREET4.0'!E20","v":1117.4749999999999},"gCO2e/MMBtu, LHV",{"$f":"D27*F27","v":0},{"$f":"IFERROR(H27/G10/I9,)","v":0},{"$f":"IFERROR(H27/G10/J9,)","v":0},{"$f":"IFERROR(H27/G10/J9,)","v":0}," "]
[null,null,"CO2 Balance",{"$f":"-(D25+D27*'CA-GREET4.0'!E21)*'CA-GREET4.0'!E12/'CA-GREET4.0'!E11","v":0},"g CO2",1,"gCO2e/g CO2 ",{"$f":"D28*F28","v":0},{"$f":"IFERROR(H28/G10/I9,)","v":0},{"$f":"IFERROR(H28/G10/J9,)","v":0},{"$f":"IFERROR(H28/G10/J9,)","v":0}]
[null,"Feedstock Transport","Truck",{"$f":"SUMPRODUCT('Site-Specific Inputs'!F7:F30,'Site-Specific Inputs'!I7:I30)+SUMPRODUCT('Site-Specific Inputs'!J7:J30,'Site-Specific Inputs'!M7:M30)+SUMPRODUCT('Site-Specific Inputs'!N7:N30,'Site-Specific Inputs'!Q7:Q30)+SUMPRODUCT('Site-Specific Inputs'!R7:R30,'Site-Specific Inputs'!U7:U30)","v":0},"short ton-miles",{"$f":"'CA-GREET4.0'!E15","v":218},"gCO2e/short ton-mile",{"$f":"D29*F29","v":0},{"$f":"IFERROR(H29/G10/I9,)","v":0},{"$f":"IFERROR(H29/G10/J9,)","v":0},{"$f":"IFERROR(H29/G10/J9,)","v":0}]
[null,"Process Energy",{"$f":"'Site-Specific Inputs'!X5","v":"Biogas Combusted Onsite"},{"$f":"SUMPRODUCT('Site-Specific Inputs'!W7:W30,'Site-Specific Inputs'!X7:X30)*'CA-GREET4.0'!E4*'CA-GREET4.0'!J10","v":0},"MMBtu, LHV",{"$f":"'CA-GREET4.0'!E16","v":1117.4749999999999},"gCO2e/MMBtu, LHV",0,{"$f":"IFERROR(H30/G10/I9,)","v":0},{"$f":"IFERROR(H30/G10/J9,)","v":0},{"$f":"IFERROR(H30/G10/J9,)","v":0}]
[null,null,{"$f":"'Site-Specific Inputs'!Y5","v":"North American Natural Gas"},{"$f":"SUM('Site-Specific Inputs'!Y7:Y30)*'CA-GREET4.0'!E7","v":0},"MMBtu, LHV",{"$f":"'CA-GREET4.0'!E17","v":75496},"gCO2e/MMBtu, LHV",0,{"$f":"IFERROR(H31/G10/I9,)","v":0},{"$f":"IFERROR(H31/G10/J9,)","v":0},{"$f":"IFERROR(H31/G10/J9,)","v":0}]
[null,null,{"$f":"'Site-Specific Inputs'!Z5","v":"Grid Electricity"},{"$f":"SUM('Site-Specific Inputs'!Z7:Z30)","v":0},{"$f":"'Site-Specific Inputs'!Z6","v":"kWh"},{"$f":"'Site-Specific Inputs'!C20","v":0},"gCO2e/kWh",0,{"$f":"IFERROR(H32/G10/I9,)","v":0},{"$f":"IFERROR(H32/G10/J9,)","v":0},{"$f":"IFERROR(H32/G10/J9,)","v":0}]
[null,null,{"$f":"'Site-Specific Inputs'!AA5","v":"Low-CI Electricity"},{"$f":"SUM('Site-Specific Inputs'!AA7:AA30)","v":0},"kWh",{"$f":"'Site-Specific Inputs'!C21","v":0},"gCO2e/kWh",0,{"$f":"IFERROR(H33/G10/I9,)","v":0},{"$f":"IFERROR(H33/G10/J9,)","v":0},{"$f":"IFERROR(H33/G10/J9,)","v":0}]
[null,null,{"$f":"'Site-Specific Inputs'!AB5","v":"LPG or Propane"},{"$f":"SUM('Site-Specific Inputs'!AB7:AB30)","v":0},"gallons",{"$f":"'CA-GREET4.0'!E18","v":7345.27740286076},"gCO2e/gallon",0,{"$f":"IFERROR(H34/G10/I9,)","v":0},{"$f":"IFERROR(H34/G10/J9,)","v":0},{"$f":"IFERROR(H34/G10/J9,)","v":0}]
[null,null,{"$f":"'Site-Specific Inputs'!AC5","v":"Diesel"},{"$f":"SUM('Site-Specific Inputs'!AC7:AC30)","v":0},"gallons",{"$f":"'CA-GREET4.0'!E19","v":12308},"gCO2e/gallon",0,{"$f":"IFERROR(H35/G10/I9,)","v":0},{"$f":"IFERROR(H35/G10/J9,)","v":0},{"$f":"IFERROR(H35/G10/J9,)","v":0}]
[null,"Tail Gas Destruction",{"$f":"'Site-Specific Inputs'!AD5","v":"Flared Gas"},{"$f":"SUM('Site-Specific Inputs'!AD7:AD30)*'CA-GREET4.0'!E6","v":0},"MMBtu, LHV",{"$f":"'CA-GREET4.0'!E20","v":1117.4749999999999},"gCO2e/MMBtu, LHV",0,{"$f":"IFERROR(H36/G10/I9,)","v":0},{"$f":"IFERROR(H36/G10/J9,)","v":0},{"$f":"IFERROR(H36/G10/J9,)","v":0}]
[null,"Pipeline Transport Energy","To Bio-CNG Station",{"$f":"G10*'Site-Specific Inputs'!C22","v":0},"MJ-miles, LHV",{"$f":"'CA-GREET4.0'!E24","v":3.8899999999999998E-3},"gCO2e/MJ-Mile, LHV",0,{"$f":"IFERROR(H37/G10/I9,)","v":0}]
[null,null,"To Liquefaction Facility",{"$f":"G10*'Site-Specific Inputs'!C24","v":0},"MJ-miles, LHV",{"$f":"'CA-GREET4.0'!E24","v":3.8899999999999998E-3},"gCO2e/MJ-Mile, LHV",0,null,{"$f":"IFERROR(H38/G10/J9,)","v":0},{"$f":"IFERROR(H38/G10/J9,)","v":0}]
[null,"LNG / L-CNG Production and Transport","Liquefaction Process",{"$f":"IF('Site-Specific Inputs'!C25=\"\",,'Pathway Summary'!G10)","v":0},"MJ LNG",{"$f":"'Site-Specific Inputs'!C25/'CA-GREET4.0'!E8","v":0},"gCO2e/MJ LNG",0,null,{"$f":"IFERROR(H39/G10/J9,)","v":0},{"$f":"IFERROR(H39/G10/J9,)","v":0}]
[null,null,"Truck Transport",{"$f":"IF('Site-Specific Inputs'!C25=\"\",,'Pathway Summary'!G10)","v":0},"MJ LNG",{"$f":"'Site-Specific Inputs'!C26*'CA-GREET4.0'!E25","v":0},"gCO2e/MJ LNG",0,null,{"$f":"IFERROR(H40/G10/J9,)","v":0},{"$f":"IFERROR(H40/G10/J9,)","v":0}]
[null,"CNG Station","Compression at Fueling Station",{"$f":"IFERROR(G10/I9,)","v":0},"MJ",{"$f":"'CA-GREET4.0'!E28","v":2.9636394399179773},"gCO2e/MJ, LHV",0,{"$f":"IFERROR(H41/G10/I9,)","v":0},null,{"$f":"IFERROR(H41/G10/J9,)","v":0}]
[null,"Fugitive Methane","Anaerobic Digestion",{"$f":"F9*'CA-GREET4.0'!E22*'CA-GREET4.0'!K12","v":0},"g CH4",{"$f":"'CA-GREET4.0'!E13","v":25},"gCO2e/g CH4",0,{"$f":"IFERROR(H42/G10/I9,)","v":0},{"$f":"IFERROR(H42/G10/J9,)","v":0},{"$f":"IFERROR(H42/G10/J9,)","v":0}]
[null,null,"Biogas Upgrading",{"$f":"MAX(F9*'CA-GREET4.0'!K12-(D30+D36)*'CA-GREET4.0'!M6/'CA-GREET4.0'!E4*'CA-GREET4.0'!E5-F10*'CA-GREET4.0'!K12,F9*'CA-GREET4.0'!K12*'CA-GREET4.0'!E22)","v":0},"g CH4",{"$f":"'CA-GREET4.0'!E13","v":25},"gCO2e/g CH4",0,{"$f":"IFERROR(H43/G10/I9,)","v":0},{"$f":"IFERROR(H43/G10/J9,)","v":0},{"$f":"IFERROR(H43/G10/J9,)","v":0}]
[null,null,"Pipeline to CNG Station",{"$f":"F10*'CA-GREET4.0'!K12*'CA-GREET4.0'!E23*'Site-Specific Inputs'!C22","v":0},"g CH4",{"$f":"'CA-GREET4.0'!E13","v":25},"gCO2e/g CH4",0,{"$f":"IFERROR(H44/G10/I9,)","v":0}]
[null,null,"Pipeline to LNG or L-CNG Station",{"$f":"F10*'CA-GREET4.0'!K12*'CA-GREET4.0'!E23*'Site-Specific Inputs'!C24","v":0},"g CH4",{"$f":"'CA-GREET4.0'!E13","v":25},"gCO2e/g CH4",0,null,{"$f":"IFERROR(H45/G10/J9,)","v":0},{"$f":"IFERROR(H45/G10/J9,)","v":0}]
[null,null,"LNG Trucking",{"$f":"F10*'CA-GREET4.0'!K12*IF('Site-Specific Inputs'!C27=\"Boil-Off Recovery Equipped\",'CA-GREET4.0'!E26,'CA-GREET4.0'!E27)","v":0},"g CH4",{"$f":"'CA-GREET4.0'!E13","v":25},"gCO2e/g CH4",0,null,{"$f":"IFERROR(H46/G10/J9,)","v":0},{"$f":"IFERROR(H46/G10/J9,)","v":0}]
[null,"Vehicle Tailpipe ","Non-CO2 Emissions",{"$f":"G10","v":0},"MJ RNG, LHV",{"$f":"'CA-GREET4.0'!E29","v":5.51},"gCO2e/MJ RNG, LHV",0,{"$f":"IFERROR(H47/G10/I9,)","v":0},{"$f":"IFERROR(H47/G10/J9,)","v":0},{"$f":"IFERROR(H47/G10/J9,)","v":0}]
[null,"Calculated Fuel Pathway Carbon Intensity (gCO2e/MJ RNG, LHV)",null,null,null,null,null,null,{"$f":"SUM(I25:I47)","v":0},{"$f":"SUM(J25:J47)","v":0},{"$f":"SUM(K25:K47)","v":0}]
[null,"Margin of Safety (entered by applicant)"]
[null,"Fuel Pathway Carbon Intensity for Certification (gCO2e/MJ RNG, LHV)",null,null,null,null,null,null,{"$f":"SUM(I48:I49)","v":0},{"$f":"SUM(J48:J49)","v":0},{"$f":"SUM(K48:K49)","v":0}]
[]
[null,"Operating Conditions"]
[]
[]
[]
[]
[]
[]
[]
[]
[]
[]
[null,null,"`"]

{"sheet":"Avoided Emissions","index":3,"n_rows":452,"n_cols":11,"rows_kept":452,"cut":false,"hidden":false,"merged":[[130,1,130,5],[239,1,239,10],[242,1,242,6],[242,7,242,8],[242,9,242,10],[133,1,134,1],[451,1,451,5],[28,1,28,6],[28,7,28,8],[25,1,25,10],[346,1,346,10],[349,1,349,6],[349,7,349,8],[349,9,349,10],[26,1,27,1],[28,9,28,10],[135,9,135,10],[237,1,237,5],[344,1,344,5],[132,1,132,10],[135,1,135,6],[135,7,135,8],[1,1,1,8],[2,2,2,3],[2,4,2,8],[16,1,16,5],[17,4,17,5],[15,1,15,8],[16,6,16,8]]}
[]
[null,"Section 7. References"]
[null,null,"CalRecycle (2022). 2021 Disposal Facility-based Characterization of Solid Waste in California",null,"U.S. EPA (2020). Documentation for Greenhouse Gas Emission and Energy Factors Used in the Waste Reduction Model (WARM). Management Practices Chapters"]
[null,"Feedstock","short wet ton","% of organic MSW in CA disposed waste stream (%m/m, dry basis)","Total Degradable Organic Carbon (TDOC, dry w/w) \n(Exhibit 6-4)","Anaerobically Degradable Fraction\n(Exhibit 6-6)","Decay Rate, National Average\n(Exhibit 6-8)","Ratio of Dry Weight to Wet Weight\n(Exhibit 6-13)","ANDOC (MT/short ton dry waste)"]
[null,"Newspaper",295433.77862430399,{"$f":"C5*H5/SUMPRODUCT(C5:C15,H5:H15)","v":2.2856223998607671E-2},0.49,0.16,0.04,0.87,{"$f":"E5*'CA-GREET4.0'!M14*F5","v":7.112328361600001E-2}]
[null,"Office Paper",1637360.414416671,{"$f":"C6*H6/SUMPRODUCT(C5:C15,H5:H15)","v":0.13249843865506852},0.32,0.88,0.04,0.91,{"$f":"E6*'CA-GREET4.0'!M14*F6","v":0.25546322278400002}]
[null,"Corrugated Boxes",1643490.0739254842,{"$f":"C7*H7/SUMPRODUCT(C5:C15,H5:H15)","v":0.1213026419028051},0.47,0.45,0.03,0.83,{"$f":"E7*'CA-GREET4.0'!M14*F7","v":0.19186957251}]
[null,"Coated Paper",2617540.8591912617,{"$f":"C8*H8/SUMPRODUCT(C5:C15,H5:H15)","v":0.21414423086594161},0.34,0.26,0.16,0.92,{"$f":"E8*'CA-GREET4.0'!M14*F8","v":8.019513101600001E-2}]
[null,"Food",4362949.5122910086,{"$f":"C9*H9/SUMPRODUCT(C5:C15,H5:H15)","v":0.1047536184212338},0.5,0.84,0.19,0.27,{"$f":"E9*'CA-GREET4.0'!M14*F9","v":0.38101759080000003}]
[null,"Grass",441945.77554605337,{"$f":"C10*H10/SUMPRODUCT(C5:C15,H5:H15)","v":7.0740247324288553E-3},0.45,0.47,0.39,0.18,{"$f":"E10*'CA-GREET4.0'!M14*F10","v":0.19186957251}]
[null,"Leaves",441945.77554605337,{"$f":"C11*H11/SUMPRODUCT(C5:C15,H5:H15)","v":2.4366085189477169E-2},0.46,0.15,0.22,0.62,{"$f":"E11*'CA-GREET4.0'!M14*F11","v":6.2595747059999998E-2}]
[null,"Branches",1527296.7971087794,{"$f":"C12*H12/SUMPRODUCT(C5:C15,H5:H15)","v":0.11408480617650975},0.49,0.23,0.02,0.84,{"$f":"E12*'CA-GREET4.0'!M14*F12","v":0.10223972019800001}]
[null,"Dimensional Lumber ",1768515,{"$f":"C13*H13/SUMPRODUCT(C5:C15,H5:H15)","v":0.11794922535287126},0.49,0.12,0.11,0.75,{"$f":"E13*'CA-GREET4.0'!M14*F13","v":5.3342462712000001E-2}]
[null,"Medium Density Fiberboard ",751487,{"$f":"C14*H14/SUMPRODUCT(C5:C15,H5:H15)","v":5.0119625512225326E-2},0.44,0.16,0.08,0.75,{"$f":"E14*'CA-GREET4.0'!M14*F14","v":6.3865805696000005E-2}]
[null,"Wood Flooring",1362209,{"$f":"C15*H15/SUMPRODUCT(C5:C15,H5:H15)","v":9.0851079192830947E-2},0.46,0.01,{"$f":"AVERAGE(G13:G14)","v":9.5000000000000001E-2},0.75,{"$f":"E15*'CA-GREET4.0'!M14*F15","v":4.1730498040000001E-3}]
[]
[null,"Method for Estimating Greenhouse Gas Emission Reductions from Diversion of Organic Waste from Landfills to Compost Facilities. CARB. 2017",null,null,null,null,"tier1-ow-calculator-corrected (CA-GREET3.0)"]
[null,"Year","Gas Collection Scenario 1: Typical Phased","Gas Collection Scenario 2: Phased with Shutdown ","Avoided Composting Emissions (g/wet kg feedstock)",null,"Feedstock","Diverted from Landfill","Diverted from Composting"]
[null,"1-2",0,0,"CH4",1.96,"Urban Landscaping Waste (ULW)",0.35899999999999999,{"$f":"1-H19","v":0.64100000000000001}]
[null,3,0.5,0.5,"N2O",7.4999999999999997E-2,"Food Scraps (FS)",0.97499999999999998,{"$f":"1-H20","v":2.5000000000000022E-2}]
[null,"4-5",0.75,0.7]
[null,"6-10",0.75,0.8]
[null,"11-60",0.95,0.8]
[null,"61-100",0.95,0]
[]
[null,"Section 7.1 IPCC First Order Decay Model for Urban Landscaping Waste"]
[null,null,"ANDOC (MT C/dry short ton waste)","Decay Rate (k)","Oxidation Factor","FCH4","Mass CH4:C","M (months)","ANDOCys","ANDOCdly","ANDOCdsy"]
[null,null,{"$f":"SUMPRODUCT('Avoided Emissions'!I10:I12,'Avoided Emissions'!D10:D12)/SUM('Avoided Emissions'!D10:D12)","v":9.9958841819163868E-2},{"$f":"SUMPRODUCT('Avoided Emissions'!G10:G12,'Avoided Emissions'!D10:D12)/SUM('Avoided Emissions'!D10:D12)","v":7.1473014997846501E-2},0.1,0.5,{"$f":"'CA-GREET4.0'!E11/'CA-GREET4.0'!E10","v":1.3333333333333333},6,{"$f":"EXP(-D28)","v":0.93102140087039187},{"$f":"((1/D28)*(EXP(-(D28*(1-H28/12)))-EXP(-D28))-((H28/12)*EXP(-D28)))","v":8.4178387054759662E-3},{"$f":"((1/D28)*(1-EXP(-(D28*(1-H28/12))))+(H28/12))","v":0.99117135389849076}]
[null,"Methane Generation",null,null,null,null,null,"Gas Collection Scenario 1: Typical Phased",null,"Gas Collection Scenario 2: Phased with Shutdown "]
[null,"Year","ANDOC ys","ANDOC dly","ANDOC dsy","ANDOC ye","MT CH4 Gen/dry short ton ","Gas Collection Efficiency (%)","MT CH4 Emitted/dry short ton ","Gas Collection Efficiency (%)","MT CH4 Emitted/dry short ton "]
[null,1,0,0,{"$f":"C28","v":9.9958841819163868E-2},{"$f":"C31*I28+D31*J28+E31*K28","v":9.9076340580025735E-2},{"$f":"((C31*(1-I28))-(D31*J28)+(E31*(1-K28)))*F28*G28","v":5.8833415942542667E-4},0,{"$f":"G31*(1-H31)*(1-E28)","v":5.29500743482884E-4},0,{"$f":"G31*(1-J31)*(1-E28)","v":5.29500743482884E-4}]
[null,2,{"$f":"F31","v":9.9076340580025735E-2},{"$f":"E31","v":9.9958841819163868E-2},{"$f":"0","v":0},{"$f":"C32*I28+D32*J28+E32*K28","v":9.3083630807547529E-2},{"$f":"((C32*(1-I28))-(D32*J28)+(E32*(1-K28)))*F28*G28","v":3.9951398483188093E-3},0,{"$f":"G32*(1-H32)*(1-E28)","v":3.5956258634869285E-3},0,{"$f":"G32*(1-J32)*(1-E28)","v":3.5956258634869285E-3}]
[null,3,9.3083630807547529E-2,0,{"$f":"0","v":0},{"$f":"C33*I28+D33*J28+E33*K28","v":8.6662852352545269E-2},{"$f":"((C33*(1-I28))-(D33*J28)+(E33*(1-K28)))*F28*G28","v":4.2805189700015085E-3},{"$f":"0.5*0.9977","v":0.49885000000000002},{"$f":"G33*(1-H33)*(1-E28)","v":1.9306638736346303E-3},{"$f":"0.5*0.9977","v":0.49885000000000002},{"$f":"G33*(1-J33)*(1-E28)","v":1.9306638736346303E-3}]
[null,4,8.6662852352545269E-2,0,{"$f":"0","v":0},{"$f":"C34*I28+D34*J28+E34*K28","v":8.0684970200690626E-2},{"$f":"((C34*(1-I28))-(D34*J28)+(E34*(1-K28)))*F28*G28","v":3.9852547679030906E-3},{"$f":"0.75*0.9977","v":0.74827500000000002},{"$f":"G34*(1-H34)*(1-E28)","v":9.0286943080536484E-4},{"$f":"0.7*0.9977","v":0.69838999999999996},{"$f":"G34*(1-J34)*(1-E28)","v":1.0817934214925262E-3}]
[null,5,8.0684970200690626E-2,0,{"$f":"0","v":0},{"$f":"C35*I28+D35*J28+E35*K28","v":7.5119433985432804E-2},{"$f":"((C35*(1-I28))-(D35*J28)+(E35*(1-K28)))*F28*G28","v":3.710357476838544E-3},0.74827500000000002,{"$f":"G35*(1-H35)*(1-E28)","v":8.4059076227146416E-4},{"$f":"0.7*0.9977","v":0.69838999999999996},{"$f":"G35*(1-J35)*(1-E28)","v":1.007172826730346E-3}]
[null,6,7.5119433985432804E-2,0,{"$f":"0","v":0},{"$f":"C36*I28+D36*J28+E36*K28","v":6.9937800661708571E-2},{"$f":"((C36*(1-I28))-(D36*J28)+(E36*(1-K28)))*F28*G28","v":3.4544222158161535E-3},0.74827500000000002,{"$f":"G36*(1-H36)*(1-E28)","v":7.8260798904868903E-4},{"$f":"0.8*0.9977","v":0.79816000000000009},{"$f":"G36*(1-J36)*(1-E28)","v":6.275165220362989E-4}]
[null,7,6.9937800661708571E-2,0,{"$f":"0","v":0},{"$f":"C37*I28+D37*J28+E37*K28","v":6.5113589145858131E-2},{"$f":"((C37*(1-I28))-(D37*J28)+(E37*(1-K28)))*F28*G28","v":3.2161410105669584E-3},0.74827500000000002,{"$f":"G37*(1-H37)*(1-E28)","v":7.2862478629647073E-4},0.79816000000000009,{"$f":"G37*(1-J37)*(1-E28)","v":5.8423131141555117E-4}]
[null,8,6.5113589145858131E-2,0,{"$f":"0","v":0},{"$f":"C38*I28+D38*J28+E38*K28","v":6.0622144982275979E-2},{"$f":"((C38*(1-I28))-(D38*J28)+(E38*(1-K28)))*F28*G28","v":2.9942961090547674E-3},0.74827500000000002,{"$f":"G38*(1-H38)*(1-E28)","v":6.7836526924663009E-4},0.79816000000000009,{"$f":"G38*(1-J38)*(1-E28)","v":5.4393185398645262E-4}]
[null,9,6.0622144982275979E-2,0,{"$f":"0","v":0},{"$f":"C39*I28+D39*J28+E39*K28","v":5.644051434516658E-2},{"$f":"((C39*(1-I28))-(D39*J28)+(E39*(1-K28)))*F28*G28","v":2.787753758072933E-3},0.74827500000000002,{"$f":"G39*(1-H39)*(1-E28)","v":6.3157258327581811E-4},0.79816000000000009,{"$f":"G39*(1-J39)*(1-E28)","v":5.0641219667649652E-4}]
[null,10,5.644051434516658E-2,0,{"$f":"0","v":0},{"$f":"C40*I28+D40*J28+E40*K28","v":5.2547326731482435E-2},{"$f":"((C40*(1-I28))-(D40*J28)+(E40*(1-K28)))*F28*G28","v":2.5954584091227619E-3},0.74827500000000002,{"$f":"G40*(1-H40)*(1-E28)","v":5.880075912327845E-4},0.79816000000000009,{"$f":"G40*(1-J40)*(1-E28)","v":4.7148059276760424E-4}]
[null,11,5.2547326731482435E-2,0,{"$f":"0","v":0},{"$f":"C41*I28+D41*J28+E41*K28","v":4.8922685745538964E-2},{"$f":"((C41*(1-I28))-(D41*J28)+(E41*(1-K28)))*F28*G28","v":2.4164273239623123E-3},{"$f":"0.95*0.9977","v":0.94781499999999996},{"$f":"G41*(1-H41)*(1-E28)","v":1.1349113391087601E-4},0.79816000000000009,{"$f":"G41*(1-J41)*(1-E28)","v":4.3895852196169764E-4}]
[null,12,4.8922685745538964E-2,0,{"$f":"0","v":0},{"$f":"C42*I28+D42*J28+E42*K28","v":4.5548067417153636E-2},{"$f":"((C42*(1-I28))-(D42*J28)+(E42*(1-K28)))*F28*G28","v":2.2497455522568839E-3},0.94781499999999996,{"$f":"G42*(1-H42)*(1-E28)","v":1.0566267448007301E-4},0.79816000000000009,{"$f":"G42*(1-J42)*(1-E28)","v":4.0867977804077635E-4}]
[null,13,4.5548067417153636E-2,0,{"$f":"0","v":0},{"$f":"C43*I28+D43*J28+E43*K28","v":4.240622553365743E-2},{"$f":"((C43*(1-I28))-(D43*J28)+(E43*(1-K28)))*F28*G28","v":2.0945612556641374E-3},0.94781499999999996,{"$f":"G43*(1-H43)*(1-E28)","v":9.8374211214149784E-5},0.79816000000000009,{"$f":"G43*(1-J43)*(1-E28)","v":3.8048961945892439E-4}]
[null,14,4.240622553365743E-2,0,{"$f":"0","v":0},{"$f":"C44*I28+D44*J28+E44*K28","v":3.9481103501971523E-2},{"$f":"((C44*(1-I28))-(D44*J28)+(E44*(1-K28)))*F28*G28","v":1.9500813544572721E-3},0.94781499999999996,{"$f":"G44*(1-H44)*(1-E28)","v":9.1588495934117548E-5},0.79816000000000009,{"$f":"G44*(1-J44)*(1-E28)","v":3.5424397852529006E-4}]
[null,15,3.9481103501971523E-2,0,{"$f":"0","v":0},{"$f":"C45*I28+D45*J28+E45*K28","v":3.6757752290314465E-2},{"$f":"((C45*(1-I28))-(D45*J28)+(E45*(1-K28)))*F28*G28","v":1.8155674744380409E-3},0.94781499999999996,{"$f":"G45*(1-H45)*(1-E28)","v":8.5270849788194309E-5},0.79816000000000009,{"$f":"G45*(1-J45)*(1-E28)","v":3.298087251365166E-4}]
[null,16,3.6757752290314465E-2,0,{"$f":"0","v":0},{"$f":"C46*I28+D46*J28+E46*K28","v":3.4222254030175425E-2},{"$f":"((C46*(1-I28))-(D46*J28)+(E46*(1-K28)))*F28*G28","v":1.6903321734260245E-3},0.94781499999999996,{"$f":"G46*(1-H46)*(1-E28)","v":7.9388986023213443E-5},0.79816000000000009,{"$f":"G46*(1-J46)*(1-E28)","v":3.0705898129587781E-4}]
[null,17,3.4222254030175425E-2,0,{"$f":"0","v":0},{"$f":"C47*I28+D47*J28+E47*K28","v":3.1861650888116336E-2},{"$f":"((C47*(1-I28))-(D47*J28)+(E47*(1-K28)))*F28*G28","v":1.5737354280393912E-3},0.94781499999999996,{"$f":"G47*(1-H47)*(1-E28)","v":7.3912844981012128E-5},0.79816000000000009,{"$f":"G47*(1-J47)*(1-E28)","v":2.8587848291592349E-4}]
[null,18,3.1861650888116336E-2,0,{"$f":"0","v":0},{"$f":"C48*I28+D48*J28+E48*K28","v":2.9663878843897436E-2},{"$f":"((C48*(1-I28))-(D48*J28)+(E48*(1-K28)))*F28*G28","v":1.4651813628125997E-3},0.94781499999999996,{"$f":"G48*(1-H48)*(1-E28)","v":6.8814440476538025E-5},0.79816000000000009,{"$f":"G48*(1-J48)*(1-E28)","v":2.661589856430855E-4}]
[null,19,2.9663878843897436E-2,{"$f":"E48","v":0},{"$f":"0","v":0},{"$f":"C49*I28+D49*J28+E49*K28","v":2.7617706036494973E-2},{"$f":"((C49*(1-I28))-(D49*J28)+(E49*(1-K28)))*F28*G28","v":1.3641152049349763E-3},0.94781499999999996,{"$f":"G49*(1-H49)*(1-E28)","v":6.4067716772578609E-5},0.79816000000000009,{"$f":"G49*(1-J49)*(1-E28)","v":2.4779971166766798E-4}]
[null,20,2.7617706036494973E-2,0,{"$f":"0","v":0},{"$f":"C50*I28+D50*J28+E50*K28","v":2.5712675362924226E-2},{"$f":"((C50*(1-I28))-(D50*J28)+(E50*(1-K28)))*F28*G28","v":1.2700204490471636E-3},0.94781499999999996,{"$f":"G50*(1-H50)*(1-E28)","v":5.9648415420173645E-5},0.79816000000000009,{"$f":"G50*(1-J50)*(1-E28)","v":2.3070683469211145E-4}]
[null,21,2.5712675362924226E-2,0,{"$f":"0","v":0},{"$f":"C51*I28+D51*J28+E51*K28","v":2.3939051036515325E-2},{"$f":"((C51*(1-I28))-(D51*J28)+(E51*(1-K28)))*F28*G28","v":1.1824162176059343E-3},0.94781499999999996,{"$f":"G51*(1-H51)*(1-E28)","v":5.5533951284189156E-5},0.79816000000000009,{"$f":"G51*(1-J51)*(1-E28)","v":2.1479300042542349E-4}]
[null,22,2.3939051036515325E-2,0,{"$f":"0","v":0},{"$f":"C52*I28+D52*J28+E52*K28","v":2.2287768831524304E-2},{"$f":"((C52*(1-I28))-(D52*J28)+(E52*(1-K28)))*F28*G28","v":1.100854803327347E-3},0.94781499999999996,{"$f":"G52*(1-H52)*(1-E28)","v":5.1703297120473878E-5},0.79816000000000009,{"$f":"G52*(1-J52)*(1-E28)","v":1.9997688015323245E-4}]
[null,23,2.2287768831524304E-2,0,{"$f":"0","v":0},{"$f":"C53*I28+D53*J28+E53*K28","v":2.0750389759801213E-2},{"$f":"((C53*(1-I28))-(D53*J28)+(E53*(1-K28)))*F28*G28","v":1.0249193811487263E-3},0.94781499999999996,{"$f":"G53*(1-H53)*(1-E28)","v":4.8136876114721686E-5},0.79816000000000009,{"$f":"G53*(1-J53)*(1-E28)","v":1.8618275510195296E-4}]
[null,24,2.0750389759801213E-2,0,{"$f":"0","v":0},{"$f":"C54*I28+D54*J28+E54*K28","v":1.9319056942776761E-2},{"$f":"((C54*(1-I28))-(D54*J28)+(E54*(1-K28)))*F28*G28","v":9.5422187801630213E-4},0.94781499999999996,{"$f":"G54*(1-H54)*(1-E28)","v":4.4816461833852688E-5},0.79816000000000009,{"$f":"G54*(1-J54)*(1-E28)","v":1.733401294729293E-4}]
[null,25,1.9319056942776761E-2,0,{"$f":"0","v":0},{"$f":"C55*I28+D55*J28+E55*K28","v":1.7986455458358891E-2},{"$f":"((C55*(1-I28))-(D55*J28)+(E55*(1-K28)))*F28*G28","v":8.8840098961191392E-4},0.94781499999999996,{"$f":"G55*(1-H55)*(1-E28)","v":4.1725085078607988E-5},0.79816000000000009,{"$f":"G55*(1-J55)*(1-E28)","v":1.6138337016894175E-4}]
[null,26,1.7986455458358891E-2,0,{"$f":"0","v":0},{"$f":"C56*I28+D56*J28+E56*K28","v":1.6745774957534199E-2},{"$f":"((C56*(1-I28))-(D56*J28)+(E56*(1-K28)))*F28*G28","v":8.2712033388312664E-4},0.94781499999999996,{"$f":"G56*(1-H56)*(1-E28)","v":3.8846947161321895E-5},0.79816000000000009,{"$f":"G56*(1-J56)*(1-E28)","v":1.502513713718732E-4}]
[null,27,1.6745774957534199E-2,0,{"$f":"0","v":0},{"$f":"C57*I28+D57*J28+E57*K28","v":1.5590674859623817E-2},{"$f":"((C57*(1-I28))-(D57*J28)+(E57*(1-K28)))*F28*G28","v":7.7006673194025474E-4},0.94781499999999996,{"$f":"G57*(1-H57)*(1-E28)","v":3.6167339165672003E-5},0.79816000000000009,{"$f":"G57*(1-J57)*(1-E28)","v":1.3988724225733883E-4}]
[null,28,1.5590674859623817E-2,0,{"$f":"0","v":0},{"$f":"C58*I28+D58*J28+E58*K28","v":1.4515251948321766E-2},{"$f":"((C58*(1-I28))-(D58*J28)+(E58*(1-K28)))*F28*G28","v":7.1694860753470052E-4},0.94781499999999996,{"$f":"G58*(1-H58)*(1-E28)","v":3.3672566775778537E-5},0.79816000000000009,{"$f":"G58*(1-J58)*(1-E28)","v":1.3023801625032351E-4}]
[null,29,1.4515251948321766E-2,0,{"$f":"0","v":0},{"$f":"C59*I28+D59*J28+E59*K28","v":1.3514010202913216E-2},{"$f":"((C59*(1-I28))-(D59*J28)+(E59*(1-K28)))*F28*G28","v":6.6749449693903368E-4},0.94781499999999996,{"$f":"G59*(1-H59)*(1-E28)","v":3.1349880290487145E-5},0.79816000000000009,{"$f":"G59*(1-J59)*(1-E28)","v":1.2125438033595704E-4}]
[null,30,1.3514010202913216E-2,0,{"$f":"0","v":0},{"$f":"C60*I28+D60*J28+E60*K28","v":1.258183271049303E-2},{"$f":"((C60*(1-I28))-(D60*J28)+(E60*(1-K28)))*F28*G28","v":6.2145166161345659E-4},0.94781499999999996,{"$f":"G60*(1-H60)*(1-E28)","v":2.918740946516843E-5},0.79816000000000009,{"$f":"G60*(1-J60)*(1-E28)","v":1.1289042304205404E-4}]
[null,31,1.258183271049303E-2,0,{"$f":"0","v":0},{"$f":"C61*I28+D61*J28+E61*K28","v":1.171395551564014E-2},{"$f":"((C61*(1-I28))-(D61*J28)+(E61*(1-K28)))*F28*G28","v":5.7858479656859303E-4},0.94781499999999996,{"$f":"G61*(1-H61)*(1-E28)","v":2.7174102848038846E-5},0.79816000000000009,{"$f":"G61*(1-J61)*(1-E28)","v":1.051033998054643E-4}]
[null,32,1.171395551564014E-2,0,{"$f":"0","v":0},{"$f":"C62*I28+D62*J28+E62*K28","v":1.0905943273904737E-2},{"$f":"((C62*(1-I28))-(D62*J28)+(E62*(1-K28)))*F28*G28","v":5.3867482782360215E-4},0.94781499999999996,{"$f":"G62*(1-H62)*(1-E28)","v":2.5299671300977229E-5},0.79816000000000009,{"$f":"G62*(1-J62)*(1-E28)","v":9.7853514523124234E-5}]
[null,33,1.0905943273904737E-2,0,{"$f":"0","v":0},{"$f":"C63*I28+D63*J28+E63*K28","v":1.0153666584683816E-2},{"$f":"((C63*(1-I28))-(D63*J28)+(E63*(1-K28)))*F28*G28","v":5.0151779281394724E-4},0.94781499999999996,{"$f":"G63*(1-H63)*(1-E28)","v":2.3554535416196268E-5},0.79816000000000009,{"$f":"G63*(1-J63)*(1-E28)","v":9.1103716171410368E-5}]
[null,34,{"$f":"F63","v":1.0153666584683816E-2},{"$f":"E63","v":0},{"$f":"0","v":0},{"$f":"C64*I28+D64*J28+E64*K28","v":9.4532808876432138E-3},{"$f":"((C64*(1-I28))-(D64*J28)+(E64*(1-K28)))*F28*G28","v":4.6692379802706809E-4},0.94781499999999996,{"$f":"G64*(1-H64)*(1-E28)","v":2.1929776560038309E-5},0.79816000000000009,{"$f":"G64*(1-J64)*(1-E28)","v":8.4819509454405042E-5}]
[null,35,9.4532808876432138E-3,0,{"$f":"0","v":0},{"$f":"C65*I28+D65*J28+E65*K28","v":8.801206814834886E-3},{"$f":"((C65*(1-I28))-(D65*J28)+(E65*(1-K28)))*F28*G28","v":4.3471604853888491E-4},0.94781499999999996,{"$f":"G65*(1-H65)*(1-E28)","v":2.0417091293701556E-5},0.79816000000000009,{"$f":"G65*(1-J65)*(1-E28)","v":7.8968778513379637E-5}]
[null,36,8.801206814834886E-3,0,{"$f":"0","v":0},{"$f":"C66*I28+D66*J28+E66*K28","v":8.1941118980976158E-3},{"$f":"((C66*(1-I28))-(D66*J28)+(E66*(1-K28)))*F28*G28","v":4.0472994449151386E-4},0.94781499999999996,{"$f":"G66*(1-H66)*(1-E28)","v":1.9008748937960702E-5},0.79816000000000009,{"$f":"G66*(1-J66)*(1-E28)","v":7.3521622796550405E-5}]
[null,37,8.1941118980976158E-3,0,{"$f":"0","v":0},{"$f":"C67*I28+D67*J28+E67*K28","v":7.628893538255588E-3},{"$f":"((C67*(1-I28))-(D67*J28)+(E67*(1-K28)))*F28*G28","v":3.768122398946852E-4},0.94781499999999996,{"$f":"G67*(1-H67)*(1-E28)","v":1.7697552065013743E-5},0.79816000000000009,{"$f":"G67*(1-J67)*(1-E28)","v":6.845020425030891E-5}]
[null,38,7.628893538255588E-3,0,{"$f":"0","v":0},{"$f":"C68*I28+D68*J28+E68*K28","v":7.1026631490777982E-3},{"$f":"((C68*(1-I28))-(D68*J28)+(E68*(1-K28)))*F28*G28","v":3.5082025945185996E-4},0.94781499999999996,{"$f":"G68*(1-H68)*(1-E28)","v":1.6476799715545792E-5},{"$f":"0.8*0.9977","v":0.79816000000000009},{"$f":"G68*(1-J68)*(1-E28)","v":6.3728605050987052E-5}]
[null,39,7.1026631490777982E-3,0,{"$f":"0","v":0},{"$f":"C69*I28+D69*J28+E69*K28","v":6.6127313949649203E-3},{"$f":"((C69*(1-I28))-(D69*J28)+(E69*(1-K28)))*F28*G28","v":3.2662116940858506E-4},0.94781499999999996,{"$f":"G69*(1-H69)*(1-E28)","v":1.5340253153028324E-5},0.79816000000000009,{"$f":"G69*(1-J69)*(1-E28)","v":5.9332695150085905E-5}]
[null,40,6.6127313949649203E-3,0,{"$f":"0","v":0},{"$f":"C70*I28+D70*J28+E70*K28","v":6.156594446919861E-3},{"$f":"((C70*(1-I28))-(D70*J28)+(E70*(1-K28)))*F28*G28","v":3.0409129869670641E-4},0.94781499999999996,{"$f":"G70*(1-H70)*(1-E28)","v":1.4282103980238871E-5},0.79816000000000009,{"$f":"G70*(1-J70)*(1-E28)","v":5.5240008956048881E-5}]
[null,41,6.156594446919861E-3,0,{"$f":"0","v":0},{"$f":"C71*I28+D71*J28+E71*K28","v":5.7319211865622041E-3},{"$f":"((C71*(1-I28))-(D71*J28)+(E71*(1-K28)))*F28*G28","v":2.8311550690510439E-4},0.94781499999999996,{"$f":"G71*(1-H71)*(1-E28)","v":1.3296944455058595E-5},0.79816000000000009,{"$f":"G71*(1-J71)*(1-E28)","v":5.1429630522353619E-5}]
[null,42,5.7319211865622041E-3,0,{"$f":"0","v":0},{"$f":"C72*I28+D72*J28+E72*K28","v":5.3365412927918222E-3},{"$f":"((C72*(1-I28))-(D72*J28)+(E72*(1-K28)))*F28*G28","v":2.6358659584692134E-4},0.94781499999999996,{"$f":"G72*(1-H72)*(1-E28)","v":1.237973985384444E-5},0.79816000000000009,{"$f":"G72*(1-J72)*(1-E28)","v":4.7882086655168325E-5}]
[null,43,5.3365412927918222E-3,0,{"$f":"0","v":0},{"$f":"C73*I28+D73*J28+E73*K28","v":4.9684341502177348E-3},{"$f":"((C73*(1-I28))-(D73*J28)+(E73*(1-K28)))*F28*G28","v":2.4540476171605857E-4},{"$f":"0.95*0.9977","v":0.94781499999999996},{"$f":"G73*(1-H73)*(1-E28)","v":1.1525802741137272E-5},0.79816000000000009,{"$f":"G73*(1-J73)*(1-E28)","v":4.4579247394292316E-5}]
[null,44,4.9684341502177348E-3,0,{"$f":"0","v":0},{"$f":"C74*I28+D74*J28+E74*K28","v":4.6257185226680105E-3},{"$f":"((C74*(1-I28))-(D74*J28)+(E74*(1-K28)))*F28*G28","v":2.2847708503314956E-4},0.94781499999999996,{"$f":"G74*(1-H74)*(1-E28)","v":1.0730769014209427E-5},0.79816000000000009,{"$f":"G74*(1-J74)*(1-E28)","v":4.1504233358781796E-5}]
[null,45,4.6257185226680105E-3,0,{"$f":"0","v":0},{"$f":"C75*I28+D75*J28+E75*K28","v":4.3066429390064909E-3},{"$f":"((C75*(1-I28))-(D75*J28)+(E75*(1-K28)))*F28*G28","v":2.1271705577434653E-4},0.94781499999999996,{"$f":"G75*(1-H75)*(1-E28)","v":9.9905756000258549E-6},0.79816000000000009,{"$f":"G75*(1-J75)*(1-E28)","v":3.8641329483744675E-5}]
[null,46,4.3066429390064909E-3,0,{"$f":"0","v":0},{"$f":"C76*I28+D76*J28+E76*K28","v":4.0095767421224051E-3},{"$f":"((C76*(1-I28))-(D76*J28)+(E76*(1-K28)))*F28*G28","v":1.9804413125605743E-4},0.94781499999999996,{"$f":"G76*(1-H76)*(1-E28)","v":9.301439690637628E-6},0.79816000000000009,{"$f":"G76*(1-J76)*(1-E28)","v":3.5975904707450354E-5}]
[null,47,4.0095767421224051E-3,0,{"$f":"0","v":0},{"$f":"C77*I28+D77*J28+E77*K28","v":3.7330017553481435E-3},{"$f":"((C77*(1-I28))-(D77*J28)+(E77*(1-K28)))*F28*G28","v":1.8438332451617436E-4},0.94781499999999996,{"$f":"G77*(1-H77)*(1-E28)","v":8.6598394108889095E-6},0.79816000000000009,{"$f":"G77*(1-J77)*(1-E28)","v":3.3494337198310156E-5}]
[null,48,3.7330017553481435E-3,0,{"$f":"0","v":0},{"$f":"C78*I28+D78*J28+E78*K28","v":3.4755045237158605E-3},{"$f":"((C78*(1-I28))-(D78*J28)+(E78*(1-K28)))*F28*G28","v":1.7166482108818873E-4},0.94781499999999996,{"$f":"G78*(1-H78)*(1-E28)","v":8.0624958196384219E-6},0.79816000000000009,{"$f":"G78*(1-J78)*(1-E28)","v":3.1183944739595998E-5}]
[null,49,3.4755045237158605E-3,0,{"$f":"0","v":0},{"$f":"C79*I28+D79*J28+E79*K28","v":3.2357690904013248E-3},{"$f":"((C79*(1-I28))-(D79*J28)+(E79*(1-K28)))*F28*G28","v":1.5982362220969064E-4},0.94781499999999996,{"$f":"G79*(1-H79)*(1-E28)","v":7.506356152511441E-6},0.79816000000000009,{"$f":"G79*(1-J79)*(1-E28)","v":2.9032919916123551E-5}]
[null,50,3.2357690904013248E-3,0,{"$f":"0","v":0},{"$f":"C80*I28+D80*J28+E80*K28","v":3.0125702714385552E-3},{"$f":"((C80*(1-I28))-(D80*J28)+(E80*(1-K28)))*F28*G28","v":1.4879921264184648E-4},0.94781499999999996,{"$f":"G80*(1-H80)*(1-E28)","v":6.9885782205432883E-6},0.79816000000000009,{"$f":"G80*(1-J80)*(1-E28)","v":2.7030269771667252E-5}]
[null,51,3.0125702714385552E-3,0,{"$f":"0","v":0},{"$f":"C81*I28+D81*J28+E81*K28","v":2.8047673943352204E-3},{"$f":"((C81*(1-I28))-(D81*J28)+(E81*(1-K28)))*F28*G28","v":1.3853525140222322E-4},0.94781499999999996,{"$f":"G81*(1-H81)*(1-E28)","v":6.5065158849825217E-6},0.79816000000000009,{"$f":"G81*(1-J81)*(1-E28)","v":2.516575962872225E-5}]
[null,52,2.8047673943352204E-3,0,{"$f":"0","v":0},{"$f":"C82*I28+D82*J28+E82*K28","v":2.6112984685895757E-3},{"$f":"((C82*(1-I28))-(D82*J28)+(E82*(1-K28)))*F28*G28","v":1.2897928383042979E-4},0.94781499999999996,{"$f":"G82*(1-H82)*(1-E28)","v":6.0577055340218852E-6},0.79816000000000009,{"$f":"G82*(1-J82)*(1-E28)","v":2.3429860783500544E-5}]
[null,53,2.6112984685895757E-3,0,{"$f":"0","v":0},{"$f":"C83*I28+D83*J28+E83*K28","v":2.431174758316976E-3},{"$f":"((C83*(1-I28))-(D83*J28)+(E83*(1-K28)))*F28*G28","v":1.2008247351506663E-4},0.94781499999999996,{"$f":"G83*(1-H83)*(1-E28)","v":5.6398534923453813E-6},0.79816000000000009,{"$f":"G83*(1-J83)*(1-E28)","v":2.1813701808852934E-5}]
[null,54,2.431174758316976E-3,0,{"$f":"0","v":0},{"$f":"C84*I28+D84*J28+E84*K28","v":2.2634757292490076E-3},{"$f":"((C84*(1-I28))-(D84*J28)+(E84*(1-K28)))*F28*G28","v":1.1179935271197908E-4},0.94781499999999996,{"$f":"G84*(1-H84)*(1-E28)","v":5.2508242991471694E-6},0.79816000000000009,{"$f":"G84*(1-J84)*(1-E28)","v":2.0309023216247265E-5}]
[null,55,2.2634757292490076E-3,0,{"$f":"0","v":0},{"$f":"C85*I28+D85*J28+E85*K28","v":2.1073443442815427E-3},{"$f":"((C85*(1-I28))-(D85*J28)+(E85*(1-K28)))*F28*G28","v":1.0408758997830981E-4},0.94781499999999996,{"$f":"G85*(1-H85)*(1-E28)","v":4.8886297947162912E-6},0.79816000000000009,{"$f":"G85*(1-J85)*(1-E28)","v":1.8908135245099841E-5}]
[null,56,2.1073443442815427E-3,0,{"$f":"0","v":0},{"$f":"C86*I28+D86*J28+E86*K28","v":1.9619826835292993E-3},{"$f":"((C86*(1-I28))-(D86*J28)+(E86*(1-K28)))*F28*G28","v":9.6907773834828951E-5},0.94781499999999996,{"$f":"G86*(1-H86)*(1-E28)","v":4.5514189598134972E-6},0.79816000000000009,{"$f":"G86*(1-J86)*(1-E28)","v":1.760387856373968E-5}]
[null,57,1.9619826835292993E-3,0,{"$f":"0","v":0},{"$f":"C87*I28+D87*J28+E87*K28","v":1.826647866502899E-3},{"$f":"((C87*(1-I28))-(D87*J28)+(E87*(1-K28)))*F28*G28","v":9.022321135093356E-5},0.94781499999999996,{"$f":"G87*(1-H87)*(1-E28)","v":4.2374684559136242E-6},0.79816000000000009,{"$f":"G87*(1-J87)*(1-E28)","v":1.6389587681165181E-5}]
[null,58,1.826647866502899E-3,0,{"$f":"0","v":0},{"$f":"C88*I28+D88*J28+E88*K28","v":1.7006482555684415E-3},{"$f":"((C88*(1-I28))-(D88*J28)+(E88*(1-K28)))*F28*G28","v":8.3999740622971609E-5},0.94781499999999996,{"$f":"G88*(1-H88)*(1-E28)","v":3.9451738179687992E-6},0.79816000000000009,{"$f":"G88*(1-J88)*(1-E28)","v":1.5259056882606522E-5}]
[null,59,1.7006482555684415E-3,0,{"$f":"0","v":0},{"$f":"C89*I28+D89*J28+E89*K28","v":1.5833399212871187E-3},{"$f":"((C89*(1-I28))-(D89*J28)+(E89*(1-K28)))*F28*G28","v":7.8205556187548587E-5},0.94781499999999996,{"$f":"G89*(1-H89)*(1-E28)","v":3.6730412546825033E-6},0.79816000000000009,{"$f":"G89*(1-J89)*(1-E28)","v":1.4206508514805321E-5}]
[null,60,1.5833399212871187E-3,0,{"$f":"0","v":0},{"$f":"C90*I28+D90*J28+E90*K28","v":1.4741233515707492E-3},{"$f":"((C90*(1-I28))-(D90*J28)+(E90*(1-K28)))*F28*G28","v":7.2811046477579629E-5},0.94781499999999996,{"$f":"G90*(1-H90)*(1-E28)","v":3.4196800143892461E-6},0.79816000000000009,{"$f":"G90*(1-J90)*(1-E28)","v":1.3226563458931199E-5}]
[null,61,1.4741233515707492E-3,0,{"$f":"0","v":0},{"$f":"C91*I28+D91*J28+E91*K28","v":1.3724403878351561E-3},{"$f":"((C91*(1-I28))-(D91*J28)+(E91*(1-K28)))*F28*G28","v":6.7788642490395395E-5},0.94781499999999996,{"$f":"G91*(1-H91)*(1-E28)","v":3.1837952775251575E-6},0,{"$f":"G91*(1-J91)*(1-E28)","v":6.1009778241355858E-5}]
[null,62,1.3724403878351561E-3,0,{"$f":"0","v":0},{"$f":"C92*I28+D92*J28+E92*K28","v":1.277771372493391E-3},{"$f":"((C92*(1-I28))-(D92*J28)+(E92*(1-K28)))*F28*G28","v":6.311267689451009E-5},0.94781499999999996,{"$f":"G92*(1-H92)*(1-E28)","v":2.9641815393660101E-6},0,{"$f":"G92*(1-J92)*(1-E28)","v":5.680140920505908E-5}]
[null,63,1.277771372493391E-3,0,{"$f":"0","v":0},{"$f":"C93*I28+D93*J28+E93*K28","v":1.1896324932108803E-3},{"$f":"((C93*(1-I28))-(D93*J28)+(E93*(1-K28)))*F28*G28","v":5.87592528550072E-5},0.94781499999999996,{"$f":"G93*(1-H93)*(1-E28)","v":2.7597164492146977E-6},0,{"$f":"G93*(1-J93)*(1-E28)","v":5.2883327569506481E-5}]
[null,64,1.1896324932108803E-3,0,{"$f":"0","v":0},{"$f":"C94*I28+D94*J28+E94*K28","v":1.1075733103501307E-3},{"$f":"((C94*(1-I28))-(D94*J28)+(E94*(1-K28)))*F28*G28","v":5.4706121907166383E-5},0.94781499999999996,{"$f":"G94*(1-H94)*(1-E28)","v":2.5693550745529319E-6},0,{"$f":"G94*(1-J94)*(1-E28)","v":4.9235509716449745E-5}]
[null,65,1.1075733103501307E-3,0,{"$f":"0","v":0},{"$f":"C95*I28+D95*J28+E95*K28","v":1.031174454968836E-3},{"$f":"((C95*(1-I28))-(D95*J28)+(E95*(1-K28)))*F28*G28","v":5.0932570254196477E-5},0.94781499999999996,{"$f":"G95*(1-H95)*(1-E28)","v":2.3921245608437207E-6},0,{"$f":"G95*(1-J95)*(1-E28)","v":4.5839313228776832E-5}]
[null,66,{"$f":"F95","v":1.031174454968836E-3},{"$f":"E95","v":0},{"$f":"0","v":0},{"$f":"C96*I28+D96*J28+E96*K28","v":9.6004548560684854E-4},{"$f":"((C96*(1-I28))-(D96*J28)+(E96*(1-K28)))*F28*G28","v":4.741931290799166E-5},0.94781499999999996,{"$f":"G96*(1-H96)*(1-E28)","v":2.2271191596931922E-6},0,{"$f":"G96*(1-J96)*(1-E28)","v":4.2677381617192495E-5}]
[null,67,9.6004548560684854E-4,0,{"$f":"0","v":0},{"$f":"C97*I28+D97*J28+E97*K28","v":8.9382289290898379E-4},{"$f":"((C97*(1-I28))-(D97*J28)+(E97*(1-K28)))*F28*G28","v":4.4148395131909849E-5},0.94781499999999996,{"$f":"G97*(1-H97)*(1-E28)","v":2.0734955999628452E-6},0,{"$f":"G97*(1-J97)*(1-E28)","v":3.9733555618718867E-5}]
[null,68,8.9382289290898379E-4,0,{"$f":"0","v":0},{"$f":"C98*I28+D98*J28+E98*K28","v":8.3216824188614836E-4},{"$f":"((C98*(1-I28))-(D98*J28)+(E98*(1-K28)))*F28*G28","v":4.1103100681890304E-5},0.94781499999999996,{"$f":"G98*(1-H98)*(1-E28)","v":1.9304687781760025E-6},0,{"$f":"G98*(1-J98)*(1-E28)","v":3.6992790613701278E-5}]
[null,69,8.3216824188614836E-4,0,{"$f":"0","v":0},{"$f":"C99*I28+D99*J28+E99*K28","v":7.7476644232069296E-4},{"$f":"((C99*(1-I28))-(D99*J28)+(E99*(1-K28)))*F28*G28","v":3.8267866376970265E-5},0.94781499999999996,{"$f":"G99*(1-H99)*(1-E28)","v":1.7973077461939753E-6},0,{"$f":"G99*(1-J99)*(1-E28)","v":3.444107973927324E-5}]
[null,70,7.7476644232069296E-4,0,{"$f":"0","v":0},{"$f":"C100*I28+D100*J28+E100*K28","v":7.2132413847678122E-4},{"$f":"((C100*(1-I28))-(D100*J28)+(E100*(1-K28)))*F28*G28","v":3.5628202562607826E-5},0.94781499999999996,{"$f":"G100*(1-H100)*(1-E28)","v":1.6733319756567216E-6},0,{"$f":"G100*(1-J100)*(1-E28)","v":3.2065382306347047E-5}]
[null,71,7.2132413847678122E-4,0,{"$f":"0","v":0},{"$f":"C101*I28+D101*J28+E101*K28","v":6.7156820988628141E-4},{"$f":"((C101*(1-I28))-(D101*J28)+(E101*(1-K28)))*F28*G28","v":3.3170619060333224E-5},0.94781499999999996,{"$f":"G101*(1-H101)*(1-E28)","v":1.5579078800971415E-6},0,{"$f":"G101*(1-J101)*(1-E28)","v":2.9853557154299903E-5}]
[null,72,6.7156820988628141E-4,0,{"$f":"0","v":0},{"$f":"C102*I28+D102*J28+E102*K28","v":6.2524437554834704E-4},{"$f":"((C102*(1-I28))-(D102*J28)+(E102*(1-K28)))*F28*G28","v":3.0882556225289562E-5},0.94781499999999996,{"$f":"G102*(1-H102)*(1-E28)","v":1.4504455769550634E-6},0,{"$f":"G102*(1-J102)*(1-E28)","v":2.7794300602760608E-5}]
[null,73,6.2524437554834704E-4,0,{"$f":"0","v":0},{"$f":"C103*I28+D103*J28+E103*K28","v":5.8211589440935541E-4},{"$f":"((C103*(1-I28))-(D103*J28)+(E103*(1-K28)))*F28*G28","v":2.8752320759327724E-5},0.94781499999999996,{"$f":"G103*(1-H103)*(1-E28)","v":1.3503958729429665E-6},0,{"$f":"G103*(1-J103)*(1-E28)","v":2.5877088683394951E-5}]
[null,74,5.8211589440935541E-4,0,{"$f":"0","v":0},{"$f":"C104*I28+D104*J28+E104*K28","v":5.4196235548191918E-4},{"$f":"((C104*(1-I28))-(D104*J28)+(E104*(1-K28)))*F28*G28","v":2.6769025951624144E-5},0.94781499999999996,{"$f":"G104*(1-H104)*(1-E28)","v":1.2572474573569563E-6},0,{"$f":"G104*(1-J104)*(1-E28)","v":2.4092123356461729E-5}]
[null,75,5.4196235548191918E-4,0,{"$f":"0","v":0},{"$f":"C105*I28+D105*J28+E105*K28","v":5.0457855141979372E-4},{"$f":"((C105*(1-I28))-(D105*J28)+(E105*(1-K28)))*F28*G28","v":2.492253604141699E-5},{"$f":"0.95*0.9977","v":0.94781499999999996},{"$f":"G105*(1-H105)*(1-E28)","v":1.1705242889892119E-6},0,{"$f":"G105*(1-J105)*(1-E28)","v":2.2430282437275292E-5}]
[null,76,5.0457855141979372E-4,0,{"$f":"0","v":0},{"$f":"C106*I28+D106*J28+E106*K28","v":4.6977342979200943E-4},{"$f":"((C106*(1-I28))-(D106*J28)+(E106*(1-K28)))*F28*G28","v":2.3203414418522876E-5},0.94781499999999996,{"$f":"G106*(1-H106)*(1-E28)","v":1.0897831632875556E-6},0,{"$f":"G106*(1-J106)*(1-E28)","v":2.0883072976670588E-5}]
[null,77,4.6977342979200943E-4,0,{"$f":"0","v":0},{"$f":"C107*I28+D107*J28+E107*K28","v":4.373691166966453E-4},{"$f":"((C107*(1-I28))-(D107*J28)+(E107*(1-K28)))*F28*G28","v":2.1602875396909415E-5},0.94781499999999996,{"$f":"G107*(1-H107)*(1-E28)","v":1.0146114473289468E-6},0,{"$f":"G107*(1-J107)*(1-E28)","v":1.9442587857218475E-5}]
[null,78,4.373691166966453E-4,0,{"$f":"0","v":0},{"$f":"C108*I28+D108*J28+E108*K28","v":4.0720000772435661E-4},{"$f":"((C108*(1-I28))-(D108*J28)+(E108*(1-K28)))*F28*G28","v":2.0112739314859129E-5},0.94781499999999996,{"$f":"G108*(1-H108)*(1-E28)","v":9.4462497103133204E-7},0,{"$f":"G108*(1-J108)*(1-E28)","v":1.8101465383373218E-5}]
[null,79,4.0720000772435661E-4,0,{"$f":"0","v":0},{"$f":"C109*I28+D109*J28+E109*K28","v":3.791119216259649E-4},{"$f":"((C109*(1-I28))-(D109*J28)+(E109*(1-K28)))*F28*G28","v":1.872539073226115E-5},0.94781499999999996,{"$f":"G109*(1-H109)*(1-E28)","v":8.7946606382674401E-7},0,{"$f":"G109*(1-J109)*(1-E28)","v":1.6852851659035037E-5}]
[null,80,3.791119216259649E-4,0,{"$f":"0","v":0},{"$f":"C110*I28+D110*J28+E110*K28","v":3.5296131235887206E-4},{"$f":"((C110*(1-I28))-(D110*J28)+(E110*(1-K28)))*F28*G28","v":1.7433739511395229E-5},0.94781499999999996,{"$f":"G110*(1-H110)*(1-E28)","v":8.1880172676194458E-7},0,{"$f":"G110*(1-J110)*(1-E28)","v":1.5690365560255708E-5}]
[null,81,3.5296131235887206E-4,0,{"$f":"0","v":0},{"$f":"C111*I28+D111*J28+E111*K28","v":3.2861453548540902E-4},{"$f":"((C111*(1-I28))-(D111*J28)+(E111*(1-K28)))*F28*G28","v":1.6231184582308687E-5},0.94781499999999996,{"$f":"G111*(1-H111)*(1-E28)","v":7.623219306850015E-7},0,{"$f":"G111*(1-J111)*(1-E28)","v":1.460806612407782E-5}]
[null,82,3.2861453548540902E-4,0,{"$f":"0","v":0},{"$f":"C112*I28+D112*J28+E112*K28","v":3.059471651739986E-4},{"$f":"((C112*(1-I28))-(D112*J28)+(E112*(1-K28)))*F28*G28","v":1.5111580207606943E-5},0.94781499999999996,{"$f":"G112*(1-H112)*(1-E28)","v":7.0973803182057201E-7},0,{"$f":"G112*(1-J112)*(1-E28)","v":1.3600422186846249E-5}]
[null,83,3.059471651739986E-4,0,{"$f":"0","v":0},{"$f":"C113*I28+D113*J28+E113*K28","v":2.8484335831262134E-4},{"$f":"((C113*(1-I28))-(D113*J28)+(E113*(1-K28)))*F28*G28","v":1.4069204574251504E-5},0.94781499999999996,{"$f":"G113*(1-H113)*(1-E28)","v":6.607812966365837E-7},0,{"$f":"G113*(1-J113)*(1-E28)","v":1.2662284116826354E-5}]
[null,84,2.8484335831262134E-4,0,{"$f":"0","v":0},{"$f":"C114*I28+D114*J28+E114*K28","v":2.6519526248484367E-4},{"$f":"((C114*(1-I28))-(D114*J28)+(E114*(1-K28)))*F28*G28","v":1.3098730551851759E-5},0.94781499999999996,{"$f":"G114*(1-H114)*(1-E28)","v":6.1520152846354607E-7},0,{"$f":"G114*(1-J114)*(1-E28)","v":1.1788857496666583E-5}]
[null,85,2.6519526248484367E-4,0,{"$f":"0","v":0},{"$f":"C115*I28+D115*J28+E115*K28","v":2.4690246478283046E-4},{"$f":"((C115*(1-I28))-(D115*J28)+(E115*(1-K28)))*F28*G28","v":1.2195198468008823E-5},0.94781499999999996,{"$f":"G115*(1-H115)*(1-E28)","v":5.7276578884773676E-7},0,{"$f":"G115*(1-J115)*(1-E28)","v":1.0975678621207942E-5}]
[null,86,2.4690246478283046E-4,0,{"$f":"0","v":0},{"$f":"C116*I28+D116*J28+E116*K28","v":2.298714786404634E-4},{"$f":"((C116*(1-I28))-(D116*J28)+(E116*(1-K28)))*F28*G28","v":1.1353990761578032E-5},0.94781499999999996,{"$f":"G116*(1-H116)*(1-E28)","v":5.3325720710365505E-7},0,{"$f":"G116*(1-J116)*(1-E28)","v":1.0218591685420229E-5}]
[null,87,2.298714786404634E-4,0,{"$f":"0","v":0},{"$f":"C117*I28+D117*J28+E117*K28","v":2.140152660639926E-4},{"$f":"((C117*(1-I28))-(D117*J28)+(E117*(1-K28)))*F28*G28","v":1.0570808384313867E-5},0.94781499999999996,{"$f":"G117*(1-H117)*(1-E28)","v":4.9647387198187764E-7},0,{"$f":"G117*(1-J117)*(1-E28)","v":9.5137275458824808E-6}]
[null,88,2.140152660639926E-4,0,{"$f":"0","v":0},{"$f":"C118*I28+D118*J28+E118*K28","v":1.9925279281854803E-4},{"$f":"((C118*(1-I28))-(D118*J28)+(E118*(1-K28)))*F28*G28","v":9.8416488302963813E-6},0.94781499999999996,{"$f":"G118*(1-H118)*(1-E28)","v":4.6222779978811533E-7},0,{"$f":"G118*(1-J118)*(1-E28)","v":8.8574839472667432E-6}]
[null,89,1.9925279281854803E-4,0,{"$f":"0","v":0},{"$f":"C119*I28+D119*J28+E119*K28","v":1.8550861429726255E-4},{"$f":"((C119*(1-I28))-(D119*J28)+(E119*(1-K28)))*F28*G28","v":9.162785680856991E-6},0.94781499999999996,{"$f":"G119*(1-H119)*(1-E28)","v":4.3034397367997024E-7},0,{"$f":"G119*(1-J119)*(1-E28)","v":8.2465071127712922E-6}]
[null,90,1.8550861429726255E-4,0,{"$f":"0","v":0},{"$f":"C120*I28+D120*J28+E120*K28","v":1.7271248995656259E-4},{"$f":"((C120*(1-I28))-(D120*J28)+(E120*(1-K28)))*F28*G28","v":8.5307495604666429E-6},0.94781499999999996,{"$f":"G120*(1-H120)*(1-E28)","v":4.0065944923165684E-7},0,{"$f":"G120*(1-J120)*(1-E28)","v":7.6776746044199784E-6}]
[null,91,1.7271248995656259E-4,0,{"$f":"0","v":0},{"$f":"C121*I28+D121*J28+E121*K28","v":1.6079902434717238E-4},{"$f":"((C121*(1-I28))-(D121*J28)+(E121*(1-K28)))*F28*G28","v":7.9423104062601332E-6},0.94781499999999996,{"$f":"G121*(1-H121)*(1-E28)","v":3.7302252169561684E-7},0,{"$f":"G121*(1-J121)*(1-E28)","v":7.14807936563412E-6}]
[null,92,1.6079902434717238E-4,0,{"$f":"0","v":0},{"$f":"C122*I28+D122*J28+E122*K28","v":1.4970733290629667E-4},{"$f":"((C122*(1-I28))-(D122*J28)+(E122*(1-K28)))*F28*G28","v":7.3944609605838013E-6},0.94781499999999996,{"$f":"G122*(1-H122)*(1-E28)","v":3.4729195070525934E-7},0,{"$f":"G122*(1-J122)*(1-E28)","v":6.6550148645254217E-6}]
[null,93,1.4970733290629667E-4,0,{"$f":"0","v":0},{"$f":"C123*I28+D123*J28+E123*K28","v":1.3938073080299043E-4},{"$f":"((C123*(1-I28))-(D123*J28)+(E123*(1-K28)))*F28*G28","v":6.884401402204153E-6},0.94781499999999996,{"$f":"G123*(1-H123)*(1-E28)","v":3.2333623845662159E-7},0,{"$f":"G123*(1-J123)*(1-E28)","v":6.1959612619837377E-6}]
[null,94,1.3938073080299043E-4,0,{"$f":"0","v":0},{"$f":"C124*I28+D124*J28+E124*K28","v":1.2976644324653913E-4},{"$f":"((C124*(1-I28))-(D124*J28)+(E124*(1-K28)))*F28*G28","v":6.409525037634201E-6},0.94781499999999996,{"$f":"G124*(1-H124)*(1-E28)","v":3.0103295768004694E-7},0,{"$f":"G124*(1-J124)*(1-E28)","v":5.7685725338707807E-6}]
[null,95,1.2976644324653913E-4,0,{"$f":"0","v":0},{"$f":"C125*I28+D125*J28+E125*K28","v":1.2081533577736106E-4},{"$f":"((C125*(1-I28))-(D125*J28)+(E125*(1-K28)))*F28*G28","v":5.9674049794520447E-6},0.94781499999999996,{"$f":"G125*(1-H125)*(1-E28)","v":2.8026812596743469E-7},0,{"$f":"G125*(1-J125)*(1-E28)","v":5.3706644815068403E-6}]
[null,96,1.2081533577736106E-4,0,{"$f":"0","v":0},{"$f":"C126*I28+D126*J28+E126*K28","v":1.1248166316206547E-4},{"$f":"((C126*(1-I28))-(D126*J28)+(E126*(1-K28)))*F28*G28","v":5.555781743530394E-6},0.94781499999999996,{"$f":"G126*(1-H126)*(1-E28)","v":2.6093562325752047E-7},0,{"$f":"G126*(1-J126)*(1-E28)","v":5.0002035691773549E-6}]
[null,97,1.1248166316206547E-4,0,{"$f":"0","v":0},{"$f":"C127*I28+D127*J28+E127*K28","v":1.0472283560937774E-4},{"$f":"((C127*(1-I28))-(D127*J28)+(E127*(1-K28)))*F28*G28","v":5.172551701791816E-6},0.94781499999999996,{"$f":"G127*(1-H127)*(1-E28)","v":2.4293664950220546E-7},0,{"$f":"G127*(1-J127)*(1-E28)","v":4.6552965316126347E-6}]
[null,98,1.0472283560937774E-4,0,{"$f":"0","v":0},{"$f":"C128*I28+D128*J28+E128*K28","v":9.7499201112162632E-5},{"$f":"((C128*(1-I28))-(D128*J28)+(E128*(1-K28)))*F28*G28","v":4.8157563314767455E-6},0.94781499999999996,{"$f":"G128*(1-H128)*(1-E28)","v":2.2617921974230273E-7},0,{"$f":"G128*(1-J128)*(1-E28)","v":4.3341806983290715E-6}]
[null,99,9.7499201112162632E-5,0,{"$f":"0","v":0},{"$f":"C129*I28+D129*J28+E129*K28","v":9.0773842803189725E-5},{"$f":"((C129*(1-I28))-(D129*J28)+(E129*(1-K28)))*F28*G28","v":4.4835722059819395E-6},0.94781499999999996,{"$f":"G129*(1-H129)*(1-E28)","v":2.105776940122509E-7},0,{"$f":"G129*(1-J129)*(1-E28)","v":4.0352149853837453E-6}]
[null,100,9.0773842803189725E-5,0,{"$f":"0","v":0},{"$f":"C130*I28+D130*J28+E130*K28","v":8.4512390289014438E-5},{"$f":"((C130*(1-I28))-(D130*J28)+(E130*(1-K28)))*F28*G28","v":4.1743016761168581E-6},0.94781499999999996,{"$f":"G130*(1-H130)*(1-E28)","v":1.9605233967134256E-7},0,{"$f":"G130*(1-J130)*(1-E28)","v":3.7568715085051725E-6}]
[null,"Sum of Emissions over 100 years",null,null,null,null,{"$f":"SUM(G31:G130)","v":6.6582886285916548E-2},null,{"$f":"SUM(I31:I130)","v":1.2851092072618775E-2},null,{"$f":"SUM(K31:K130)","v":1.789726500459958E-2}]
[]
[null,"Section 7.2 IPCC First Order Decay Model for Food Scraps"]
[null,null,"ANDOC (MT C/dry short ton waste)","Decay Rate (k)","Oxidation Factor","FCH4","Mass CH4:C","M (months)","ANDOCys","ANDOCdly","ANDOCdsy"]
[null,null,{"$f":"'Avoided Emissions'!E9*'Avoided Emissions'!F9*'CA-GREET4.0'!M14","v":0.38101759080000003},{"$f":"'Avoided Emissions'!G9","v":0.19},0.1,0.5,{"$f":"'CA-GREET4.0'!E11/'CA-GREET4.0'!E10","v":1.3333333333333333},6,{"$f":"EXP(-D135)","v":0.82695913394336229},{"$f":"((1/D135)*(EXP(-(D135*(1-H135/12)))-EXP(-D135))-((H135/12)*EXP(-D135)))","v":2.027727789605116E-2},{"$f":"((1/D135)*(1-EXP(-(D135*(1-H135/12))))+(H135/12))","v":0.976984555430361}]
[null,"Methane Generation",null,null,null,null,null,"Gas Collection Scenario 1: Typical Phased",null,"Gas Collection Scenario 2: Phased with Shutdown "]
[null,"Year","ANDOC ys","ANDOC dly","ANDOC dsy","ANDOC ye","MT CH4 Gen/dry short ton ","Gas Collection Efficiency (%)","MT CH4 Emitted/dry short ton ","Gas Collection Efficiency (%)","MT CH4 Emitted/dry short ton "]
[null,1,0,0,{"$f":"C135","v":0.38101759080000003},{"$f":"C138*I135+D138*J135+E138*K135","v":0.37224830155888522},{"$f":"((C138*(1-I135))-(D138*J135)+(E138*(1-K135)))*F135*G135","v":5.8461928274098629E-3},0,{"$f":"G138*(1-H138)*(1-E135)","v":5.2615735446688771E-3},0,{"$f":"G138*(1-J138)*(1-E135)","v":5.2615735446688771E-3}]
[null,2,{"$f":"F138","v":0.37224830155888522},{"$f":"E138","v":0.38101759080000003},{"$f":"0","v":0},{"$f":"C139*I135+D139*J135+E139*K135","v":0.31556013264095878},{"$f":"((C139*(1-I135))-(D139*J135)+(E139*(1-K135)))*F135*G135","v":3.7792112611950951E-2},0,{"$f":"G139*(1-H139)*(1-E135)","v":3.401290135075586E-2},0,{"$f":"G139*(1-J139)*(1-E135)","v":3.401290135075586E-2}]
[null,3,0.31556013264095878,0,{"$f":"0","v":0},{"$f":"C140*I135+D140*J135+E140*K135","v":0.26095533399581983},{"$f":"((C140*(1-I135))-(D140*J135)+(E140*(1-K135)))*F135*G135","v":3.640319909675932E-2},{"$f":"0.5*0.9977","v":0.49885000000000002},{"$f":"G140*(1-H140)*(1-E135)","v":1.6419116904606838E-2},{"$f":"0.5*0.9977","v":0.49885000000000002},{"$f":"G140*(1-J140)*(1-E135)","v":1.6419116904606838E-2}]
[null,4,0.26095533399581983,0,{"$f":"0","v":0},{"$f":"C141*I135+D141*J135+E141*K135","v":0.21579939699908401},{"$f":"((C141*(1-I135))-(D141*J135)+(E141*(1-K135)))*F135*G135","v":3.0103957997823873E-2},{"$f":"0.75*0.9977","v":0.74827500000000002},{"$f":"G141*(1-H141)*(1-E135)","v":6.8201269443019926E-3},{"$f":"0.7*0.9977","v":0.69838999999999996},{"$f":"G141*(1-J141)*(1-E135)","v":8.1716892945512942E-3}]
[null,5,0.21579939699908401,0,{"$f":"0","v":0},{"$f":"C142*I135+D142*J135+E142*K135","v":0.17845728244786233},{"$f":"((C142*(1-I135))-(D142*J135)+(E142*(1-K135)))*F135*G135","v":2.4894743034147786E-2},0.74827500000000002,{"$f":"G142*(1-H142)*(1-E135)","v":5.6399662712437659E-3},{"$f":"0.7*0.9977","v":0.69838999999999996},{"$f":"G142*(1-J142)*(1-E135)","v":6.7576531018763838E-3}]
[null,6,0.17845728244786233,0,{"$f":"0","v":0},{"$f":"C143*I135+D143*J135+E143*K135","v":0.14757687973897021},{"$f":"((C143*(1-I135))-(D143*J135)+(E143*(1-K135)))*F135*G135","v":2.0586935139261405E-2},0.74827500000000002,{"$f":"G143*(1-H143)*(1-E135)","v":4.664021623137519E-3},{"$f":"0.8*0.9977","v":0.79816000000000009},{"$f":"G143*(1-J143)*(1-E135)","v":3.7397402896576682E-3}]
[null,7,0.14757687973897021,0,{"$f":"0","v":0},{"$f":"C144*I135+D144*J135+E144*K135","v":0.12204004865900253},{"$f":"((C144*(1-I135))-(D144*J135)+(E144*(1-K135)))*F135*G135","v":1.7024554053311783E-2},0.74827500000000002,{"$f":"G144*(1-H144)*(1-E135)","v":3.8569552821629176E-3},0.79816000000000009,{"$f":"G144*(1-J144)*(1-E135)","v":3.0926123911084041E-3}]
[null,8,0.12204004865900253,0,{"$f":"0","v":0},{"$f":"C145*I135+D145*J135+E145*K135","v":0.10092213294545453},{"$f":"((C145*(1-I135))-(D145*J135)+(E145*(1-K135)))*F135*G135","v":1.407861047569867E-2},0.74827500000000002,{"$f":"G145*(1-H145)*(1-E135)","v":3.1895443997957225E-3},0.79816000000000009,{"$f":"G145*(1-J145)*(1-E135)","v":2.5574640645735164E-3}]
[null,9,0.10092213294545453,0,{"$f":"0","v":0},{"$f":"C146*I135+D146*J135+E146*K135","v":8.3458479656289955E-2},{"$f":"((C146*(1-I135))-(D146*J135)+(E146*(1-K135)))*F135*G135","v":1.164243552610972E-2},0.74827500000000002,{"$f":"G146*(1-H146)*(1-E135)","v":2.6376228745289719E-3},0.79816000000000009,{"$f":"G146*(1-J146)*(1-E135)","v":2.1149182679309863E-3}]
[null,10,8.3458479656289955E-2,0,{"$f":"0","v":0},{"$f":"C147*I135+D147*J135+E147*K135","v":6.9016752056795264E-2},{"$f":"((C147*(1-I135))-(D147*J135)+(E147*(1-K135)))*F135*G135","v":9.6278183996631288E-3},0.74827500000000002,{"$f":"G147*(1-H147)*(1-E135)","v":2.1812063279896808E-3},0.79816000000000009,{"$f":"G147*(1-J147)*(1-E135)","v":1.7489509792092046E-3}]
[null,11,6.9016752056795264E-2,0,{"$f":"0","v":0},{"$f":"C148*I135+D148*J135+E148*K135","v":5.7074033508471178E-2},{"$f":"((C148*(1-I135))-(D148*J135)+(E148*(1-K135)))*F135*G135","v":7.961812365549388E-3},{"$f":"0.95*0.9977","v":0.94781499999999996},{"$f":"G148*(1-H148)*(1-E135)","v":3.7393846046657561E-4},0.79816000000000009,{"$f":"G148*(1-J148)*(1-E135)","v":1.446310987076239E-3}]
[null,12,5.7074033508471178E-2,0,{"$f":"0","v":0},{"$f":"C149*I135+D149*J135+E149*K135","v":4.7197893320819764E-2},{"$f":"((C149*(1-I135))-(D149*J135)+(E149*(1-K135)))*F135*G135","v":6.5840934584342758E-3},0.94781499999999996,{"$f":"G149*(1-H149)*(1-E135)","v":3.0923182541555365E-4},0.79816000000000009,{"$f":"G149*(1-J149)*(1-E135)","v":1.1960400812853363E-3}]
[null,13,4.7197893320819764E-2,0,{"$f":"0","v":0},{"$f":"C150*I135+D150*J135+E150*K135","v":3.9030728984536314E-2},{"$f":"((C150*(1-I135))-(D150*J135)+(E150*(1-K135)))*F135*G135","v":5.4447762241889653E-3},0.94781499999999996,{"$f":"G150*(1-H150)*(1-E135)","v":2.5572208253337125E-4},0.79816000000000009,{"$f":"G150*(1-J150)*(1-E135)","v":9.8907626978127021E-4}]
[null,14,3.9030728984536314E-2,0,{"$f":"0","v":0},{"$f":"C151*I135+D151*J135+E151*K135","v":3.2276817838230241E-2},{"$f":"((C151*(1-I135))-(D151*J135)+(E151*(1-K135)))*F135*G135","v":4.5026074308707163E-3},0.94781499999999996,{"$f":"G151*(1-H151)*(1-E135)","v":2.1147171190198966E-4},0.79816000000000009,{"$f":"G151*(1-J151)*(1-E135)","v":8.179256554622505E-4}]
[null,15,3.2276817838230241E-2,0,{"$f":"0","v":0},{"$f":"C152*I135+D152*J135+E152*K135","v":2.6691609325950546E-2},{"$f":"((C152*(1-I135))-(D152*J135)+(E152*(1-K135)))*F135*G135","v":3.7234723415197958E-3},0.94781499999999996,{"$f":"G152*(1-H152)*(1-E135)","v":1.748784637279896E-4},0.79816000000000009,{"$f":"G152*(1-J152)*(1-E135)","v":6.7639109167111973E-4}]
[null,16,2.6691609325950546E-2,0,{"$f":"0","v":0},{"$f":"C153*I135+D153*J135+E153*K135","v":2.2072870131742636E-2},{"$f":"((C153*(1-I135))-(D153*J135)+(E153*(1-K135)))*F135*G135","v":3.0791594628052734E-3},0.94781499999999996,{"$f":"G153*(1-H153)*(1-E135)","v":1.4461734290984398E-4},0.79816000000000009,{"$f":"G153*(1-J153)*(1-E135)","v":5.5934779137535454E-4}]
[null,17,2.2072870131742636E-2,0,{"$f":"0","v":0},{"$f":"C154*I135+D154*J135+E154*K135","v":1.8253361567790199E-2},{"$f":"((C154*(1-I135))-(D154*J135)+(E154*(1-K135)))*F135*G135","v":2.5463390426349575E-3},0.94781499999999996,{"$f":"G154*(1-H154)*(1-E135)","v":1.1959263264591482E-4},0.79816000000000009,{"$f":"G154*(1-J154)*(1-E135)","v":4.6255776512889568E-4}]
[null,18,1.8253361567790199E-2,0,{"$f":"0","v":0},{"$f":"C155*I135+D155*J135+E155*K135","v":1.5094784073654837E-2},{"$f":"((C155*(1-I135))-(D155*J135)+(E155*(1-K135)))*F135*G135","v":2.1057183294235747E-3},0.94781499999999996,{"$f":"G155*(1-H155)*(1-E135)","v":9.8898219918872393E-5},0.79816000000000009,{"$f":"G155*(1-J155)*(1-E135)","v":3.8251636884976872E-4}]
[null,19,1.5094784073654837E-2,{"$f":"E155","v":0},{"$f":"0","v":0},{"$f":"C156*I135+D156*J135+E156*K135","v":1.2482769564611662E-2},{"$f":"((C156*(1-I135))-(D156*J135)+(E156*(1-K135)))*F135*G135","v":1.7413430060287832E-3},0.94781499999999996,{"$f":"G156*(1-H156)*(1-E135)","v":8.1784786292650905E-5},0.79816000000000009,{"$f":"G156*(1-J156)*(1-E135)","v":3.1632540510316451E-4}]
[null,20,1.2482769564611662E-2,{"$f":"E156","v":0},{"$f":"0","v":0},{"$f":"C157*I135+D157*J135+E157*K135","v":1.0322740308365821E-2},{"$f":"((C157*(1-I135))-(D157*J135)+(E157*(1-K135)))*F135*G135","v":1.4400195041638936E-3},0.94781499999999996,{"$f":"G157*(1-H157)*(1-E135)","v":6.7632676042313566E-5},0.79816000000000009,{"$f":"G157*(1-J157)*(1-E135)","v":2.6158818304839615E-4}]
[null,21,1.0322740308365821E-2,0,{"$f":"0","v":0},{"$f":"C158*I135+D158*J135+E158*K135","v":8.5364843853284363E-3},{"$f":"((C158*(1-I135))-(D158*J135)+(E158*(1-K135)))*F135*G135","v":1.1908372820249233E-3},0.94781499999999996,{"$f":"G158*(1-H158)*(1-E135)","v":5.5929459206223603E-5},0.79816000000000009,{"$f":"G158*(1-J158)*(1-E135)","v":2.1632273730351939E-4}]
[null,22,8.5364843853284363E-3,0,{"$f":"0","v":0},{"$f":"C159*I135+D159*J135+E159*K135","v":7.0593237342122389E-3},{"$f":"((C159*(1-I135))-(D159*J135)+(E159*(1-K135)))*F135*G135","v":9.8477376741079809E-4},0.94781499999999996,{"$f":"G159*(1-H159)*(1-E135)","v":4.6251377147099285E-5},0.79816000000000009,{"$f":"G159*(1-J159)*(1-E135)","v":1.7889006349277586E-4}]
[null,23,7.0593237342122389E-3,0,{"$f":"0","v":0},{"$f":"C160*I135+D160*J135+E160*K135","v":5.8377722414699757E-3},{"$f":"((C160*(1-I135))-(D160*J135)+(E160*(1-K135)))*F135*G135","v":8.1436766182817568E-4},0.94781499999999996,{"$f":"G160*(1-H160)*(1-E135)","v":3.824799878925304E-5},0.79816000000000009,{"$f":"G160*(1-J160)*(1-E135)","v":1.47934771977059E-4}]
[null,24,5.8377722414699757E-3,0,{"$f":"0","v":0},{"$f":"C161*I135+D161*J135+E161*K135","v":4.8275990769646119E-3},{"$f":"((C161*(1-I135))-(D161*J135)+(E161*(1-K135)))*F135*G135","v":6.7344877633690914E-4},0.94781499999999996,{"$f":"G161*(1-H161)*(1-E135)","v":3.1629531953827469E-5},0.79816000000000009,{"$f":"G161*(1-J161)*(1-E135)","v":1.223360109142575E-4}]
[null,25,4.8275990769646119E-3,0,{"$f":"0","v":0},{"$f":"C162*I135+D162*J135+E162*K135","v":3.9922271517124309E-3},{"$f":"((C162*(1-I135))-(D162*J135)+(E162*(1-K135)))*F135*G135","v":5.5691461683478739E-4},0.94781499999999996,{"$f":"G162*(1-H162)*(1-E135)","v":2.6156330351571061E-5},0.79816000000000009,{"$f":"G162*(1-J162)*(1-E135)","v":1.0116688163574009E-4}]
[null,26,3.9922271517124309E-3,0,{"$f":"0","v":0},{"$f":"C163*I135+D163*J135+E163*K135","v":3.3014087078852877E-3},{"$f":"((C163*(1-I135))-(D163*J135)+(E163*(1-K135)))*F135*G135","v":4.6054562921809535E-4},0.94781499999999996,{"$f":"G163*(1-H163)*(1-E135)","v":2.1630216294671689E-5},0.79816000000000009,{"$f":"G163*(1-J163)*(1-E135)","v":8.366087682124229E-5}]
[null,27,3.3014087078852877E-3,0,{"$f":"0","v":0},{"$f":"C164*I135+D164*J135+E164*K135","v":2.7301300858658924E-3},{"$f":"((C164*(1-I135))-(D164*J135)+(E164*(1-K135)))*F135*G135","v":3.8085241467959697E-4},0.94781499999999996,{"$f":"G164*(1-H164)*(1-E135)","v":1.7887304934049304E-5},0.79816000000000009,{"$f":"G164*(1-J164)*(1-E135)","v":6.9184126241036837E-5}]
[null,28,2.7301300858658924E-3,0,{"$f":"0","v":0},{"$f":"C165*I135+D165*J135+E165*K135","v":2.2577060113603757E-3},{"$f":"((C165*(1-I135))-(D165*J135)+(E165*(1-K135)))*F135*G135","v":3.1494938300367779E-4},0.94781499999999996,{"$f":"G165*(1-H165)*(1-E135)","v":1.4792070196842242E-5},0.79816000000000009,{"$f":"G165*(1-J165)*(1-E135)","v":5.7212445118916064E-5}]
[null,29,2.2577060113603757E-3,0,{"$f":"0","v":0},{"$f":"C166*I135+D166*J135+E166*K135","v":1.8670306078532992E-3},{"$f":"((C166*(1-I135))-(D166*J135)+(E166*(1-K135)))*F135*G135","v":2.6045026900471766E-4},0.94781499999999996,{"$f":"G166*(1-H166)*(1-E135)","v":1.2232437559210081E-5},0.79816000000000009,{"$f":"G166*(1-J166)*(1-E135)","v":4.7312354066320971E-5}]
[null,30,1.8670306078532992E-3,0,{"$f":"0","v":0},{"$f":"C167*I135+D167*J135+E167*K135","v":1.5439580145161136E-3},{"$f":"((C167*(1-I135))-(D167*J135)+(E167*(1-K135)))*F135*G135","v":2.1538172889145707E-4},0.94781499999999996,{"$f":"G167*(1-H167)*(1-E135)","v":1.0115725969980627E-5},0.79816000000000009,{"$f":"G167*(1-J167)*(1-E135)","v":3.9125383343506511E-5}]
[null,31,1.5439580145161136E-3,0,{"$f":"0","v":0},{"$f":"C168*I135+D168*J135+E168*K135","v":1.2767901825291585E-3},{"$f":"((C168*(1-I135))-(D168*J135)+(E168*(1-K135)))*F135*G135","v":1.7811188799130338E-4},0.94781499999999996,{"$f":"G168*(1-H168)*(1-E135)","v":8.3652919873435566E-6},0.79816000000000009,{"$f":"G168*(1-J168)*(1-E135)","v":3.2355093124948187E-5}]
[null,32,1.2767901825291585E-3,0,{"$f":"0","v":0},{"$f":"C169*I135+D169*J135+E169*K135","v":1.0558533035717004E-3},{"$f":"((C169*(1-I135))-(D169*J135)+(E169*(1-K135)))*F135*G135","v":1.4729125263830543E-4},0.94781499999999996,{"$f":"G169*(1-H169)*(1-E135)","v":6.9177546170369765E-6},0.79816000000000009,{"$f":"G169*(1-J169)*(1-E135)","v":2.6756339789263999E-5}]
[null,33,1.0558533035717004E-3,0,{"$f":"0","v":0},{"$f":"C170*I135+D170*J135+E170*K135","v":8.7314753349289136E-4},{"$f":"((C170*(1-I135))-(D170*J135)+(E170*(1-K135)))*F135*G135","v":1.2180384671920602E-4},0.94781499999999996,{"$f":"G170*(1-H170)*(1-E135)","v":5.7207003669375935E-6},0.79816000000000009,{"$f":"G170*(1-J170)*(1-E135)","v":2.2126399579624079E-5}]
[null,34,8.7314753349289136E-4,0,{"$f":"0","v":0},{"$f":"C171*I135+D171*J135+E171*K135","v":7.2205732810206441E-4},{"$f":"((C171*(1-I135))-(D171*J135)+(E171*(1-K135)))*F135*G135","v":1.0072680359388467E-4},0.94781499999999996,{"$f":"G171*(1-H171)*(1-E135)","v":4.7307854209921879E-6},0.79816000000000009,{"$f":"G171*(1-J171)*(1-E135)","v":1.8297628233650707E-5}]
[null,35,7.2205732810206441E-4,0,{"$f":"0","v":0},{"$f":"C172*I135+D172*J135+E172*K135","v":5.9711190270474136E-4},{"$f":"((C172*(1-I135))-(D172*J135)+(E172*(1-K135)))*F135*G135","v":8.3296950264882011E-5},0.94781499999999996,{"$f":"G172*(1-H172)*(1-E135)","v":3.9121662146155838E-6},0.79816000000000009,{"$f":"G172*(1-J172)*(1-E135)","v":1.5131390797317399E-5}]
[null,36,5.9711190270474136E-4,0,{"$f":"0","v":0},{"$f":"C173*I135+D173*J135+E173*K135","v":4.9378714192798616E-4},{"$f":"((C173*(1-I135))-(D173*J135)+(E173*(1-K135)))*F135*G135","v":6.8883173851170152E-5},0.94781499999999996,{"$f":"G173*(1-H173)*(1-E135)","v":3.2352015846809855E-6},0.79816000000000009,{"$f":"G173*(1-J173)*(1-E135)","v":1.2513041829108159E-5}]
[null,37,4.9378714192798616E-4,0,{"$f":"0","v":0},{"$f":"C174*I135+D174*J135+E174*K135","v":4.0834178724113556E-4},{"$f":"((C174*(1-I135))-(D174*J135)+(E174*(1-K135)))*F135*G135","v":5.696356979123373E-5},0.94781499999999996,{"$f":"G174*(1-H174)*(1-E135)","v":2.675379500599981E-6},0.79816000000000009,{"$f":"G174*(1-J174)*(1-E135)","v":1.034777423399635E-5}]
[null,38,4.0834178724113556E-4,0,{"$f":"0","v":0},{"$f":"C175*I135+D175*J135+E175*K135","v":3.3768197072981418E-4},{"$f":"((C175*(1-I135))-(D175*J135)+(E175*(1-K135)))*F135*G135","v":4.7106544340880929E-5},0.94781499999999996,{"$f":"G175*(1-H175)*(1-E135)","v":2.2124295147859859E-6},0.79816000000000009,{"$f":"G175*(1-J175)*(1-E135)","v":8.5571864187870618E-6}]
[null,39,3.3768197072981418E-4,0,{"$f":"0","v":0},{"$f":"C176*I135+D176*J135+E176*K135","v":2.7924919006301494E-4},{"$f":"((C176*(1-I135))-(D176*J135)+(E176*(1-K135)))*F135*G135","v":3.8955187111199482E-5},0.94781499999999996,{"$f":"G176*(1-H176)*(1-E135)","v":1.8295887954581518E-6},0.79816000000000009,{"$f":"G176*(1-J176)*(1-E135)","v":7.0764434698720506E-6}]
[null,40,2.7924919006301494E-4,0,{"$f":"0","v":0},{"$f":"C177*I135+D177*J135+E177*K135","v":2.3092766836889619E-4},{"$f":"((C177*(1-I135))-(D177*J135)+(E177*(1-K135)))*F135*G135","v":3.2214347796079155E-5},0.94781499999999996,{"$f":"G177*(1-H177)*(1-E135)","v":1.5129951657645528E-6},0.79816000000000009,{"$f":"G177*(1-J177)*(1-E135)","v":5.8519295632445524E-6}]
[null,41,2.3092766836889619E-4,0,{"$f":"0","v":0},{"$f":"C178*I135+D178*J135+E178*K135","v":1.9096774463790237E-4},{"$f":"((C178*(1-I135))-(D178*J135)+(E178*(1-K135)))*F135*G135","v":2.6639949153995878E-5},0.94781499999999996,{"$f":"G178*(1-H178)*(1-E135)","v":1.2511851719411483E-6},0.79816000000000009,{"$f":"G178*(1-J178)*(1-E135)","v":4.8393066035182731E-6}]
[null,42,1.9096774463790237E-4,0,{"$f":"0","v":0},{"$f":"C179*I135+D179*J135+E179*K135","v":1.5792252071687691E-4},{"$f":"((C179*(1-I135))-(D179*J135)+(E179*(1-K135)))*F135*G135","v":2.2030149280683637E-5},0.94781499999999996,{"$f":"G179*(1-H179)*(1-E135)","v":1.0346790061912288E-6},0.79816000000000009,{"$f":"G179*(1-J179)*(1-E135)","v":4.0019087977318646E-6}]
[null,43,1.5792252071687691E-4,0,{"$f":"0","v":0},{"$f":"C180*I135+D180*J135+E180*K135","v":1.3059547096218121E-4},{"$f":"((C180*(1-I135))-(D180*J135)+(E180*(1-K135)))*F135*G135","v":1.8218033169797127E-5},0.94781499999999996,{"$f":"G180*(1-H180)*(1-E135)","v":8.5563725486927735E-7},0.79816000000000009,{"$f":"G180*(1-J180)*(1-E135)","v":3.3094150334926655E-6}]
[null,44,1.3059547096218121E-4,0,{"$f":"0","v":0},{"$f":"C181*I135+D181*J135+E181*K135","v":1.0799711756381089E-4},{"$f":"((C181*(1-I135))-(D181*J135)+(E181*(1-K135)))*F135*G135","v":1.5065568932246877E-5},0.94781499999999996,{"$f":"G181*(1-H181)*(1-E135)","v":7.0757704325637353E-7},0.79816000000000009,{"$f":"G181*(1-J181)*(1-E135)","v":2.7367509899562373E-6}]
[null,45,1.0799711756381089E-4,0,{"$f":"0","v":0},{"$f":"C182*I135+D182*J135+E182*K135","v":8.9309202808948531E-5},{"$f":"((C182*(1-I135))-(D182*J135)+(E182*(1-K135)))*F135*G135","v":1.2458609836574903E-5},0.94781499999999996,{"$f":"G182*(1-H182)*(1-E135)","v":5.8513729888949566E-7},0.79816000000000009,{"$f":"G182*(1-J182)*(1-E135)","v":2.2631812284728497E-6}]
[null,46,8.9309202808948531E-5,0,{"$f":"0","v":0},{"$f":"C183*I135+D183*J135+E183*K135","v":7.385506100806018E-5},{"$f":"((C183*(1-I135))-(D183*J135)+(E183*(1-K135)))*F135*G135","v":1.0302761200592236E-5},0.94781499999999996,{"$f":"G183*(1-H183)*(1-E135)","v":4.8388463392761563E-7},0.79816000000000009,{"$f":"G183*(1-J183)*(1-E135)","v":1.8715583886547821E-6}]
[null,47,7.385506100806018E-5,0,{"$f":"0","v":0},{"$f":"C184*I135+D184*J135+E184*K135","v":6.1075117288559636E-5},{"$f":"((C184*(1-I135))-(D184*J135)+(E184*(1-K135)))*F135*G135","v":8.5199624796670322E-6},0.94781499999999996,{"$f":"G184*(1-H184)*(1-E135)","v":4.0015281780128194E-7},0.79816000000000009,{"$f":"G184*(1-J184)*(1-E135)","v":1.5477023042063937E-6}]
[null,48,6.1075117288559636E-5,0,{"$f":"0","v":0},{"$f":"C185*I135+D185*J135+E185*K135","v":5.0506626098436551E-5},{"$f":"((C185*(1-I135))-(D185*J135)+(E185*(1-K135)))*F135*G135","v":7.0456607934153906E-6},0.94781499999999996,{"$f":"G185*(1-H185)*(1-E135)","v":3.3091002765394415E-7},0.79816000000000009,{"$f":"G185*(1-J185)*(1-E135)","v":1.2798865570886658E-6}]
[null,49,5.0506626098436551E-5,0,{"$f":"0","v":0},{"$f":"C186*I135+D186*J135+E186*K135","v":4.176691577676431E-5},{"$f":"((C186*(1-I135))-(D186*J135)+(E186*(1-K135)))*F135*G135","v":5.8264735477814945E-6},0.94781499999999996,{"$f":"G186*(1-H186)*(1-E135)","v":2.7364906988187975E-7},0.79816000000000009,{"$f":"G186*(1-J186)*(1-E135)","v":1.0584138787957947E-6}]
[null,50,4.176691577676431E-5,0,{"$f":"0","v":0},{"$f":"C187*I135+D187*J135+E187*K135","v":3.453953249823837E-5},{"$f":"((C187*(1-I135))-(D187*J135)+(E187*(1-K135)))*F135*G135","v":4.8182555190172941E-6},0.94781499999999996,{"$f":"G187*(1-H187)*(1-E135)","v":2.2629659783392591E-7},0.79816000000000009,{"$f":"G187*(1-J187)*(1-E135)","v":8.752650245626053E-7}]
[null,51,3.453953249823837E-5,0,{"$f":"0","v":0},{"$f":"C188*I135+D188*J135+E188*K135","v":2.8562781881551818E-5},{"$f":"((C188*(1-I135))-(D188*J135)+(E188*(1-K135)))*F135*G135","v":3.9845004111243669E-6},0.94781499999999996,{"$f":"G188*(1-H188)*(1-E135)","v":1.8713803855907271E-7},0.79816000000000009,{"$f":"G188*(1-J188)*(1-E135)","v":7.2380840668320773E-7}]
[null,52,2.8562781881551818E-5,0,{"$f":"0","v":0},{"$f":"C189*I135+D189*J135+E189*K135","v":2.3620253367781251E-5},{"$f":"((C189*(1-I135))-(D189*J135)+(E189*(1-K135)))*F135*G135","v":3.2950190091803774E-6},0.94781499999999996,{"$f":"G189*(1-H189)*(1-E135)","v":1.547555102946703E-7},0.79816000000000009,{"$f":"G189*(1-J189)*(1-E135)","v":5.9855997313167036E-7}]
[null,53,2.3620253367781251E-5,0,{"$f":"0","v":0},{"$f":"C190*I135+D190*J135+E190*K135","v":1.953298426854317E-5},{"$f":"((C190*(1-I135))-(D190*J135)+(E190*(1-K135)))*F135*G135","v":2.7248460661587206E-6},0.94781499999999996,{"$f":"G190*(1-H190)*(1-E135)","v":1.2797648276624364E-7},0.79816000000000009,{"$f":"G190*(1-J190)*(1-E135)","v":4.9498463699412836E-7}]
[null,54,1.953298426854317E-5,0,{"$f":"0","v":0},{"$f":"C191*I135+D191*J135+E191*K135","v":1.6152979754043778E-5},{"$f":"((C191*(1-I135))-(D191*J135)+(E191*(1-K135)))*F135*G135","v":2.2533363429995933E-6},0.94781499999999996,{"$f":"G191*(1-H191)*(1-E135)","v":1.0583132135349048E-7},0.79816000000000009,{"$f":"G191*(1-J191)*(1-E135)","v":4.0933206672393397E-7}]
[null,55,1.6152979754043778E-5,0,{"$f":"0","v":0},{"$f":"C192*I135+D192*J135+E192*K135","v":1.3357854148008708E-5},{"$f":"((C192*(1-I135))-(D192*J135)+(E192*(1-K135)))*F135*G135","v":1.8634170706900467E-6},0.94781499999999996,{"$f":"G192*(1-H192)*(1-E135)","v":8.7518177850564145E-8},0.79816000000000009,{"$f":"G192*(1-J192)*(1-E135)","v":3.3850089139327096E-7}]
[null,56,1.3357854148008708E-5,0,{"$f":"0","v":0},{"$f":"C193*I135+D193*J135+E193*K135","v":1.1046399497579031E-5},{"$f":"((C193*(1-I135))-(D193*J135)+(E193*(1-K135)))*F135*G135","v":1.5409697669531181E-6},0.94781499999999996,{"$f":"G193*(1-H193)*(1-E135)","v":7.2373956559603681E-8},0.79816000000000009,{"$f":"G193*(1-J193)*(1-E135)","v":2.7992640398563551E-7}]
[null,57,1.1046399497579031E-5,0,{"$f":"0","v":0},{"$f":"C194*I135+D194*J135+E194*K135","v":9.1349209617103469E-6},{"$f":"((C194*(1-I135))-(D194*J135)+(E194*(1-K135)))*F135*G135","v":1.2743190239124553E-6},0.94781499999999996,{"$f":"G194*(1-H194)*(1-E135)","v":5.985030443658438E-8},0.79816000000000009,{"$f":"G194*(1-J194)*(1-E135)","v":2.314876966078409E-7}]
[null,58,9.1349209617103469E-6,0,{"$f":"0","v":0},{"$f":"C195*I135+D195*J135+E195*K135","v":7.5542063271370544E-6},{"$f":"((C195*(1-I135))-(D195*J135)+(E195*(1-K135)))*F135*G135","v":1.0538097563821948E-6},0.94781499999999996,{"$f":"G195*(1-H195)*(1-E135)","v":4.949375592312439E-8},0.79816000000000009,{"$f":"G195*(1-J195)*(1-E135)","v":1.9143086510536391E-7}]
[null,59,7.5542063271370544E-6,0,{"$f":"0","v":0},{"$f":"C196*I135+D196*J135+E196*K135","v":6.247019921918726E-6},{"$f":"((C196*(1-I135))-(D196*J135)+(E196*(1-K135)))*F135*G135","v":8.7145760347888541E-7},0.94781499999999996,{"$f":"G196*(1-H196)*(1-E135)","v":4.0929313533791103E-8},0.79816000000000009,{"$f":"G196*(1-J196)*(1-E135)","v":1.5830550241756033E-7}]
[null,60,6.247019921918726E-6,0,{"$f":"0","v":0},{"$f":"C197*I135+D197*J135+E197*K135","v":5.1660301843568401E-6},{"$f":"((C197*(1-I135))-(D197*J135)+(E197*(1-K135)))*F135*G135","v":7.2065982504125707E-7},0.94781499999999996,{"$f":"G197*(1-H197)*(1-E135)","v":3.3846869672800222E-8},0.79816000000000009,{"$f":"G197*(1-J197)*(1-E135)","v":1.3091218117769454E-7}]
[null,61,5.1660301843568401E-6,0,{"$f":"0","v":0},{"$f":"C198*I135+D198*J135+E198*K135","v":4.2720958471810008E-6},{"$f":"((C198*(1-I135))-(D198*J135)+(E198*(1-K135)))*F135*G135","v":5.959562247838929E-7},0.94781499999999996,{"$f":"G198*(1-H198)*(1-E135)","v":2.7989978031312724E-8},0,{"$f":"G198*(1-J198)*(1-E135)","v":5.3636060230550359E-7}]
[null,62,4.2720958471810008E-6,0,{"$f":"0","v":0},{"$f":"C199*I135+D199*J135+E199*K135","v":3.5328486819078348E-6},{"$f":"((C199*(1-I135))-(D199*J135)+(E199*(1-K135)))*F135*G135","v":4.9283144351544379E-7},0.94781499999999996,{"$f":"G199*(1-H199)*(1-E135)","v":2.3146567991868107E-8},0,{"$f":"G199*(1-J199)*(1-E135)","v":4.4354829916389944E-7}]
[null,63,3.5328486819078348E-6,0,{"$f":"0","v":0},{"$f":"C200*I135+D200*J135+E200*K135","v":2.9215214863434521E-6},{"$f":"((C200*(1-I135))-(D200*J135)+(E200*(1-K135)))*F135*G135","v":4.0755146370958849E-7},0.94781499999999996,{"$f":"G200*(1-H200)*(1-E135)","v":1.9141265820316401E-8},0,{"$f":"G200*(1-J200)*(1-E135)","v":3.6679631733862965E-7}]
[null,64,2.9215214863434521E-6,0,{"$f":"0","v":0},{"$f":"C201*I135+D201*J135+E201*K135","v":2.4159788781435057E-6},{"$f":"((C201*(1-I135))-(D201*J135)+(E201*(1-K135)))*F135*G135","v":3.3702840546663091E-7},0.94781499999999996,{"$f":"G201*(1-H201)*(1-E135)","v":1.582904460534853E-8},0,{"$f":"G201*(1-J201)*(1-E135)","v":3.0332556491996784E-7}]
[null,65,2.4159788781435057E-6,0,{"$f":"0","v":0},{"$f":"C202*I135+D202*J135+E202*K135","v":1.9979158006950093E-6},{"$f":"((C202*(1-I135))-(D202*J135)+(E202*(1-K135)))*F135*G135","v":2.7870871829899744E-7},0.94781499999999996,{"$f":"G202*(1-H202)*(1-E135)","v":1.3089973017989873E-8},0,{"$f":"G202*(1-J202)*(1-E135)","v":2.5083784646909771E-7}]
[null,66,{"$f":"F202","v":1.9979158006950093E-6},0,{"$f":"0","v":0},{"$f":"C203*I135+D203*J135+E203*K135","v":1.6521947202345042E-6},{"$f":"((C203*(1-I135))-(D203*J135)+(E203*(1-K135)))*F135*G135","v":2.3048072030700344E-7},0.94781499999999996,{"$f":"G203*(1-H203)*(1-E135)","v":1.0824872750298884E-8},0,{"$f":"G203*(1-J203)*(1-E135)","v":2.074326482763031E-7}]
[null,67,1.6521947202345042E-6,0,{"$f":"0","v":0},{"$f":"C204*I135+D204*J135+E204*K135","v":1.3662975149509214E-6},{"$f":"((C204*(1-I135))-(D204*J135)+(E204*(1-K135)))*F135*G135","v":1.9059813685572188E-7},0.94781499999999996,{"$f":"G204*(1-H204)*(1-E135)","v":8.9517273946342668E-9},0,{"$f":"G204*(1-J204)*(1-E135)","v":1.7153832317014969E-7}]
[null,68,1.3662975149509214E-6,0,{"$f":"0","v":0},{"$f":"C205*I135+D205*J135+E205*K135","v":1.129872209672782E-6},{"$f":"((C205*(1-I135))-(D205*J135)+(E205*(1-K135)))*F135*G135","v":1.5761687018542621E-7},0.94781499999999996,{"$f":"G205*(1-H205)*(1-E135)","v":7.4027127335638257E-9},0,{"$f":"G205*(1-J205)*(1-E135)","v":1.4185518316688359E-7}]
[null,69,1.129872209672782E-6,0,{"$f":"0","v":0},{"$f":"C206*I135+D206*J135+E206*K135","v":9.3435814397767687E-7},{"$f":"((C206*(1-I135))-(D206*J135)+(E206*(1-K135)))*F135*G135","v":1.3034271046340344E-7},0.94781499999999996,{"$f":"G206*(1-H206)*(1-E135)","v":6.1217409109794424E-9},0,{"$f":"G206*(1-J206)*(1-E135)","v":1.173084394170631E-7}]
[null,70,9.3435814397767687E-7,0,{"$f":"0","v":0},{"$f":"C207*I135+D207*J135+E207*K135","v":7.7267600153670708E-7},{"$f":"((C207*(1-I135))-(D207*J135)+(E207*(1-K135)))*F135*G135","v":1.0778809496064652E-7},0.94781499999999996,{"$f":"G207*(1-H207)*(1-E135)","v":5.0624295619692081E-9},0,{"$f":"G207*(1-J207)*(1-E135)","v":9.7009285464581869E-8}]
[null,71,7.7267600153670708E-7,0,{"$f":"0","v":0},{"$f":"C208*I135+D208*J135+E208*K135","v":6.389714770496154E-7},{"$f":"((C208*(1-I135))-(D208*J135)+(E208*(1-K135)))*F135*G135","v":8.9136349658061148E-8},0.94781499999999996,{"$f":"G208*(1-H208)*(1-E135)","v":4.1864223662153324E-9},0,{"$f":"G208*(1-J208)*(1-E135)","v":8.0222714692255038E-8}]
[null,72,6.389714770496154E-7,0,{"$f":"0","v":0},{"$f":"C209*I135+D209*J135+E209*K135","v":5.2840329927546093E-7},{"$f":"((C209*(1-I135))-(D209*J135)+(E209*(1-K135)))*F135*G135","v":7.3712118516102968E-8},0.94781499999999996,{"$f":"G209*(1-H209)*(1-E135)","v":3.4620002142865522E-9},0,{"$f":"G209*(1-J209)*(1-E135)","v":6.6340906664492677E-8}]
[null,73,5.2840329927546093E-7,0,{"$f":"0","v":0},{"$f":"C210*I135+D210*J135+E210*K135","v":4.3696793474165045E-7},{"$f":"((C210*(1-I135))-(D210*J135)+(E210*(1-K135)))*F135*G135","v":6.0956909689206988E-8},0.94781499999999996,{"$f":"G210*(1-H210)*(1-E135)","v":2.8629326989181423E-9},0,{"$f":"G210*(1-J210)*(1-E135)","v":5.4861218720286293E-8}]
[null,74,4.3696793474165045E-7,0,{"$f":"0","v":0},{"$f":"C211*I135+D211*J135+E211*K135","v":3.613546248749749E-7},{"$f":"((C211*(1-I135))-(D211*J135)+(E211*(1-K135)))*F135*G135","v":5.0408873244450361E-8},0.94781499999999996,{"$f":"G211*(1-H211)*(1-E135)","v":2.3675283452354797E-9},0,{"$f":"G211*(1-J211)*(1-E135)","v":4.5367985920005324E-8}]
[null,75,3.613546248749749E-7,0,{"$f":"0","v":0},{"$f":"C212*I135+D212*J135+E212*K135","v":2.9882550763303779E-7},{"$f":"((C212*(1-I135))-(D212*J135)+(E212*(1-K135)))*F135*G135","v":4.1686078161291397E-8},{"$f":"0.95*0.9977","v":0.94781499999999996},{"$f":"G212*(1-H212)*(1-E135)","v":1.9578491899622939E-9},0,{"$f":"G212*(1-J212)*(1-E135)","v":3.7517470345162255E-8}]
[null,76,2.9882550763303779E-7,0,{"$f":"0","v":0},{"$f":"C213*I135+D213*J135+E213*K135","v":2.4711648299240254E-7},{"$f":"((C213*(1-I135))-(D213*J135)+(E213*(1-K135)))*F135*G135","v":3.4472683093756841E-8},0.94781499999999996,{"$f":"G213*(1-H213)*(1-E135)","v":1.6190612705229319E-9},0,{"$f":"G213*(1-J213)*(1-E135)","v":3.1025414784381157E-8}]
[null,77,2.4711648299240254E-7,0,{"$f":"0","v":0},{"$f":"C214*I135+D214*J135+E214*K135","v":2.0435523275852682E-7},{"$f":"((C214*(1-I135))-(D214*J135)+(E214*(1-K135)))*F135*G135","v":2.8507500155917145E-8},0.94781499999999996,{"$f":"G214*(1-H214)*(1-E135)","v":1.3388975060728836E-9},0,{"$f":"G214*(1-J214)*(1-E135)","v":2.5656750140325433E-8}]
[null,78,2.0435523275852682E-7,0,{"$f":"0","v":0},{"$f":"C215*I135+D215*J135+E215*K135","v":1.6899342629878555E-7},{"$f":"((C215*(1-I135))-(D215*J135)+(E215*(1-K135)))*F135*G135","v":2.3574537639827505E-8},0.94781499999999996,{"$f":"G215*(1-H215)*(1-E135)","v":1.1072135220609593E-9},0,{"$f":"G215*(1-J215)*(1-E135)","v":2.1217083875844754E-8}]
[null,79,1.6899342629878555E-7,0,{"$f":"0","v":0},{"$f":"C216*I135+D216*J135+E216*K135","v":1.3975065745416511E-7},{"$f":"((C216*(1-I135))-(D216*J135)+(E216*(1-K135)))*F135*G135","v":1.9495179229746951E-8},0.94781499999999996,{"$f":"G216*(1-H216)*(1-E135)","v":9.1562033529391085E-10},0,{"$f":"G216*(1-J216)*(1-E135)","v":1.7545661306772257E-8}]
[null,80,1.3975065745416511E-7,0,{"$f":"0","v":0},{"$f":"C217*I135+D217*J135+E217*K135","v":1.1556808265631187E-7},{"$f":"((C217*(1-I135))-(D217*J135)+(E217*(1-K135)))*F135*G135","v":1.612171653190216E-8},0.94781499999999996,{"$f":"G217*(1-H217)*(1-E135)","v":7.5718059949558335E-10},0,{"$f":"G217*(1-J217)*(1-E135)","v":1.4509544878711944E-8}]
[null,81,1.1556808265631187E-7,0,{"$f":"0","v":0},{"$f":"C218*I135+D218*J135+E218*K135","v":9.5570081544958569E-8},{"$f":"((C218*(1-I135))-(D218*J135)+(E218*(1-K135)))*F135*G135","v":1.3332000740902199E-8},0.94781499999999996,{"$f":"G218*(1-H218)*(1-E135)","v":6.2615741279758354E-10},0,{"$f":"G218*(1-J218)*(1-E135)","v":1.1998800666811978E-8}]
[null,82,9.5570081544958569E-8,0,{"$f":"0","v":0},{"$f":"C219*I135+D219*J135+E219*K135","v":7.9032551865315455E-8},{"$f":"((C219*(1-I135))-(D219*J135)+(E219*(1-K135)))*F135*G135","v":1.1025019786428745E-8},0.94781499999999996,{"$f":"G219*(1-H219)*(1-E135)","v":5.1780659179930602E-10},0,{"$f":"G219*(1-J219)*(1-E135)","v":9.9225178077858697E-9}]
[null,83,7.9032551865315455E-8,0,{"$f":"0","v":0},{"$f":"C220*I135+D220*J135+E220*K135","v":6.5356690643875134E-8},{"$f":"((C220*(1-I135))-(D220*J135)+(E220*(1-K135)))*F135*G135","v":9.1172408142935491E-9},0.94781499999999996,{"$f":"G220*(1-H220)*(1-E135)","v":4.2820489070451831E-10},0,{"$f":"G220*(1-J220)*(1-E135)","v":8.2055167328641941E-9}]
[null,84,6.5356690643875134E-8,{"$f":"E220","v":0},{"$f":"0","v":0},{"$f":"C221*I135+D221*J135+E221*K135","v":5.4047312292263227E-8},{"$f":"((C221*(1-I135))-(D221*J135)+(E221*(1-K135)))*F135*G135","v":7.5395855677412683E-9},0.94781499999999996,{"$f":"G221*(1-H221)*(1-E135)","v":3.5410794556732056E-10},0,{"$f":"G221*(1-J221)*(1-E135)","v":6.7856270109671416E-9}]
[null,85,5.4047312292263227E-8,0,{"$f":"0","v":0},{"$f":"C222*I135+D222*J135+E222*K135","v":4.4694918565176439E-8},{"$f":"((C222*(1-I135))-(D222*J135)+(E222*(1-K135)))*F135*G135","v":6.2349291513911927E-9},0.94781499999999996,{"$f":"G222*(1-H222)*(1-E135)","v":2.9283279998881468E-10},0,{"$f":"G222*(1-J222)*(1-E135)","v":5.6114362362520736E-9}]
[null,86,4.4694918565176439E-8,0,{"$f":"0","v":0},{"$f":"C223*I135+D223*J135+E223*K135","v":3.6960871148327411E-8},{"$f":"((C223*(1-I135))-(D223*J135)+(E223*(1-K135)))*F135*G135","v":5.1560316112326835E-9},0.94781499999999996,{"$f":"G223*(1-H223)*(1-E135)","v":2.4216075866895999E-10},0,{"$f":"G223*(1-J223)*(1-E135)","v":4.6404284501094151E-9}]
[null,87,3.6960871148327411E-8,0,{"$f":"0","v":0},{"$f":"C224*I135+D224*J135+E224*K135","v":3.056512999461304E-8},{"$f":"((C224*(1-I135))-(D224*J135)+(E224*(1-K135)))*F135*G135","v":4.263827435809579E-9},0.94781499999999996,{"$f":"G224*(1-H224)*(1-E135)","v":2.0025705126395075E-10},0,{"$f":"G224*(1-J224)*(1-E135)","v":3.837444692228621E-9}]
[null,88,3.056512999461304E-8,0,{"$f":"0","v":0},{"$f":"C225*I135+D225*J135+E225*K135","v":2.5276113429211487E-8},{"$f":"((C225*(1-I135))-(D225*J135)+(E225*(1-K135)))*F135*G135","v":3.5260110436010365E-9},0.94781499999999996,{"$f":"G225*(1-H225)*(1-E135)","v":1.6560439767928819E-10},0,{"$f":"G225*(1-J225)*(1-E135)","v":3.173409939240933E-9}]
[null,89,2.5276113429211487E-8,0,{"$f":"0","v":0},{"$f":"C226*I135+D226*J135+E226*K135","v":2.0902312870874921E-8},{"$f":"((C226*(1-I135))-(D226*J135)+(E226*(1-K135)))*F135*G135","v":2.9158670388910439E-9},0.94781499999999996,{"$f":"G226*(1-H226)*(1-E135)","v":1.3694806928207631E-10},0,{"$f":"G226*(1-J226)*(1-E135)","v":2.6242803350019396E-9}]
[null,90,2.0902312870874921E-8,0,{"$f":"0","v":0},{"$f":"C227*I135+D227*J135+E227*K135","v":1.7285358549111919E-8},{"$f":"((C227*(1-I135))-(D227*J135)+(E227*(1-K135)))*F135*G135","v":2.4113028811753345E-9},0.94781499999999996,{"$f":"G227*(1-H227)*(1-E135)","v":1.1325045676872143E-10},0,{"$f":"G227*(1-J227)*(1-E135)","v":2.1701725930578013E-9}]
[null,91,1.7285358549111919E-8,0,{"$f":"0","v":0},{"$f":"C228*I135+D228*J135+E228*K135","v":1.4294285135674087E-8},{"$f":"((C228*(1-I135))-(D228*J135)+(E228*(1-K135)))*F135*G135","v":1.9940489422918888E-9},0.94781499999999996,{"$f":"G228*(1-H228)*(1-E135)","v":9.3653499648152069E-11},0,{"$f":"G228*(1-J228)*(1-E135)","v":1.7946440480627E-9}]
[null,92,1.4294285135674087E-8,0,{"$f":"0","v":0},{"$f":"C229*I135+D229*J135+E229*K135","v":1.1820789656136519E-8},{"$f":"((C229*(1-I135))-(D229*J135)+(E229*(1-K135)))*F135*G135","v":1.6489969863583779E-9},0.94781499999999996,{"$f":"G229*(1-H229)*(1-E135)","v":7.7447616959800808E-11},0,{"$f":"G229*(1-J229)*(1-E135)","v":1.4840972877225402E-9}]
[null,93,1.1820789656136519E-8,0,{"$f":"0","v":0},{"$f":"C230*I135+D230*J135+E230*K135","v":9.7753099765653109E-9},{"$f":"((C230*(1-I135))-(D230*J135)+(E230*(1-K135)))*F135*G135","v":1.3636531197141386E-9},0.94781499999999996,{"$f":"G230*(1-H230)*(1-E135)","v":6.4046014247054138E-11},0,{"$f":"G230*(1-J230)*(1-E135)","v":1.2272878077427248E-9}]
[null,94,9.7753099765653109E-9,0,{"$f":"0","v":0},{"$f":"C231*I135+D231*J135+E231*K135","v":8.0837818722483582E-9},{"$f":"((C231*(1-I135))-(D231*J135)+(E231*(1-K135)))*F135*G135","v":1.1276854028779682E-9},0.94781499999999996,{"$f":"G231*(1-H231)*(1-E135)","v":5.296343647426813E-11},0,{"$f":"G231*(1-J231)*(1-E135)","v":1.0149168625901715E-9}]
[null,95,8.0837818722483582E-9,0,{"$f":"0","v":0},{"$f":"C232*I135+D232*J135+E232*K135","v":6.6849572560615543E-9},{"$f":"((C232*(1-I135))-(D232*J135)+(E232*(1-K135)))*F135*G135","v":9.3254974412453608E-10},0.94781499999999996,{"$f":"G232*(1-H232)*(1-E135)","v":4.3798597557425057E-11},0,{"$f":"G232*(1-J232)*(1-E135)","v":8.3929476971208247E-10}]
[null,96,6.6849572560615543E-9,0,{"$f":"0","v":0},{"$f":"C233*I135+D233*J135+E233*K135","v":5.5281864629210581E-9},{"$f":"((C233*(1-I135))-(D233*J135)+(E233*(1-K135)))*F135*G135","v":7.7118052876033047E-10},0.94781499999999996,{"$f":"G233*(1-H233)*(1-E135)","v":3.6219650304022089E-11},0,{"$f":"G233*(1-J233)*(1-E135)","v":6.9406247588429748E-10}]
[null,97,5.5281864629210581E-9,0,{"$f":"0","v":0},{"$f":"C234*I135+D234*J135+E234*K135","v":4.5715842896546177E-9},{"$f":"((C234*(1-I135))-(D234*J135)+(E234*(1-K135)))*F135*G135","v":6.3773478217762702E-10},0.94781499999999996,{"$f":"G234*(1-H234)*(1-E135)","v":2.9952170647145543E-11},0,{"$f":"G234*(1-J234)*(1-E135)","v":5.739613039598643E-10}]
[null,98,4.5715842896546177E-9,0,{"$f":"0","v":0},{"$f":"C235*I135+D235*J135+E235*K135","v":3.7805133849218636E-9},{"$f":"((C235*(1-I135))-(D235*J135)+(E235*(1-K135)))*F135*G135","v":5.2738060315516927E-10},0.94781499999999996,{"$f":"G235*(1-H235)*(1-E135)","v":2.4769221098087276E-11},0,{"$f":"G235*(1-J235)*(1-E135)","v":4.7464254283965239E-10}]
[null,99,3.7805133849218636E-9,0,{"$f":"0","v":0},{"$f":"C236*I135+D236*J135+E236*K135","v":3.1263300746562733E-9},{"$f":"((C236*(1-I135))-(D236*J135)+(E236*(1-K135)))*F135*G135","v":4.3612220684372679E-10},0.94781499999999996,{"$f":"G236*(1-H236)*(1-E135)","v":2.0483133627725911E-11},0,{"$f":"G236*(1-J236)*(1-E135)","v":3.9250998615935412E-10}]
[null,100,3.1263300746562733E-9,0,{"$f":"0","v":0},{"$f":"C237*I135+D237*J135+E237*K135","v":2.585347210958839E-9},{"$f":"((C237*(1-I135))-(D237*J135)+(E237*(1-K135)))*F135*G135","v":3.6065524246495621E-10},0.94781499999999996,{"$f":"G237*(1-H237)*(1-E135)","v":1.6938714445230378E-11},0,{"$f":"G237*(1-J237)*(1-E135)","v":3.2458971821846059E-10}]
[null,"Sum of Emissions over 100 years",null,null,null,null,{"$f":"SUM(G138:G237)","v":0.25401172547643514},null,{"$f":"SUM(I138:I237)","v":8.6844018965892625E-2},null,{"$f":"SUM(K138:K237)","v":9.2237297370007978E-2}]
[]
[null,"Section 7.3 IPCC First Order Decay Model for Recovered Organics"]
[null,null,"ANDOC (MT C/dry short ton waste)","Decay Rate (k)","Oxidation Factor","FCH4","Mass CH4:C","M (months)","ANDOCys","ANDOCdly","ANDOCdsy"]
[null,null,{"$f":"SUMPRODUCT('Avoided Emissions'!I5:I15,'Avoided Emissions'!D5:D15)/SUM('Avoided Emissions'!D5:D15)","v":0.14025293043685866},{"$f":"SUMPRODUCT('Avoided Emissions'!G5:G15,'Avoided Emissions'!D5:D15)/SUM('Avoided Emissions'!D5:D15)","v":0.10003547206579151},0.1,0.5,{"$f":"'CA-GREET4.0'!E11/'CA-GREET4.0'!E10","v":1.3333333333333333},6,{"$f":"EXP(-D242)","v":0.90480532215279341},{"$f":"((1/D242)*(EXP(-(D242*(1-H242/12)))-EXP(-D242))-((H242/12)*EXP(-D242)))","v":1.1505095870527005E-2},{"$f":"((1/D242)*(1-EXP(-(D242*(1-H242/12))))+(H242/12))","v":0.98770146607547349}]
[null,"Methane Generation",null,null,null,null,null,"Gas Collection Scenario 1: Typical Phased",null,"Gas Collection Scenario 2: Phased with Shutdown "]
[null,"Year","ANDOC ys","ANDOC dly","ANDOC dsy","ANDOC ye","MT CH4 Gen/dry short ton ","Gas Collection Efficiency (%)","MT CH4 Emitted/dry short ton ","Gas Collection Efficiency (%)","MT CH4 Emitted/dry short ton "]
[null,1,0,0,{"$f":"C242","v":0.14025293043685866},{"$f":"C245*I242+D245*J242+E245*K242","v":0.13852802501386668},{"$f":"((C245*(1-I242))-(D245*J242)+(E245*(1-K242)))*F242*G242","v":1.1499369486613086E-3},0,{"$f":"G245*(1-H245)*(1-E242)","v":1.0349432537951778E-3},0,{"$f":"G245*(1-J245)*(1-E242)","v":1.0349432537951778E-3}]
[null,2,{"$f":"F245","v":0.13852802501386668},{"$f":"E245","v":0.14025293043685866},{"$f":"0","v":0},{"$f":"C246*I242+D246*J242+E246*K242","v":0.12695451771066027},{"$f":"((C246*(1-I242))-(D246*J242)+(E246*(1-K242)))*F242*G242","v":7.7156715354709336E-3},0,{"$f":"G246*(1-H246)*(1-E242)","v":6.9441043819238402E-3},0,{"$f":"G246*(1-J246)*(1-E242)","v":6.9441043819238402E-3}]
[null,3,0.12695451771066027,0,{"$f":"0","v":0},{"$f":"C247*I242+D247*J242+E247*K242","v":0.11486912329594648},{"$f":"((C247*(1-I242))-(D247*J242)+(E247*(1-K242)))*F242*G242","v":8.0569296098091901E-3},{"$f":"0.5*0.9977","v":0.49885000000000002},{"$f":"G247*(1-H247)*(1-E242)","v":3.6339572465602875E-3},{"$f":"0.5*0.9977","v":0.49885000000000002},{"$f":"G247*(1-J247)*(1-E242)","v":3.6339572465602875E-3}]
[null,4,0.11486912329594648,0,{"$f":"0","v":0},{"$f":"C248*I242+D248*J242+E248*K242","v":0.1039341941091978},{"$f":"((C248*(1-I242))-(D248*J242)+(E248*(1-K242)))*F242*G242","v":7.2899527911657854E-3},{"$f":"0.75*0.9977","v":0.74827500000000002},{"$f":"G248*(1-H248)*(1-E242)","v":1.6515570297205866E-3},{"$f":"0.7*0.9977","v":0.69838999999999996},{"$f":"G248*(1-J248)*(1-E242)","v":1.9788503952091613E-3}]
[null,5,0.1039341941091978,0,{"$f":"0","v":0},{"$f":"C249*I242+D249*J242+E249*K242","v":9.4040211983663677E-2},{"$f":"((C249*(1-I242))-(D249*J242)+(E249*(1-K242)))*F242*G242","v":6.5959880836894136E-3},0.74827500000000002,{"$f":"G249*(1-H249)*(1-E242)","v":1.4943375903300458E-3},{"$f":"0.7*0.9977","v":0.69838999999999996},{"$f":"G249*(1-J249)*(1-E242)","v":1.7904743693294082E-3}]
[null,6,9.4040211983663677E-2,0,{"$f":"0","v":0},{"$f":"C250*I242+D250*J242+E250*K242","v":8.5088084299195801E-2},{"$f":"((C250*(1-I242))-(D250*J242)+(E250*(1-K242)))*F242*G242","v":5.9680851229785871E-3},0.74827500000000002,{"$f":"G250*(1-H250)*(1-E242)","v":1.3520846048236063E-3},{"$f":"0.8*0.9977","v":0.79816000000000009},{"$f":"G250*(1-J250)*(1-E242)","v":1.0841384710997977E-3}]
[null,7,8.5088084299195801E-2,0,{"$f":"0","v":0},{"$f":"C251*I242+D251*J242+E251*K242","v":7.6988151525697907E-2},{"$f":"((C251*(1-I242))-(D251*J242)+(E251*(1-K242)))*F242*G242","v":5.399955182331934E-3},0.74827500000000002,{"$f":"G251*(1-H251)*(1-E242)","v":1.2233733464452553E-3},0.79816000000000009,{"$f":"G251*(1-J251)*(1-E242)","v":9.8093425860168925E-4}]
[null,8,7.6988151525697907E-2,0,{"$f":"0","v":0},{"$f":"C252*I242+D252*J242+E252*K242","v":6.9659289243157174E-2},{"$f":"((C252*(1-I242))-(D252*J242)+(E252*(1-K242)))*F242*G242","v":4.8859081883604917E-3},0.74827500000000002,{"$f":"G252*(1-H252)*(1-E242)","v":1.1069147148435401E-3},0.79816000000000009,{"$f":"G252*(1-J252)*(1-E242)","v":8.8755453786481305E-4}]
[null,9,6.9659289243157174E-2,0,{"$f":"0","v":0},{"$f":"C253*I242+D253*J242+E253*K242","v":6.3028095644589444E-2},{"$f":"((C253*(1-I242))-(D253*J242)+(E253*(1-K242)))*F242*G242","v":4.4207957323784868E-3},0.74827500000000002,{"$f":"G253*(1-H253)*(1-E242)","v":1.0015423251596772E-3},0.79816000000000009,{"$f":"G253*(1-J253)*(1-E242)","v":8.0306406956094612E-4}]
[null,10,6.3028095644589444E-2,0,{"$f":"0","v":0},{"$f":"C254*I242+D254*J242+E254*K242","v":5.702815638437983E-2},{"$f":"((C254*(1-I242))-(D254*J242)+(E254*(1-K242)))*F242*G242","v":3.9999595068064111E-3},0.74827500000000002,{"$f":"G254*(1-H254)*(1-E242)","v":9.062008261657593E-4},0.79816000000000009,{"$f":"G254*(1-J254)*(1-E242)","v":7.2661664416842511E-4}]
[null,11,5.702815638437983E-2,0,{"$f":"0","v":0},{"$f":"C255*I242+D255*J242+E255*K242","v":5.1599379409148674E-2},{"$f":"((C255*(1-I242))-(D255*J242)+(E255*(1-K242)))*F242*G242","v":3.6191846501541038E-3},{"$f":"0.95*0.9977","v":0.94781499999999996},{"$f":"G255*(1-H255)*(1-E242)","v":1.6998043587146283E-4},0.79816000000000009,{"$f":"G255*(1-J255)*(1-E242)","v":6.5744660680839369E-4}]
[null,12,5.1599379409148674E-2,0,{"$f":"0","v":0},{"$f":"C256*I242+D256*J242+E256*K242","v":4.6687393109178979E-2},{"$f":"((C256*(1-I242))-(D256*J242)+(E256*(1-K242)))*F242*G242","v":3.2746575333131287E-3},0.94781499999999996,{"$f":"G256*(1-H256)*(1-E242)","v":1.5379920303835117E-4},0.79816000000000009,{"$f":"G256*(1-J256)*(1-E242)","v":5.9486118887152944E-4}]
[null,13,4.6687393109178979E-2,0,{"$f":"0","v":0},{"$f":"C257*I242+D257*J242+E257*K242","v":4.2243001762624792E-2},{"$f":"((C257*(1-I242))-(D257*J242)+(E257*(1-K242)))*F242*G242","v":2.9629275643694567E-3},0.94781499999999996,{"$f":"G257*(1-H257)*(1-E242)","v":1.3915833745195818E-4},0.79816000000000009,{"$f":"G257*(1-J257)*(1-E242)","v":5.3823356963309779E-4}]
[null,14,4.2243001762624792E-2,0,{"$f":"0","v":0},{"$f":"C258*I242+D258*J242+E258*K242","v":3.8221692818532743E-2},{"$f":"((C258*(1-I242))-(D258*J242)+(E258*(1-K242)))*F242*G242","v":2.6808726293946978E-3},0.94781499999999996,{"$f":"G258*(1-H258)*(1-E242)","v":1.2591120434846616E-4},0.79816000000000009,{"$f":"G258*(1-J258)*(1-E242)","v":4.8699659836532296E-4}]
[null,15,3.8221692818532743E-2,0,{"$f":"0","v":0},{"$f":"C259*I242+D259*J242+E259*K242","v":3.4583191083897631E-2},{"$f":"((C259*(1-I242))-(D259*J242)+(E259*(1-K242)))*F242*G242","v":2.425667823090076E-3},0.94781499999999996,{"$f":"G259*(1-H259)*(1-E242)","v":1.1392512781316014E-4},0.79816000000000009,{"$f":"G259*(1-J259)*(1-E242)","v":4.4063711407125067E-4}]
[null,16,3.4583191083897631E-2,0,{"$f":"0","v":0},{"$f":"C260*I242+D260*J242+E260*K242","v":3.1291055349737612E-2},{"$f":"((C260*(1-I242))-(D260*J242)+(E260*(1-K242)))*F242*G242","v":2.1947571561066813E-3},0.94781499999999996,{"$f":"G260*(1-H260)*(1-E242)","v":1.0308006197228452E-4},0.79816000000000009,{"$f":"G260*(1-J260)*(1-E242)","v":3.9869080594971511E-4}]
[null,17,3.1291055349737612E-2,0,{"$f":"0","v":0},{"$f":"C261*I242+D261*J242+E261*K242","v":2.8312313416220231E-2},{"$f":"((C261*(1-I242))-(D261*J242)+(E261*(1-K242)))*F242*G242","v":1.9858279556782548E-3},0.94781499999999996,{"$f":"G261*(1-H261)*(1-E242)","v":9.3267388680362824E-5},0.79816000000000009,{"$f":"G261*(1-J261)*(1-E242)","v":3.6073756311668894E-4}]
[null,18,2.8312313416220231E-2,0,{"$f":"0","v":0},{"$f":"C262*I242+D262*J242+E262*K242","v":2.5617131861454E-2},{"$f":"((C262*(1-I242))-(D262*J242)+(E262*(1-K242)))*F242*G242","v":1.7967877031774865E-3},0.94781499999999996,{"$f":"G262*(1-H262)*(1-E242)","v":8.438882966128548E-5},0.79816000000000009,{"$f":"G262*(1-J262)*(1-E242)","v":3.2639726700840939E-4}]
[null,19,2.5617131861454E-2,{"$f":"E262","v":0},{"$f":"0","v":0},{"$f":"C263*I242+D263*J242+E263*K242","v":2.3178517246533473E-2},{"$f":"((C263*(1-I242))-(D263*J242)+(E263*(1-K242)))*F242*G242","v":1.6257430766136833E-3},0.94781499999999996,{"$f":"G263*(1-H263)*(1-E242)","v":7.6355462207776606E-5},0.79816000000000009,{"$f":"G263*(1-J263)*(1-E242)","v":2.9532598432533509E-4}]
[null,20,2.3178517246533473E-2,{"$f":"E263","v":0},{"$f":"0","v":0},{"$f":"C264*I242+D264*J242+E264*K242","v":2.0972045764273799E-2},{"$f":"((C264*(1-I242))-(D264*J242)+(E264*(1-K242)))*F242*G242","v":1.4709809881731173E-3},0.94781499999999996,{"$f":"G264*(1-H264)*(1-E242)","v":6.9086828581032774E-5},0.79816000000000009,{"$f":"G264*(1-J264)*(1-E242)","v":2.672125223875757E-4}]
[null,21,2.0972045764273799E-2,0,{"$f":"0","v":0},{"$f":"C265*I242+D265*J242+E265*K242","v":1.897561862394688E-2},{"$f":"((C265*(1-I242))-(D265*J242)+(E265*(1-K242)))*F242*G242","v":1.3309514268846118E-3},0.94781499999999996,{"$f":"G265*(1-H265)*(1-E242)","v":6.2510130190776165E-5},0.79816000000000009,{"$f":"G265*(1-J265)*(1-E242)","v":2.4177531240215095E-4}]
[null,22,1.897561862394688E-2,0,{"$f":"0","v":0},{"$f":"C266*I242+D266*J242+E266*K242","v":1.7169240722088804E-2},{"$f":"((C266*(1-I242))-(D266*J242)+(E266*(1-K242)))*F242*G242","v":1.2042519345720512E-3},0.94781499999999996,{"$f":"G266*(1-H266)*(1-E242)","v":5.6559498485078287E-5},0.79816000000000009,{"$f":"G266*(1-J266)*(1-E242)","v":2.1875958942662045E-4}]
[null,23,1.7169240722088804E-2,0,{"$f":"0","v":0},{"$f":"C267*I242+D267*J242+E267*K242","v":1.5534820382668419E-2},{"$f":"((C267*(1-I242))-(D267*J242)+(E267*(1-K242)))*F242*G242","v":1.0896135596135895E-3},0.94781499999999996,{"$f":"G267*(1-H267)*(1-E242)","v":5.1175335247591688E-5},0.79816000000000009,{"$f":"G267*(1-J267)*(1-E242)","v":1.9793484078516613E-4}]
[null,24,1.5534820382668419E-2,0,{"$f":"0","v":0},{"$f":"C268*I242+D268*J242+E268*K242","v":1.405598816092608E-2},{"$f":"((C268*(1-I242))-(D268*J242)+(E268*(1-K242)))*F242*G242","v":9.8588814782822566E-4},0.94781499999999996,{"$f":"G268*(1-H268)*(1-E242)","v":4.6303715694974395E-5},0.79816000000000009,{"$f":"G268*(1-J268)*(1-E242)","v":1.7909249738188408E-4}]
[null,25,1.405598816092608E-2,0,{"$f":"0","v":0},{"$f":"C269*I242+D269*J242+E269*K242","v":1.2717932896122571E-2},{"$f":"((C269*(1-I242))-(D269*J242)+(E269*(1-K242)))*F242*G242","v":8.9203684320233859E-4},0.94781499999999996,{"$f":"G269*(1-H269)*(1-E242)","v":4.1895848396262664E-5},0.79816000000000009,{"$f":"G269*(1-J269)*(1-E242)","v":1.6204384478876393E-4}]
[null,26,1.2717932896122571E-2,0,{"$f":"0","v":0},{"$f":"C270*I242+D270*J242+E270*K242","v":1.1507253371193793E-2},{"$f":"((C270*(1-I242))-(D270*J242)+(E270*(1-K242)))*F242*G242","v":8.0711968328585283E-4},0.94781499999999996,{"$f":"G270*(1-H270)*(1-E242)","v":3.7907586605045037E-5},0.79816000000000009,{"$f":"G270*(1-J270)*(1-E242)","v":1.4661813318697482E-4}]
[null,27,1.1507253371193793E-2,0,{"$f":"0","v":0},{"$f":"C271*I242+D271*J242+E271*K242","v":1.0411824093616818E-2},{"$f":"((C271*(1-I242))-(D271*J242)+(E271*(1-K242)))*F242*G242","v":7.3028618505131663E-4},0.94781499999999996,{"$f":"G271*(1-H271)*(1-E242)","v":3.4298986110212688E-5},0.79816000000000009,{"$f":"G271*(1-J271)*(1-E242)","v":1.3266086723168191E-4}]
[null,28,1.0411824093616818E-2,0,{"$f":"0","v":0},{"$f":"C272*I242+D272*J242+E272*K242","v":9.4206738532231805E-3},{"$f":"((C272*(1-I242))-(D272*J242)+(E272*(1-K242)))*F242*G242","v":6.6076682692909109E-4},0.94781499999999996,{"$f":"G272*(1-H272)*(1-E242)","v":3.1033905176965181E-5},0.79816000000000009,{"$f":"G272*(1-J272)*(1-E242)","v":1.2003225871263093E-4}]
[null,29,9.4206738532231805E-3,0,{"$f":"0","v":0},{"$f":"C273*I242+D273*J242+E273*K242","v":8.5238758406619968E-3},{"$f":"((C273*(1-I242))-(D273*J242)+(E273*(1-K242)))*F242*G242","v":5.9786534170745535E-4},0.94781499999999996,{"$f":"G273*(1-H273)*(1-E242)","v":2.8079642571303221E-5},0.79816000000000009,{"$f":"G273*(1-J273)*(1-E242)","v":1.0860582651320946E-4}]
[null,30,8.5238758406619968E-3,0,{"$f":"0","v":0},{"$f":"C274*I242+D274*J242+E274*K242","v":7.7124482260005909E-3},{"$f":"((C274*(1-I242))-(D274*J242)+(E274*(1-K242)))*F242*G242","v":5.4095174310760401E-4},0.94781499999999996,{"$f":"G274*(1-H274)*(1-E242)","v":2.5406610042663304E-5},0.79816000000000009,{"$f":"G274*(1-J274)*(1-E242)","v":9.826712984595487E-5}]
[null,31,7.7124482260005909E-3,0,{"$f":"0","v":0},{"$f":"C275*I242+D275*J242+E275*K242","v":6.9782642017132048E-3},{"$f":"((C275*(1-I242))-(D275*J242)+(E275*(1-K242)))*F242*G242","v":4.894560161915907E-4},0.94781499999999996,{"$f":"G275*(1-H275)*(1-E242)","v":2.2988035984462362E-5},0.79816000000000009,{"$f":"G275*(1-J275)*(1-E242)","v":8.8912622077299563E-5}]
[null,32,6.9782642017132048E-3,0,{"$f":"0","v":0},{"$f":"C276*I242+D276*J242+E276*K242","v":6.3139705890984223E-3},{"$f":"((C276*(1-I242))-(D276*J242)+(E276*(1-K242)))*F242*G242","v":4.4286240840985512E-4},0.94781499999999996,{"$f":"G276*(1-H276)*(1-E242)","v":2.0799697304581476E-5},0.79816000000000009,{"$f":"G276*(1-J276)*(1-E242)","v":8.0448613662100613E-5}]
[null,33,6.3139705890984223E-3,0,{"$f":"0","v":0},{"$f":"C277*I242+D277*J242+E277*K242","v":5.7129141929324612E-3},{"$f":"((C277*(1-I242))-(D277*J242)+(E277*(1-K242)))*F242*G242","v":4.0070426411064095E-4},0.94781499999999996,{"$f":"G277*(1-H277)*(1-E242)","v":1.8819676820352432E-5},0.79816000000000009,{"$f":"G277*(1-J277)*(1-E242)","v":7.2790333801282567E-5}]
[null,34,5.7129141929324612E-3,0,{"$f":"0","v":0},{"$f":"C278*I242+D278*J242+E278*K242","v":5.1690751667675212E-3},{"$f":"((C278*(1-I242))-(D278*J242)+(E278*(1-K242)))*F242*G242","v":3.6255935077662653E-4},0.94781499999999996,{"$f":"G278*(1-H278)*(1-E242)","v":1.7028143748250442E-5},0.79816000000000009,{"$f":"G278*(1-J278)*(1-E242)","v":6.5861081424678833E-5}]
[null,35,5.1690751667675212E-3,0,{"$f":"0","v":0},{"$f":"C279*I242+D279*J242+E279*K242","v":4.6770067214990914E-3},{"$f":"((C279*(1-I242))-(D279*J242)+(E279*(1-K242)))*F242*G242","v":3.2804563017895324E-4},0.94781499999999996,{"$f":"G279*(1-H279)*(1-E242)","v":1.5407155089799818E-5},0.79816000000000009,{"$f":"G279*(1-J279)*(1-E242)","v":5.9591456995787911E-5}]
[null,36,4.6770067214990914E-3,0,{"$f":"0","v":0},{"$f":"C280*I242+D280*J242+E280*K242","v":4.2317805733567658E-3},{"$f":"((C280*(1-I242))-(D280*J242)+(E280*(1-K242)))*F242*G242","v":2.9681743209488391E-4},0.94781499999999996,{"$f":"G280*(1-H280)*(1-E242)","v":1.3940475924484376E-5},0.79816000000000009,{"$f":"G280*(1-J280)*(1-E242)","v":5.3918667444628206E-5}]
[null,37,4.2317805733567658E-3,0,{"$f":"0","v":0},{"$f":"C281*I242+D281*J242+E281*K242","v":3.8289375849560013E-3},{"$f":"((C281*(1-I242))-(D281*J242)+(E281*(1-K242)))*F242*G242","v":2.6856199226717631E-4},0.94781499999999996,{"$f":"G281*(1-H281)*(1-E242)","v":1.2613416809816345E-5},0.79816000000000009,{"$f":"G281*(1-J281)*(1-E242)","v":4.8785897267286161E-5}]
[null,38,3.8289375849560013E-3,0,{"$f":"0","v":0},{"$f":"C282*I242+D282*J242+E282*K242","v":3.4644431050590537E-3},{"$f":"((C282*(1-I242))-(D282*J242)+(E282*(1-K242)))*F242*G242","v":2.4299631993129848E-4},0.94781499999999996,{"$f":"G282*(1-H282)*(1-E242)","v":1.141268666005334E-5},0.79816000000000009,{"$f":"G282*(1-J282)*(1-E242)","v":4.4141739493439936E-5}]
[null,39,3.4644431050590537E-3,0,{"$f":"0","v":0},{"$f":"C283*I242+D283*J242+E283*K242","v":3.134646559752981E-3},{"$f":"((C283*(1-I242))-(D283*J242)+(E283*(1-K242)))*F242*G242","v":2.1986436353738179E-4},0.94781499999999996,{"$f":"G283*(1-H283)*(1-E242)","v":1.0326259630078449E-5},0.79816000000000009,{"$f":"G283*(1-J283)*(1-E242)","v":3.9939680822746607E-5}]
[null,40,3.134646559752981E-3,0,{"$f":"0","v":0},{"$f":"C284*I242+D284*J242+E284*K242","v":2.8362448903324414E-3},{"$f":"((C284*(1-I242))-(D284*J242)+(E284*(1-K242)))*F242*G242","v":1.9893444628035962E-4},0.94781499999999996,{"$f":"G284*(1-H284)*(1-E242)","v":9.3432546712265173E-6},0.79816000000000009,{"$f":"G284*(1-J284)*(1-E242)","v":3.6137635773504992E-5}]
[null,41,2.8362448903324414E-3,0,{"$f":"0","v":0},{"$f":"C285*I242+D285*J242+E285*K242","v":2.5662494717014588E-3},{"$f":"((C285*(1-I242))-(D285*J242)+(E285*(1-K242)))*F242*G242","v":1.7999694575398836E-4},0.94781499999999996,{"$f":"G285*(1-H285)*(1-E242)","v":8.4538265527547021E-6},0.79816000000000009,{"$f":"G285*(1-J285)*(1-E242)","v":3.2697525177886492E-5}]
[null,42,2.5662494717014588E-3,0,{"$f":"0","v":0},{"$f":"C286*I242+D286*J242+E286*K242","v":2.3219561799672742E-3},{"$f":"((C286*(1-I242))-(D286*J242)+(E286*(1-K242)))*F242*G242","v":1.6286219448945631E-4},0.94781499999999996,{"$f":"G286*(1-H286)*(1-E242)","v":7.6490672574890551E-6},0.79816000000000009,{"$f":"G286*(1-J286)*(1-E242)","v":2.9584894802176663E-5}]
[null,43,2.3219561799672742E-3,0,{"$f":"0","v":0},{"$f":"C287*I242+D287*J242+E287*K242","v":2.1009183094399591E-3},{"$f":"((C287*(1-I242))-(D287*J242)+(E287*(1-K242)))*F242*G242","v":1.473585803515434E-4},0.94781499999999996,{"$f":"G287*(1-H287)*(1-E242)","v":6.9209167640807683E-6},0.79816000000000009,{"$f":"G287*(1-J287)*(1-E242)","v":2.6768570272339955E-5}]
[null,44,2.1009183094399591E-3,0,{"$f":"0","v":0},{"$f":"C288*I242+D288*J242+E288*K242","v":1.9009220677895244E-3},{"$f":"((C288*(1-I242))-(D288*J242)+(E288*(1-K242)))*F242*G242","v":1.3333082776695651E-4},0.94781499999999996,{"$f":"G288*(1-H288)*(1-E242)","v":6.2620823223167672E-6},0.79816000000000009,{"$f":"G288*(1-J288)*(1-E242)","v":2.422034484883424E-5}]
[null,45,1.9009220677895244E-3,0,{"$f":"0","v":0},{"$f":"C289*I242+D289*J242+E289*K242","v":1.7199644039336548E-3},{"$f":"((C289*(1-I242))-(D289*J242)+(E289*(1-K242)))*F242*G242","v":1.2063844257057972E-4},0.94781499999999996,{"$f":"G289*(1-H289)*(1-E242)","v":5.6659654129911369E-6},0.79816000000000009,{"$f":"G289*(1-J289)*(1-E242)","v":2.191469692360122E-5}]
[null,46,1.7199644039336548E-3,0,{"$f":"0","v":0},{"$f":"C290*I242+D290*J242+E290*K242","v":1.5562329465925277E-3},{"$f":"((C290*(1-I242))-(D290*J242)+(E290*(1-K242)))*F242*G242","v":1.0915430489408464E-4},0.94781499999999996,{"$f":"G290*(1-H290)*(1-E242)","v":5.1265956608080297E-6},0.79816000000000009,{"$f":"G290*(1-J290)*(1-E242)","v":1.982853440983983E-5}]
[null,47,1.5562329465925277E-3,0,{"$f":"0","v":0},{"$f":"C291*I242+D291*J242+E291*K242","v":1.408087852586443E-3},{"$f":"((C291*(1-I242))-(D291*J242)+(E291*(1-K242)))*F242*G242","v":9.8763396004056481E-5},0.94781499999999996,{"$f":"G291*(1-H291)*(1-E242)","v":4.638571038424522E-6},0.79816000000000009,{"$f":"G291*(1-J291)*(1-E242)","v":1.7940963464512874E-5}]
[null,48,1.408087852586443E-3,0,{"$f":"0","v":0},{"$f":"C292*I242+D292*J242+E292*K242","v":1.2740453830789116E-3},{"$f":"((C292*(1-I242))-(D292*J242)+(E292*(1-K242)))*F242*G242","v":8.9361646338354244E-5},0.94781499999999996,{"$f":"G292*(1-H292)*(1-E242)","v":4.1970037627503184E-6},0.79816000000000009,{"$f":"G292*(1-J292)*(1-E242)","v":1.6233079227240073E-5}]
[null,49,1.2740453830789116E-3,0,{"$f":"0","v":0},{"$f":"C293*I242+D293*J242+E293*K242","v":1.1527630432739938E-3},{"$f":"((C293*(1-I242))-(D293*J242)+(E293*(1-K242)))*F242*G242","v":8.0854893203278588E-5},0.94781499999999996,{"$f":"G293*(1-H293)*(1-E242)","v":3.7974713416317864E-6},0.79816000000000009,{"$f":"G293*(1-J293)*(1-E242)","v":1.468777647973477E-5}]
[null,50,1.1527630432739938E-3,0,{"$f":"0","v":0},{"$f":"C294*I242+D294*J242+E294*K242","v":1.0430261367353605E-3},{"$f":"((C294*(1-I242))-(D294*J242)+(E294*(1-K242)))*F242*G242","v":7.3157937692422195E-5},0.94781499999999996,{"$f":"G294*(1-H294)*(1-E242)","v":3.4359722806311493E-6},0.79816000000000009,{"$f":"G294*(1-J294)*(1-E242)","v":1.3289578329454641E-5}]
[null,51,1.0430261367353605E-3,0,{"$f":"0","v":0},{"$f":"C295*I242+D295*J242+E295*K242","v":9.4373559966262144E-4},{"$f":"((C295*(1-I242))-(D295*J242)+(E295*(1-K242)))*F242*G242","v":6.6193691381826066E-5},0.94781499999999996,{"$f":"G295*(1-H295)*(1-E242)","v":3.108886006284536E-6},0.79816000000000009,{"$f":"G295*(1-J295)*(1-E242)","v":1.2024481201656991E-5}]
[null,52,9.4373559966262144E-4,0,{"$f":"0","v":0},{"$f":"C296*I242+D296*J242+E296*K242","v":8.5389699327979786E-4},{"$f":"((C296*(1-I242))-(D296*J242)+(E296*(1-K242)))*F242*G242","v":5.989240425521571E-5},0.94781499999999996,{"$f":"G296*(1-H296)*(1-E242)","v":2.8129366044525909E-6},0.79816000000000009,{"$f":"G296*(1-J296)*(1-E242)","v":1.087981458738546E-5}]
[null,53,8.5389699327979786E-4,0,{"$f":"0","v":0},{"$f":"C297*I242+D297*J242+E297*K242","v":7.7261054408982914E-4},{"$f":"((C297*(1-I242))-(D297*J242)+(E297*(1-K242)))*F242*G242","v":5.4190966126645788E-5},0.94781499999999996,{"$f":"G297*(1-H297)*(1-E242)","v":2.5451600105871113E-6},0.79816000000000009,{"$f":"G297*(1-J297)*(1-E242)","v":9.8441141427019626E-6}]
[null,54,7.7261054408982914E-4,0,{"$f":"0","v":0},{"$f":"C298*I242+D298*J242+E298*K242","v":6.9906213224384291E-4},{"$f":"((C298*(1-I242))-(D298*J242)+(E298*(1-K242)))*F242*G242","v":4.9032274563990861E-5},0.94781499999999996,{"$f":"G298*(1-H298)*(1-E242)","v":2.3028743233096784E-6},0.79816000000000009,{"$f":"G298*(1-J298)*(1-E242)","v":8.9070068681963206E-6}]
[null,55,6.9906213224384291E-4,0,{"$f":"0","v":0},{"$f":"C299*I242+D299*J242+E299*K242","v":6.32515137769709E-4},{"$f":"((C299*(1-I242))-(D299*J242)+(E299*(1-K242)))*F242*G242","v":4.4364662982755965E-5},0.94781499999999996,{"$f":"G299*(1-H299)*(1-E242)","v":2.0836529439796098E-6},0.79816000000000009,{"$f":"G299*(1-J299)*(1-E242)","v":8.0591072187955149E-6}]
[null,56,6.32515137769709E-4,0,{"$f":"0","v":0},{"$f":"C300*I242+D300*J242+E300*K242","v":5.7230306299624009E-4},{"$f":"((C300*(1-I242))-(D300*J242)+(E300*(1-K242)))*F242*G242","v":4.0141383182312622E-5},0.94781499999999996,{"$f":"G300*(1-H300)*(1-E242)","v":1.885300273232087E-6},0.79816000000000009,{"$f":"G300*(1-J300)*(1-E242)","v":7.2919231033661783E-6}]
[null,57,5.7230306299624009E-4,0,{"$f":"0","v":0},{"$f":"C301*I242+D301*J242+E301*K242","v":5.1782285728334341E-4},{"$f":"((C301*(1-I242))-(D301*J242)+(E301*(1-K242)))*F242*G242","v":3.6320137141931103E-5},0.94781499999999996,{"$f":"G301*(1-H301)*(1-E242)","v":1.7058297210765084E-6},0.79816000000000009,{"$f":"G301*(1-J301)*(1-E242)","v":6.5977708326546335E-6}]
[null,58,5.1782285728334341E-4,0,{"$f":"0","v":0},{"$f":"C302*I242+D302*J242+E302*K242","v":4.6852887720233552E-4},{"$f":"((C302*(1-I242))-(D302*J242)+(E302*(1-K242)))*F242*G242","v":3.2862653387338603E-5},0.94781499999999996,{"$f":"G302*(1-H302)*(1-E242)","v":1.5434438103164397E-6},0.79816000000000009,{"$f":"G302*(1-J302)*(1-E242)","v":5.9696981637303787E-6}]
[null,59,4.6852887720233552E-4,0,{"$f":"0","v":0},{"$f":"C303*I242+D303*J242+E303*K242","v":4.2392742167494577E-4},{"$f":"((C303*(1-I242))-(D303*J242)+(E303*(1-K242)))*F242*G242","v":2.9734303684926493E-5},0.94781499999999996,{"$f":"G303*(1-H303)*(1-E242)","v":1.3965161740181012E-6},0.79816000000000009,{"$f":"G303*(1-J303)*(1-E242)","v":5.401414670189005E-6}]
[null,60,4.2392742167494577E-4,0,{"$f":"0","v":0},{"$f":"C304*I242+D304*J242+E304*K242","v":3.8357178733800239E-4},{"$f":"((C304*(1-I242))-(D304*J242)+(E304*(1-K242)))*F242*G242","v":2.690375622462891E-5},0.94781499999999996,{"$f":"G304*(1-H304)*(1-E242)","v":1.2635752667240346E-6},0.79816000000000009,{"$f":"G304*(1-J304)*(1-E242)","v":4.8872287407411869E-6}]
[null,61,3.8357178733800239E-4,0,{"$f":"0","v":0},{"$f":"C305*I242+D305*J242+E305*K242","v":3.4705779461108403E-4},{"$f":"((C305*(1-I242))-(D305*J242)+(E305*(1-K242)))*F242*G242","v":2.4342661817945578E-5},0.94781499999999996,{"$f":"G305*(1-H305)*(1-E242)","v":1.1432896262725417E-6},0,{"$f":"G305*(1-J305)*(1-E242)","v":2.1908395636151022E-5}]
[null,62,3.4705779461108403E-4,0,{"$f":"0","v":0},{"$f":"C306*I242+D306*J242+E306*K242","v":3.1401973965871987E-4},{"$f":"((C306*(1-I242))-(D306*J242)+(E306*(1-K242)))*F242*G242","v":2.2025369968242755E-5},0.94781499999999996,{"$f":"G306*(1-H306)*(1-E242)","v":1.034454538613474E-6},0,{"$f":"G306*(1-J306)*(1-E242)","v":1.9822832971418479E-5}]
[null,63,3.1401973965871987E-4,0,{"$f":"0","v":0},{"$f":"C307*I242+D307*J242+E307*K242","v":2.8412673170424434E-4},{"$f":"((C307*(1-I242))-(D307*J242)+(E307*(1-K242)))*F242*G242","v":1.9928671969650347E-5},0.94781499999999996,{"$f":"G307*(1-H307)*(1-E242)","v":9.3597997206258377E-7},0,{"$f":"G307*(1-J307)*(1-E242)","v":1.7935804772685311E-5}]
[null,64,2.8412673170424434E-4,0,{"$f":"0","v":0},{"$f":"C308*I242+D308*J242+E308*K242","v":2.5707937901187907E-4},{"$f":"((C308*(1-I242))-(D308*J242)+(E308*(1-K242)))*F242*G242","v":1.8031568461576826E-5},0.94781499999999996,{"$f":"G308*(1-H308)*(1-E242)","v":8.4687966015064863E-7},0,{"$f":"G308*(1-J308)*(1-E242)","v":1.6228411615419146E-5}]
[null,65,2.5707937901187907E-4,0,{"$f":"0","v":0},{"$f":"C309*I242+D309*J242+E309*K242","v":2.3260679034568332E-4},{"$f":"((C309*(1-I242))-(D309*J242)+(E309*(1-K242)))*F242*G242","v":1.6315059110797165E-5},0.94781499999999996,{"$f":"G309*(1-H309)*(1-E242)","v":7.6626122372725563E-7},0,{"$f":"G309*(1-J309)*(1-E242)","v":1.4683553199717449E-5}]
[null,66,{"$f":"F309","v":2.3260679034568332E-4},0,{"$f":"0","v":0},{"$f":"C310*I242+D310*J242+E310*K242","v":2.1046386187365326E-4},{"$f":"((C310*(1-I242))-(D310*J242)+(E310*(1-K242)))*F242*G242","v":1.4761952314686696E-5},0.94781499999999996,{"$f":"G310*(1-H310)*(1-E242)","v":6.9331723338773329E-7},0,{"$f":"G310*(1-J310)*(1-E242)","v":1.3285757083218027E-5}]
[null,67,2.1046386187365326E-4,0,{"$f":"0","v":0},{"$f":"C311*I242+D311*J242+E311*K242","v":1.9042882234411186E-4},{"$f":"((C311*(1-I242))-(D311*J242)+(E311*(1-K242)))*F242*G242","v":1.3356693019694271E-5},0.94781499999999996,{"$f":"G311*(1-H311)*(1-E242)","v":6.2731712270947149E-7},0,{"$f":"G311*(1-J311)*(1-E242)","v":1.2021023717724844E-5}]
[null,68,1.9042882234411186E-4,0,{"$f":"0","v":0},{"$f":"C312*I242+D312*J242+E312*K242","v":1.723010119482412E-4},{"$f":"((C312*(1-I242))-(D312*J242)+(E312*(1-K242)))*F242*G242","v":1.2085206930580442E-5},0.94781499999999996,{"$f":"G312*(1-H312)*(1-E242)","v":5.6759987130510681E-7},0,{"$f":"G312*(1-J312)*(1-E242)","v":1.0876686237522398E-5}]
[null,69,1.723010119482412E-4,0,{"$f":"0","v":0},{"$f":"C313*I242+D313*J242+E313*K242","v":1.5589887262308069E-4},{"$f":"((C313*(1-I242))-(D313*J242)+(E313*(1-K242)))*F242*G242","v":1.093475955010701E-5},0.94781499999999996,{"$f":"G313*(1-H313)*(1-E242)","v":5.1356738441010127E-7},0,{"$f":"G313*(1-J313)*(1-E242)","v":9.8412835950963093E-6}]
[null,70,1.5589887262308069E-4,0,{"$f":"0","v":0},{"$f":"C314*I242+D314*J242+E314*K242","v":1.4105812966698383E-4},{"$f":"((C314*(1-I242))-(D314*J242)+(E314*(1-K242)))*F242*G242","v":9.8938286373979069E-6},0.94781499999999996,{"$f":"G314*(1-H314)*(1-E242)","v":4.646785026983492E-7},0,{"$f":"G314*(1-J314)*(1-E242)","v":8.9044457736581172E-6}]
[null,71,1.4105812966698383E-4,0,{"$f":"0","v":0},{"$f":"C315*I242+D315*J242+E315*K242","v":1.276301464556058E-4},{"$f":"((C315*(1-I242))-(D315*J242)+(E315*(1-K242)))*F242*G242","v":8.9519888075853461E-6},0.94781499999999996,{"$f":"G315*(1-H315)*(1-E242)","v":4.2044358233145743E-7},0,{"$f":"G315*(1-J315)*(1-E242)","v":8.0567899268268123E-6}]
[null,72,1.276301464556058E-4,0,{"$f":"0","v":0},{"$f":"C316*I242+D316*J242+E316*K242","v":1.1548043578017261E-4},{"$f":"((C316*(1-I242))-(D316*J242)+(E316*(1-K242)))*F242*G242","v":8.099807116955459E-6},0.94781499999999996,{"$f":"G316*(1-H316)*(1-E242)","v":3.8041959095848883E-7},0,{"$f":"G316*(1-J316)*(1-E242)","v":7.2898264052599129E-6}]
[null,73,1.1548043578017261E-4,0,{"$f":"0","v":0},{"$f":"C317*I242+D317*J242+E317*K242","v":1.0448731289842405E-4},{"$f":"((C317*(1-I242))-(D317*J242)+(E317*(1-K242)))*F242*G242","v":7.3287485878323733E-6},0.94781499999999996,{"$f":"G317*(1-H317)*(1-E242)","v":3.4420567055042938E-7},0,{"$f":"G317*(1-J317)*(1-E242)","v":6.5958737290491361E-6}]
[null,74,1.0448731289842405E-4,0,{"$f":"0","v":0},{"$f":"C318*I242+D318*J242+E318*K242","v":9.4540676807938306E-5},{"$f":"((C318*(1-I242))-(D318*J242)+(E318*(1-K242)))*F242*G242","v":6.6310907269905012E-6},0.94781499999999996,{"$f":"G318*(1-H318)*(1-E242)","v":3.1143912262919961E-7},0,{"$f":"G318*(1-J318)*(1-E242)","v":5.9679816542914514E-6}]
[null,75,9.4540676807938306E-5,0,{"$f":"0","v":0},{"$f":"C319*I242+D319*J242+E319*K242","v":8.554090753574974E-5},{"$f":"((C319*(1-I242))-(D319*J242)+(E319*(1-K242)))*F242*G242","v":5.9998461814590413E-6},{"$f":"0.95*0.9977","v":0.94781499999999996},{"$f":"G319*(1-H319)*(1-E242)","v":2.8179177568149631E-7},0,{"$f":"G319*(1-J319)*(1-E242)","v":5.3998615633131373E-6}]
[null,76,8.554090753574974E-5,0,{"$f":"0","v":0},{"$f":"C320*I242+D320*J242+E320*K242","v":7.7397868400126362E-5},{"$f":"((C320*(1-I242))-(D320*J242)+(E320*(1-K242)))*F242*G242","v":5.4286927570822555E-6},0.94781499999999996,{"$f":"G320*(1-H320)*(1-E242)","v":2.5496669837550395E-7},0,{"$f":"G320*(1-J320)*(1-E242)","v":4.8858234813740301E-6}]
[null,77,7.7397868400126362E-5,0,{"$f":"0","v":0},{"$f":"C321*I242+D321*J242+E321*K242","v":7.0030003251715837E-5},{"$f":"((C321*(1-I242))-(D321*J242)+(E321*(1-K242)))*F242*G242","v":4.9119100989403467E-6},0.94781499999999996,{"$f":"G321*(1-H321)*(1-E242)","v":2.3069522566188199E-7},0,{"$f":"G321*(1-J321)*(1-E242)","v":4.4207190890463124E-6}]
[null,78,7.0030003251715837E-5,0,{"$f":"0","v":0},{"$f":"C322*I242+D322*J242+E322*K242","v":6.336351965252992E-5},{"$f":"((C322*(1-I242))-(D322*J242)+(E322*(1-K242)))*F242*G242","v":4.4443223994572788E-6},0.94781499999999996,{"$f":"G322*(1-H322)*(1-E242)","v":2.0873426797411043E-7},0,{"$f":"G322*(1-J322)*(1-E242)","v":3.9998901595115512E-6}]
[null,79,6.336351965252992E-5,0,{"$f":"0","v":0},{"$f":"C323*I242+D323*J242+E323*K242","v":5.7331649811942187E-5},{"$f":"((C323*(1-I242))-(D323*J242)+(E323*(1-K242)))*F242*G242","v":4.0212465603918197E-6},0.94781499999999996,{"$f":"G323*(1-H323)*(1-E242)","v":1.8886387657864255E-7},0,{"$f":"G323*(1-J323)*(1-E242)","v":3.6191219043526377E-6}]
[null,80,5.7331649811942187E-5,0,{"$f":"0","v":0},{"$f":"C324*I242+D324*J242+E324*K242","v":5.187398187764549E-5},{"$f":"((C324*(1-I242))-(D324*J242)+(E324*(1-K242)))*F242*G242","v":3.6384452895311325E-6},0.94781499999999996,{"$f":"G324*(1-H324)*(1-E242)","v":1.7088504069076405E-7},0,{"$f":"G324*(1-J324)*(1-E242)","v":3.2746007605780193E-6}]
[null,81,5.187398187764549E-5,0,{"$f":"0","v":0},{"$f":"C325*I242+D325*J242+E325*K242","v":4.6935854884151198E-5},{"$f":"((C325*(1-I242))-(D325*J242)+(E325*(1-K242)))*F242*G242","v":3.2920846623295295E-6},0.94781499999999996,{"$f":"G325*(1-H325)*(1-E242)","v":1.5461769429329997E-7},0,{"$f":"G325*(1-J325)*(1-E242)","v":2.9628761960965767E-6}]
[null,82,4.6935854884151198E-5,0,{"$f":"0","v":0},{"$f":"C326*I242+D326*J242+E326*K242","v":4.2467811298971185E-5},{"$f":"((C326*(1-I242))-(D326*J242)+(E326*(1-K242)))*F242*G242","v":2.9786957234533403E-6},0.94781499999999996,{"$f":"G326*(1-H326)*(1-E242)","v":1.3989891269557141E-7},0,{"$f":"G326*(1-J326)*(1-E242)","v":2.6808261511080064E-6}]
[null,83,4.2467811298971185E-5,0,{"$f":"0","v":0},{"$f":"C327*I242+D327*J242+E327*K242","v":3.8425101683489664E-5},{"$f":"((C327*(1-I242))-(D327*J242)+(E327*(1-K242)))*F242*G242","v":2.6951397436543479E-6},0.94781499999999996,{"$f":"G327*(1-H327)*(1-E242)","v":1.2658128077034203E-7},0,{"$f":"G327*(1-J327)*(1-E242)","v":2.4256257692889131E-6}]
[null,84,3.8425101683489664E-5,{"$f":"E327","v":0},{"$f":"0","v":0},{"$f":"C328*I242+D328*J242+E328*K242","v":3.476723650748371E-5},{"$f":"((C328*(1-I242))-(D328*J242)+(E328*(1-K242)))*F242*G242","v":2.4385767840039695E-6},0.94781499999999996,{"$f":"G328*(1-H328)*(1-E242)","v":1.1453141652592251E-7},0,{"$f":"G328*(1-J328)*(1-E242)","v":2.1947191056035725E-6}]
[null,85,3.476723650748371E-5,0,{"$f":"0","v":0},{"$f":"C329*I242+D329*J242+E329*K242","v":3.145758062851616E-5},{"$f":"((C329*(1-I242))-(D329*J242)+(E329*(1-K242)))*F242*G242","v":2.2064372526450344E-6},0.94781499999999996,{"$f":"G329*(1-H329)*(1-E242)","v":1.0362863522635308E-7},0,{"$f":"G329*(1-J329)*(1-E242)","v":1.9857935273805309E-6}]
[null,86,3.145758062851616E-5,0,{"$f":"0","v":0},{"$f":"C330*I242+D330*J242+E330*K242","v":2.8462986374732038E-5},{"$f":"((C330*(1-I242))-(D330*J242)+(E330*(1-K242)))*F242*G242","v":1.9963961691894148E-6},0.94781499999999996,{"$f":"G330*(1-H330)*(1-E242)","v":9.3763740680234718E-8},0,{"$f":"G330*(1-J330)*(1-E242)","v":1.7967565522704733E-6}]
[null,87,2.8462986374732038E-5,0,{"$f":"0","v":0},{"$f":"C331*I242+D331*J242+E331*K242","v":2.575346155621999E-5},{"$f":"((C331*(1-I242))-(D331*J242)+(E331*(1-K242)))*F242*G242","v":1.8063498790080311E-6},0.94781499999999996,{"$f":"G331*(1-H331)*(1-E242)","v":8.4837931592430748E-8},0,{"$f":"G331*(1-J331)*(1-E242)","v":1.6257148911072281E-6}]
[null,88,2.575346155621999E-5,0,{"$f":"0","v":0},{"$f":"C332*I242+D332*J242+E332*K242","v":2.3301869079925209E-5},{"$f":"((C332*(1-I242))-(D332*J242)+(E332*(1-K242)))*F242*G242","v":1.6343949841965209E-6},0.94781499999999996,{"$f":"G332*(1-H332)*(1-E242)","v":7.676181202526595E-8},0,{"$f":"G332*(1-J332)*(1-E242)","v":1.4709554857768689E-6}]
[null,89,2.3301869079925209E-5,0,{"$f":"0","v":0},{"$f":"C333*I242+D333*J242+E333*K242","v":2.1083655159623945E-5},{"$f":"((C333*(1-I242))-(D333*J242)+(E333*(1-K242)))*F242*G242","v":1.4788092802008429E-6},0.94781499999999996,{"$f":"G333*(1-H333)*(1-E242)","v":6.9454496058552933E-8},0,{"$f":"G333*(1-J333)*(1-E242)","v":1.3309283521807587E-6}]
[null,90,2.1083655159623945E-5,0,{"$f":"0","v":0},{"$f":"C334*I242+D334*J242+E334*K242","v":1.9076603398861948E-5},{"$f":"((C334*(1-I242))-(D334*J242)+(E334*(1-K242)))*F242*G242","v":1.3380345071746642E-6},0.94781499999999996,{"$f":"G334*(1-H334)*(1-E242)","v":6.284279768121891E-8},0,{"$f":"G334*(1-J334)*(1-E242)","v":1.2042310564571977E-6}]
[null,91,1.9076603398861948E-5,0,{"$f":"0","v":0},{"$f":"C335*I242+D335*J242+E335*K242","v":1.7260612283888359E-5},{"$f":"((C335*(1-I242))-(D335*J242)+(E335*(1-K242)))*F242*G242","v":1.2106607433157261E-6},0.94781499999999996,{"$f":"G335*(1-H335)*(1-E242)","v":5.6860497800938093E-8},0,{"$f":"G335*(1-J335)*(1-E242)","v":1.0895946689841537E-6}]
[null,92,1.7260612283888359E-5,0,{"$f":"0","v":0},{"$f":"C336*I242+D336*J242+E336*K242","v":1.5617493858078069E-5},{"$f":"((C336*(1-I242))-(D336*J242)+(E336*(1-K242)))*F242*G242","v":1.0954122838735259E-6},0.94781499999999996,{"$f":"G336*(1-H336)*(1-E242)","v":5.1447681030545993E-8},0,{"$f":"G336*(1-J336)*(1-E242)","v":9.8587105548617329E-7}]
[null,93,1.5617493858078069E-5,0,{"$f":"0","v":0},{"$f":"C337*I242+D337*J242+E337*K242","v":1.4130791561477599E-5},{"$f":"((C337*(1-I242))-(D337*J242)+(E337*(1-K242)))*F242*G242","v":9.9113486440031282E-7},0.94781499999999996,{"$f":"G337*(1-H337)*(1-E242)","v":4.6550135608857331E-8},0,{"$f":"G337*(1-J337)*(1-E242)","v":8.920213779602816E-7}]
[null,94,1.4130791561477599E-5,0,{"$f":"0","v":0},{"$f":"C338*I242+D338*J242+E338*K242","v":1.2785615411056713E-5},{"$f":"((C338*(1-I242))-(D338*J242)+(E338*(1-K242)))*F242*G242","v":8.9678410028059021E-7},0.94781499999999996,{"$f":"G338*(1-H338)*(1-E242)","v":4.2118810445828367E-8},0,{"$f":"G338*(1-J338)*(1-E242)","v":8.0710569025253119E-7}]
[null,95,1.2785615411056713E-5,0,{"$f":"0","v":0},{"$f":"C339*I242+D339*J242+E339*K242","v":1.1568492870922889E-5},{"$f":"((C339*(1-I242))-(D339*J242)+(E339*(1-K242)))*F242*G242","v":8.1141502675588231E-7},0.94781499999999996,{"$f":"G339*(1-H339)*(1-E242)","v":3.8109323854130171E-8},0,{"$f":"G339*(1-J339)*(1-E242)","v":7.3027352408029408E-7}]
[null,96,1.1568492870922889E-5,0,{"$f":"0","v":0},{"$f":"C340*I242+D340*J242+E340*K242","v":1.0467233918897678E-5},{"$f":"((C340*(1-I242))-(D340*J242)+(E340*(1-K242)))*F242*G242","v":7.3417263468347368E-7},0.94781499999999996,{"$f":"G340*(1-H340)*(1-E242)","v":3.4481519046861396E-8},0,{"$f":"G340*(1-J340)*(1-E242)","v":6.6075537121512634E-7}]
[null,97,1.0467233918897678E-5,0,{"$f":"0","v":0},{"$f":"C341*I242+D341*J242+E341*K242","v":9.47080895803686E-6},{"$f":"((C341*(1-I242))-(D341*J242)+(E341*(1-K242)))*F242*G242","v":6.6428330724054544E-7},0.94781499999999996,{"$f":"G341*(1-H341)*(1-E242)","v":3.1199061949513104E-8},0,{"$f":"G341*(1-J341)*(1-E242)","v":5.9785497651649091E-7}]
[null,98,9.47080895803686E-6,0,{"$f":"0","v":0},{"$f":"C342*I242+D342*J242+E342*K242","v":8.5692383503241024E-6},{"$f":"((C342*(1-I242))-(D342*J242)+(E342*(1-K242)))*F242*G242","v":6.0104707180850482E-7},0.94781499999999996,{"$f":"G342*(1-H342)*(1-E242)","v":2.822907729809416E-8},0,{"$f":"G342*(1-J342)*(1-E242)","v":5.409423646276544E-7}]
[null,99,8.5692383503241024E-6,0,{"$f":"0","v":0},{"$f":"C343*I242+D343*J242+E343*K242","v":7.7534924661690711E-6},{"$f":"((C343*(1-I242))-(D343*J242)+(E343*(1-K242)))*F242*G242","v":5.4383058943668729E-7},0.94781499999999996,{"$f":"G343*(1-H343)*(1-E242)","v":2.5541819378778192E-8},0,{"$f":"G343*(1-J343)*(1-E242)","v":4.8944753049301856E-7}]
[null,100,7.7534924661690711E-6,0,{"$f":"0","v":0},{"$f":"C344*I242+D344*J242+E344*K242","v":7.0154012486613634E-6},{"$f":"((C344*(1-I242))-(D344*J242)+(E344*(1-K242)))*F242*G242","v":4.9206081167180529E-7},0.94781499999999996,{"$f":"G344*(1-H344)*(1-E242)","v":2.311037411138386E-8},0,{"$f":"G344*(1-J344)*(1-E242)","v":4.4285473050462478E-7}]
[null,"Sum of Emissions over 100 years",null,null,null,null,{"$f":"SUM(G245:G344)","v":9.3497276690406625E-2},null,{"$f":"SUM(I245:I344)","v":2.2134404265090592E-2},null,{"$f":"SUM(K245:K344)","v":2.6950457232807309E-2}]
[]
[null,"Section 7.3 IPCC First Order Decay Model for Other Organic Waste"]
[null,null,"ANDOC (MT C/dry short ton waste)","Decay Rate (k)","Oxidation Factor","FCH4","Mass CH4:C","M (months)","ANDOCys","ANDOCdly","ANDOCdsy"]
[null,null,{"$f":"'Site-Specific Inputs'!C30*'Site-Specific Inputs'!C31*'CA-GREET4.0'!M14","v":0},{"$f":"'Site-Specific Inputs'!C32","v":0},0.1,0.5,{"$f":"'CA-GREET4.0'!E11/'CA-GREET4.0'!E10","v":1.3333333333333333},6,{"$f":"EXP(-D349)","v":1},{"$f":"((1/D349)*(EXP(-(D349*(1-H349/12)))-EXP(-D349))-((H349/12)*EXP(-D349)))","v":{"$error":"#DIV/0!"}},{"$f":"((1/D349)*(1-EXP(-(D349*(1-H349/12))))+(H349/12))","v":{"$error":"#DIV/0!"}}]
[null,"Methane Generation",null,null,null,null,null,"Gas Collection Scenario 1: Typical Phased",null,"Gas Collection Scenario 2: Phased with Shutdown "]
[null,"Year","ANDOC ys","ANDOC dly","ANDOC dsy","ANDOC ye","MT CH4 Gen/dry short ton ","Gas Collection Efficiency (%)","MT CH4 Emitted/dry short ton ","Gas Collection Efficiency (%)","MT CH4 Emitted/dry short ton "]
[null,1,0,0,{"$f":"C349","v":0},{"$f":"C352*I349+D352*J349+E352*K349","v":{"$error":"#DIV/0!"}},{"$f":"((C352*(1-I349))-(D352*J349)+(E352*(1-K349)))*F349*G349","v":{"$error":"#DIV/0!"}},0,{"$f":"G352*(1-H352)*(1-E349)","v":{"$error":"#DIV/0!"}},0,{"$f":"G352*(1-J352)*(1-E349)","v":{"$error":"#DIV/0!"}}]
[null,2,{"$f":"F352","v":{"$error":"#DIV/0!"}},{"$f":"E352","v":0},{"$f":"0","v":0},{"$f":"C353*I349+D353*J349+E353*K349","v":{"$error":"#DIV/0!"}},{"$f":"((C353*(1-I349))-(D353*J349)+(E353*(1-K349)))*F349*G349","v":{"$error":"#DIV/0!"}},0,{"$f":"G353*(1-H353)*(1-E349)","v":{"$error":"#DIV/0!"}},0,{"$f":"G353*(1-J353)*(1-E349)","v":{"$error":"#DIV/0!"}}]
[null,3,{"$error":"#DIV/0!"},0,{"$f":"0","v":0},{"$f":"C354*I349+D354*J349+E354*K349","v":{"$error":"#DIV/0!"}},{"$f":"((C354*(1-I349))-(D354*J349)+(E354*(1-K349)))*F349*G349","v":{"$error":"#DIV/0!"}},{"$f":"0.5*0.9977","v":0.49885000000000002},{"$f":"G354*(1-H354)*(1-E349)","v":{"$error":"#DIV/0!"}},{"$f":"0.5*0.9977","v":0.49885000000000002},{"$f":"G354*(1-J354)*(1-E349)","v":{"$error":"#DIV/0!"}}]
[null,4,{"$error":"#DIV/0!"},0,{"$f":"0","v":0},{"$f":"C355*I349+D355*J349+E355*K349","v":{"$error":"#DIV/0!"}},{"$f":"((C355*(1-I349))-(D355*J349)+(E355*(1-K349)))*F349*G349","v":{"$error":"#DIV/0!"}},{"$f":"0.75*0.9977","v":0.74827500000000002},{"$f":"G355*(1-H355)*(1-E349)","v":{"$error":"#DIV/0!"}},{"$f":"0.7*0.9977","v":0.69838999999999996},{"$f":"G355*(1-J355)*(1-E349)","v":{"$error":"#DIV/0!"}}]
[null,5,{"$error":"#DIV/0!"},0,{"$f":"0","v":0},{"$f":"C356*I349+D356*J349+E356*K349","v":{"$error":"#DIV/0!"}},{"$f":"((C356*(1-I349))-(D356*J349)+(E356*(1-K349)))*F349*G349","v":{"$error":"#DIV/0!"}},0.74827500000000002,{"$f":"G356*(1-H356)*(1-E349)","v":{"$error":"#DIV/0!"}},{"$f":"0.7*0.9977","v":0.69838999999999996},{"$f":"G356*(1-J356)*(1-E349)","v":{"$error":"#DIV/0!"}}]
[null,6,{"$error":"#DIV/0!"},0,{"$f":"0","v":0},{"$f":"C357*I349+D357*J349+E357*K349","v":{"$error":"#DIV/0!"}},{"$f":"((C357*(1-I349))-(D357*J349)+(E357*(1-K349)))*F349*G349","v":{"$error":"#DIV/0!"}},0.74827500000000002,{"$f":"G357*(1-H357)*(1-E349)","v":{"$error":"#DIV/0!"}},{"$f":"0.8*0.9977","v":0.79816000000000009},{"$f":"G357*(1-J357)*(1-E349)","v":{"$error":"#DIV/0!"}}]
[null,7,{"$error":"#DIV/0!"},0,{"$f":"0","v":0},{"$f":"C358*I349+D358*J349+E358*K349","v":{"$error":"#DIV/0!"}},{"$f":"((C358*(1-I349))-(D358*J349)+(E358*(1-K349)))*F349*G349","v":{"$error":"#DIV/0!"}},0.74827500000000002,{"$f":"G358*(1-H358)*(1-E349)","v":{"$error":"#DIV/0!"}},0.79816000000000009,{"$f":"G358*(1-J358)*(1-E349)","v":{"$error":"#DIV/0!"}}]
[null,8,{"$error":"#DIV/0!"},0,{"$f":"0","v":0},{"$f":"C359*I349+D359*J349+E359*K349","v":{"$error":"#DIV/0!"}},{"$f":"((C359*(1-I349))-(D359*J349)+(E359*(1-K349)))*F349*G349","v":{"$error":"#DIV/0!"}},0.74827500000000002,{"$f":"G359*(1-H359)*(1-E349)","v":{"$error":"#DIV/0!"}},0.79816000000000009,{"$f":"G359*(1-J359)*(1-E349)","v":{"$error":"#DIV/0!"}}]
[null,9,{"$error":"#DIV/0!"},0,{"$f":"0","v":0},{"$f":"C360*I349+D360*J349+E360*K349","v":{"$error":"#DIV/0!"}},{"$f":"((C360*(1-I349))-(D360*J349)+(E360*(1-K349)))*F349*G349","v":{"$error":"#DIV/0!"}},0.74827500000000002,{"$f":"G360*(1-H360)*(1-E349)","v":{"$error":"#DIV/0!"}},0.79816000000000009,{"$f":"G360*(1-J360)*(1-E349)","v":{"$error":"#DIV/0!"}}]
[null,10,{"$error":"#DIV/0!"},0,{"$f":"0","v":0},{"$f":"C361*I349+D361*J349+E361*K349","v":{"$error":"#DIV/0!"}},{"$f":"((C361*(1-I349))-(D361*J349)+(E361*(1-K349)))*F349*G349","v":{"$error":"#DIV/0!"}},0.74827500000000002,{"$f":"G361*(1-H361)*(1-E349)","v":{"$error":"#DIV/0!"}},0.79816000000000009,{"$f":"G361*(1-J361)*(1-E349)","v":{"$error":"#DIV/0!"}}]
[null,11,{"$error":"#DIV/0!"},0,{"$f":"0","v":0},{"$f":"C362*I349+D362*J349+E362*K349","v":{"$error":"#DIV/0!"}},{"$f":"((C362*(1-I349))-(D362*J349)+(E362*(1-K349)))*F349*G349","v":{"$error":"#DIV/0!"}},{"$f":"0.95*0.9977","v":0.94781499999999996},{"$f":"G362*(1-H362)*(1-E349)","v":{"$error":"#DIV/0!"}},0.79816000000000009,{"$f":"G362*(1-J362)*(1-E349)","v":{"$error":"#DIV/0!"}}]
[null,12,{"$error":"#DIV/0!"},0,{"$f":"0","v":0},{"$f":"C363*I349+D363*J349+E363*K349","v":{"$error":"#DIV/0!"}},{"$f":"((C363*(1-I349))-(D363*J349)+(E363*(1-K349)))*F349*G349","v":{"$error":"#DIV/0!"}},0.94781499999999996,{"$f":"G363*(1-H363)*(1-E349)","v":{"$error":"#DIV/0!"}},0.79816000000000009,{"$f":"G363*(1-J363)*(1-E349)","v":{"$error":"#DIV/0!"}}]
[null,13,{"$error":"#DIV/0!"},0,{"$f":"0","v":0},{"$f":"C364*I349+D364*J349+E364*K349","v":{"$error":"#DIV/0!"}},{"$f":"((C364*(1-I349))-(D364*J349)+(E364*(1-K349)))*F349*G349","v":{"$error":"#DIV/0!"}},0.94781499999999996,{"$f":"G364*(1-H364)*(1-E349)","v":{"$error":"#DIV/0!"}},0.79816000000000009,{"$f":"G364*(1-J364)*(1-E349)","v":{"$error":"#DIV/0!"}}]
[null,14,{"$error":"#DIV/0!"},0,{"$f":"0","v":0},{"$f":"C365*I349+D365*J349+E365*K349","v":{"$error":"#DIV/0!"}},{"$f":"((C365*(1-I349))-(D365*J349)+(E365*(1-K349)))*F349*G349","v":{"$error":"#DIV/0!"}},0.94781499999999996,{"$f":"G365*(1-H365)*(1-E349)","v":{"$error":"#DIV/0!"}},0.79816000000000009,{"$f":"G365*(1-J365)*(1-E349)","v":{"$error":"#DIV/0!"}}]
[null,15,{"$error":"#DIV/0!"},0,{"$f":"0","v":0},{"$f":"C366*I349+D366*J349+E366*K349","v":{"$error":"#DIV/0!"}},{"$f":"((C366*(1-I349))-(D366*J349)+(E366*(1-K349)))*F349*G349","v":{"$error":"#DIV/0!"}},0.94781499999999996,{"$f":"G366*(1-H366)*(1-E349)","v":{"$error":"#DIV/0!"}},0.79816000000000009,{"$f":"G366*(1-J366)*(1-E349)","v":{"$error":"#DIV/0!"}}]
[null,16,{"$error":"#DIV/0!"},0,{"$f":"0","v":0},{"$f":"C367*I349+D367*J349+E367*K349","v":{"$error":"#DIV/0!"}},{"$f":"((C367*(1-I349))-(D367*J349)+(E367*(1-K349)))*F349*G349","v":{"$error":"#DIV/0!"}},0.94781499999999996,{"$f":"G367*(1-H367)*(1-E349)","v":{"$error":"#DIV/0!"}},0.79816000000000009,{"$f":"G367*(1-J367)*(1-E349)","v":{"$error":"#DIV/0!"}}]
[null,17,{"$error":"#DIV/0!"},0,{"$f":"0","v":0},{"$f":"C368*I349+D368*J349+E368*K349","v":{"$error":"#DIV/0!"}},{"$f":"((C368*(1-I349))-(D368*J349)+(E368*(1-K349)))*F349*G349","v":{"$error":"#DIV/0!"}},0.94781499999999996,{"$f":"G368*(1-H368)*(1-E349)","v":{"$error":"#DIV/0!"}},0.79816000000000009,{"$f":"G368*(1-J368)*(1-E349)","v":{"$error":"#DIV/0!"}}]
[null,18,{"$error":"#DIV/0!"},0,{"$f":"0","v":0},{"$f":"C369*I349+D369*J349+E369*K349","v":{"$error":"#DIV/0!"}},{"$f":"((C369*(1-I349))-(D369*J349)+(E369*(1-K349)))*F349*G349","v":{"$error":"#DIV/0!"}},0.94781499999999996,{"$f":"G369*(1-H369)*(1-E349)","v":{"$error":"#DIV/0!"}},0.79816000000000009,{"$f":"G369*(1-J369)*(1-E349)","v":{"$error":"#DIV/0!"}}]
[null,19,{"$error":"#DIV/0!"},{"$f":"E369","v":0},{"$f":"0","v":0},{"$f":"C370*I349+D370*J349+E370*K349","v":{"$error":"#DIV/0!"}},{"$f":"((C370*(1-I349))-(D370*J349)+(E370*(1-K349)))*F349*G349","v":{"$error":"#DIV/0!"}},0.94781499999999996,{"$f":"G370*(1-H370)*(1-E349)","v":{"$error":"#DIV/0!"}},0.79816000000000009,{"$f":"G370*(1-J370)*(1-E349)","v":{"$error":"#DIV/0!"}}]
[null,20,{"$error":"#DIV/0!"},{"$f":"E370","v":0},{"$f":"0","v":0},{"$f":"C371*I349+D371*J349+E371*K349","v":{"$error":"#DIV/0!"}},{"$f":"((C371*(1-I349))-(D371*J349)+(E371*(1-K349)))*F349*G349","v":{"$error":"#DIV/0!"}},0.94781499999999996,{"$f":"G371*(1-H371)*(1-E349)","v":{"$error":"#DIV/0!"}},0.79816000000000009,{"$f":"G371*(1-J371)*(1-E349)","v":{"$error":"#DIV/0!"}}]
[null,21,{"$error":"#DIV/0!"},0,{"$f":"0","v":0},{"$f":"C372*I349+D372*J349+E372*K349","v":{"$error":"#DIV/0!"}},{"$f":"((C372*(1-I349))-(D372*J349)+(E372*(1-K349)))*F349*G349","v":{"$error":"#DIV/0!"}},0.94781499999999996,{"$f":"G372*(1-H372)*(1-E349)","v":{"$error":"#DIV/0!"}},0.79816000000000009,{"$f":"G372*(1-J372)*(1-E349)","v":{"$error":"#DIV/0!"}}]
[null,22,{"$error":"#DIV/0!"},0,{"$f":"0","v":0},{"$f":"C373*I349+D373*J349+E373*K349","v":{"$error":"#DIV/0!"}},{"$f":"((C373*(1-I349))-(D373*J349)+(E373*(1-K349)))*F349*G349","v":{"$error":"#DIV/0!"}},0.94781499999999996,{"$f":"G373*(1-H373)*(1-E349)","v":{"$error":"#DIV/0!"}},0.79816000000000009,{"$f":"G373*(1-J373)*(1-E349)","v":{"$error":"#DIV/0!"}}]
[null,23,{"$error":"#DIV/0!"},0,{"$f":"0","v":0},{"$f":"C374*I349+D374*J349+E374*K349","v":{"$error":"#DIV/0!"}},{"$f":"((C374*(1-I349))-(D374*J349)+(E374*(1-K349)))*F349*G349","v":{"$error":"#DIV/0!"}},0.94781499999999996,{"$f":"G374*(1-H374)*(1-E349)","v":{"$error":"#DIV/0!"}},0.79816000000000009,{"$f":"G374*(1-J374)*(1-E349)","v":{"$error":"#DIV/0!"}}]
[null,24,{"$error":"#DIV/0!"},0,{"$f":"0","v":0},{"$f":"C375*I349+D375*J349+E375*K349","v":{"$error":"#DIV/0!"}},{"$f":"((C375*(1-I349))-(D375*J349)+(E375*(1-K349)))*F349*G349","v":{"$error":"#DIV/0!"}},0.94781499999999996,{"$f":"G375*(1-H375)*(1-E349)","v":{"$error":"#DIV/0!"}},0.79816000000000009,{"$f":"G375*(1-J375)*(1-E349)","v":{"$error":"#DIV/0!"}}]
[null,25,{"$error":"#DIV/0!"},0,{"$f":"0","v":0},{"$f":"C376*I349+D376*J349+E376*K349","v":{"$error":"#DIV/0!"}},{"$f":"((C376*(1-I349))-(D376*J349)+(E376*(1-K349)))*F349*G349","v":{"$error":"#DIV/0!"}},0.94781499999999996,{"$f":"G376*(1-H376)*(1-E349)","v":{"$error":"#DIV/0!"}},0.79816000000000009,{"$f":"G376*(1-J376)*(1-E349)","v":{"$error":"#DIV/0!"}}]
[null,26,{"$error":"#DIV/0!"},0,{"$f":"0","v":0},{"$f":"C377*I349+D377*J349+E377*K349","v":{"$error":"#DIV/0!"}},{"$f":"((C377*(1-I349))-(D377*J349)+(E377*(1-K349)))*F349*G349","v":{"$error":"#DIV/0!"}},0.94781499999999996,{"$f":"G377*(1-H377)*(1-E349)","v":{"$error":"#DIV/0!"}},0.79816000000000009,{"$f":"G377*(1-J377)*(1-E349)","v":{"$error":"#DIV/0!"}}]
[null,27,{"$error":"#DIV/0!"},0,{"$f":"0","v":0},{"$f":"C378*I349+D378*J349+E378*K349","v":{"$error":"#DIV/0!"}},{"$f":"((C378*(1-I349))-(D378*J349)+(E378*(1-K349)))*F349*G349","v":{"$error":"#DIV/0!"}},0.94781499999999996,{"$f":"G378*(1-H378)*(1-E349)","v":{"$error":"#DIV/0!"}},0.79816000000000009,{"$f":"G378*(1-J378)*(1-E349)","v":{"$error":"#DIV/0!"}}]
[null,28,{"$error":"#DIV/0!"},0,{"$f":"0","v":0},{"$f":"C379*I349+D379*J349+E379*K349","v":{"$error":"#DIV/0!"}},{"$f":"((C379*(1-I349))-(D379*J349)+(E379*(1-K349)))*F349*G349","v":{"$error":"#DIV/0!"}},0.94781499999999996,{"$f":"G379*(1-H379)*(1-E349)","v":{"$error":"#DIV/0!"}},0.79816000000000009,{"$f":"G379*(1-J379)*(1-E349)","v":{"$error":"#DIV/0!"}}]
[null,29,{"$error":"#DIV/0!"},0,{"$f":"0","v":0},{"$f":"C380*I349+D380*J349+E380*K349","v":{"$error":"#DIV/0!"}},{"$f":"((C380*(1-I349))-(D380*J349)+(E380*(1-K349)))*F349*G349","v":{"$error":"#DIV/0!"}},0.94781499999999996,{"$f":"G380*(1-H380)*(1-E349)","v":{"$error":"#DIV/0!"}},0.79816000000000009,{"$f":"G380*(1-J380)*(1-E349)","v":{"$error":"#DIV/0!"}}]
[null,30,{"$error":"#DIV/0!"},0,{"$f":"0","v":0},{"$f":"C381*I349+D381*J349+E381*K349","v":{"$error":"#DIV/0!"}},{"$f":"((C381*(1-I349))-(D381*J349)+(E381*(1-K349)))*F349*G349","v":{"$error":"#DIV/0!"}},0.94781499999999996,{"$f":"G381*(1-H381)*(1-E349)","v":{"$error":"#DIV/0!"}},0.79816000000000009,{"$f":"G381*(1-J381)*(1-E349)","v":{"$error":"#DIV/0!"}}]
[null,31,{"$error":"#DIV/0!"},0,{"$f":"0","v":0},{"$f":"C382*I349+D382*J349+E382*K349","v":{"$error":"#DIV/0!"}},{"$f":"((C382*(1-I349))-(D382*J349)+(E382*(1-K349)))*F349*G349","v":{"$error":"#DIV/0!"}},0.94781499999999996,{"$f":"G382*(1-H382)*(1-E349)","v":{"$error":"#DIV/0!"}},0.79816000000000009,{"$f":"G382*(1-J382)*(1-E349)","v":{"$error":"#DIV/0!"}}]
[null,32,{"$error":"#DIV/0!"},0,{"$f":"0","v":0},{"$f":"C383*I349+D383*J349+E383*K349","v":{"$error":"#DIV/0!"}},{"$f":"((C383*(1-I349))-(D383*J349)+(E383*(1-K349)))*F349*G349","v":{"$error":"#DIV/0!"}},0.94781499999999996,{"$f":"G383*(1-H383)*(1-E349)","v":{"$error":"#DIV/0!"}},0.79816000000000009,{"$f":"G383*(1-J383)*(1-E349)","v":{"$error":"#DIV/0!"}}]
[null,33,{"$error":"#DIV/0!"},0,{"$f":"0","v":0},{"$f":"C384*I349+D384*J349+E384*K349","v":{"$error":"#DIV/0!"}},{"$f":"((C384*(1-I349))-(D384*J349)+(E384*(1-K349)))*F349*G349","v":{"$error":"#DIV/0!"}},0.94781499999999996,{"$f":"G384*(1-H384)*(1-E349)","v":{"$error":"#DIV/0!"}},0.79816000000000009,{"$f":"G384*(1-J384)*(1-E349)","v":{"$error":"#DIV/0!"}}]
[null,34,{"$error":"#DIV/0!"},0,{"$f":"0","v":0},{"$f":"C385*I349+D385*J349+E385*K349","v":{"$error":"#DIV/0!"}},{"$f":"((C385*(1-I349))-(D385*J349)+(E385*(1-K349)))*F349*G349","v":{"$error":"#DIV/0!"}},0.94781499999999996,{"$f":"G385*(1-H385)*(1-E349)","v":{"$error":"#DIV/0!"}},0.79816000000000009,{"$f":"G385*(1-J385)*(1-E349)","v":{"$error":"#DIV/0!"}}]
[null,35,{"$error":"#DIV/0!"},0,{"$f":"0","v":0},{"$f":"C386*I349+D386*J349+E386*K349","v":{"$error":"#DIV/0!"}},{"$f":"((C386*(1-I349))-(D386*J349)+(E386*(1-K349)))*F349*G349","v":{"$error":"#DIV/0!"}},0.94781499999999996,{"$f":"G386*(1-H386)*(1-E349)","v":{"$error":"#DIV/0!"}},0.79816000000000009,{"$f":"G386*(1-J386)*(1-E349)","v":{"$error":"#DIV/0!"}}]
[null,36,{"$error":"#DIV/0!"},0,{"$f":"0","v":0},{"$f":"C387*I349+D387*J349+E387*K349","v":{"$error":"#DIV/0!"}},{"$f":"((C387*(1-I349))-(D387*J349)+(E387*(1-K349)))*F349*G349","v":{"$error":"#DIV/0!"}},0.94781499999999996,{"$f":"G387*(1-H387)*(1-E349)","v":{"$error":"#DIV/0!"}},0.79816000000000009,{"$f":"G387*(1-J387)*(1-E349)","v":{"$error":"#DIV/0!"}}]
[null,37,{"$error":"#DIV/0!"},0,{"$f":"0","v":0},{"$f":"C388*I349+D388*J349+E388*K349","v":{"$error":"#DIV/0!"}},{"$f":"((C388*(1-I349))-(D388*J349)+(E388*(1-K349)))*F349*G349","v":{"$error":"#DIV/0!"}},0.94781499999999996,{"$f":"G388*(1-H388)*(1-E349)","v":{"$error":"#DIV/0!"}},0.79816000000000009,{"$f":"G388*(1-J388)*(1-E349)","v":{"$error":"#DIV/0!"}}]
[null,38,{"$error":"#DIV/0!"},0,{"$f":"0","v":0},{"$f":"C389*I349+D389*J349+E389*K349","v":{"$error":"#DIV/0!"}},{"$f":"((C389*(1-I349))-(D389*J349)+(E389*(1-K349)))*F349*G349","v":{"$error":"#DIV/0!"}},0.94781499999999996,{"$f":"G389*(1-H389)*(1-E349)","v":{"$error":"#DIV/0!"}},0.79816000000000009,{"$f":"G389*(1-J389)*(1-E349)","v":{"$error":"#DIV/0!"}}]
[null,39,{"$error":"#DIV/0!"},0,{"$f":"0","v":0},{"$f":"C390*I349+D390*J349+E390*K349","v":{"$error":"#DIV/0!"}},{"$f":"((C390*(1-I349))-(D390*J349)+(E390*(1-K349)))*F349*G349","v":{"$error":"#DIV/0!"}},0.94781499999999996,{"$f":"G390*(1-H390)*(1-E349)","v":{"$error":"#DIV/0!"}},0.79816000000000009,{"$f":"G390*(1-J390)*(1-E349)","v":{"$error":"#DIV/0!"}}]
[null,40,{"$error":"#DIV/0!"},0,{"$f":"0","v":0},{"$f":"C391*I349+D391*J349+E391*K349","v":{"$error":"#DIV/0!"}},{"$f":"((C391*(1-I349))-(D391*J349)+(E391*(1-K349)))*F349*G349","v":{"$error":"#DIV/0!"}},0.94781499999999996,{"$f":"G391*(1-H391)*(1-E349)","v":{"$error":"#DIV/0!"}},0.79816000000000009,{"$f":"G391*(1-J391)*(1-E349)","v":{"$error":"#DIV/0!"}}]
[null,41,{"$error":"#DIV/0!"},0,{"$f":"0","v":0},{"$f":"C392*I349+D392*J349+E392*K349","v":{"$error":"#DIV/0!"}},{"$f":"((C392*(1-I349))-(D392*J349)+(E392*(1-K349)))*F349*G349","v":{"$error":"#DIV/0!"}},0.94781499999999996,{"$f":"G392*(1-H392)*(1-E349)","v":{"$error":"#DIV/0!"}},0.79816000000000009,{"$f":"G392*(1-J392)*(1-E349)","v":{"$error":"#DIV/0!"}}]
[null,42,{"$error":"#DIV/0!"},0,{"$f":"0","v":0},{"$f":"C393*I349+D393*J349+E393*K349","v":{"$error":"#DIV/0!"}},{"$f":"((C393*(1-I349))-(D393*J349)+(E393*(1-K349)))*F349*G349","v":{"$error":"#DIV/0!"}},0.94781499999999996,{"$f":"G393*(1-H393)*(1-E349)","v":{"$error":"#DIV/0!"}},0.79816000000000009,{"$f":"G393*(1-J393)*(1-E349)","v":{"$error":"#DIV/0!"}}]
[null,43,{"$error":"#DIV/0!"},0,{"$f":"0","v":0},{"$f":"C394*I349+D394*J349+E394*K349","v":{"$error":"#DIV/0!"}},{"$f":"((C394*(1-I349))-(D394*J349)+(E394*(1-K349)))*F349*G349","v":{"$error":"#DIV/0!"}},0.94781499999999996,{"$f":"G394*(1-H394)*(1-E349)","v":{"$error":"#DIV/0!"}},0.79816000000000009,{"$f":"G394*(1-J394)*(1-E349)","v":{"$error":"#DIV/0!"}}]
[null,44,{"$error":"#DIV/0!"},0,{"$f":"0","v":0},{"$f":"C395*I349+D395*J349+E395*K349","v":{"$error":"#DIV/0!"}},{"$f":"((C395*(1-I349))-(D395*J349)+(E395*(1-K349)))*F349*G349","v":{"$error":"#DIV/0!"}},0.94781499999999996,{"$f":"G395*(1-H395)*(1-E349)","v":{"$error":"#DIV/0!"}},0.79816000000000009,{"$f":"G395*(1-J395)*(1-E349)","v":{"$error":"#DIV/0!"}}]
[null,45,{"$error":"#DIV/0!"},0,{"$f":"0","v":0},{"$f":"C396*I349+D396*J349+E396*K349","v":{"$error":"#DIV/0!"}},{"$f":"((C396*(1-I349))-(D396*J349)+(E396*(1-K349)))*F349*G349","v":{"$error":"#DIV/0!"}},0.94781499999999996,{"$f":"G396*(1-H396)*(1-E349)","v":{"$error":"#DIV/0!"}},0.79816000000000009,{"$f":"G396*(1-J396)*(1-E349)","v":{"$error":"#DIV/0!"}}]
[null,46,{"$error":"#DIV/0!"},0,{"$f":"0","v":0},{"$f":"C397*I349+D397*J349+E397*K349","v":{"$error":"#DIV/0!"}},{"$f":"((C397*(1-I349))-(D397*J349)+(E397*(1-K349)))*F349*G349","v":{"$error":"#DIV/0!"}},0.94781499999999996,{"$f":"G397*(1-H397)*(1-E349)","v":{"$error":"#DIV/0!"}},0.79816000000000009,{"$f":"G397*(1-J397)*(1-E349)","v":{"$error":"#DIV/0!"}}]
[null,47,{"$error":"#DIV/0!"},0,{"$f":"0","v":0},{"$f":"C398*I349+D398*J349+E398*K349","v":{"$error":"#DIV/0!"}},{"$f":"((C398*(1-I349))-(D398*J349)+(E398*(1-K349)))*F349*G349","v":{"$error":"#DIV/0!"}},0.94781499999999996,{"$f":"G398*(1-H398)*(1-E349)","v":{"$error":"#DIV/0!"}},0.79816000000000009,{"$f":"G398*(1-J398)*(1-E349)","v":{"$error":"#DIV/0!"}}]
[null,48,{"$error":"#DIV/0!"},0,{"$f":"0","v":0},{"$f":"C399*I349+D399*J349+E399*K349","v":{"$error":"#DIV/0!"}},{"$f":"((C399*(1-I349))-(D399*J349)+(E399*(1-K349)))*F349*G349","v":{"$error":"#DIV/0!"}},0.94781499999999996,{"$f":"G399*(1-H399)*(1-E349)","v":{"$error":"#DIV/0!"}},0.79816000000000009,{"$f":"G399*(1-J399)*(1-E349)","v":{"$error":"#DIV/0!"}}]
[null,49,{"$error":"#DIV/0!"},0,{"$f":"0","v":0},{"$f":"C400*I349+D400*J349+E400*K349","v":{"$error":"#DIV/0!"}},{"$f":"((C400*(1-I349))-(D400*J349)+(E400*(1-K349)))*F349*G349","v":{"$error":"#DIV/0!"}},0.94781499999999996,{"$f":"G400*(1-H400)*(1-E349)","v":{"$error":"#DIV/0!"}},0.79816000000000009,{"$f":"G400*(1-J400)*(1-E349)","v":{"$error":"#DIV/0!"}}]
[null,50,{"$error":"#DIV/0!"},0,{"$f":"0","v":0},{"$f":"C401*I349+D401*J349+E401*K349","v":{"$error":"#DIV/0!"}},{"$f":"((C401*(1-I349))-(D401*J349)+(E401*(1-K349)))*F349*G349","v":{"$error":"#DIV/0!"}},0.94781499999999996,{"$f":"G401*(1-H401)*(1-E349)","v":{"$error":"#DIV/0!"}},0.79816000000000009,{"$f":"G401*(1-J401)*(1-E349)","v":{"$error":"#DIV/0!"}}]
[null,51,{"$error":"#DIV/0!"},0,{"$f":"0","v":0},{"$f":"C402*I349+D402*J349+E402*K349","v":{"$error":"#DIV/0!"}},{"$f":"((C402*(1-I349))-(D402*J349)+(E402*(1-K349)))*F349*G349","v":{"$error":"#DIV/0!"}},0.94781499999999996,{"$f":"G402*(1-H402)*(1-E349)","v":{"$error":"#DIV/0!"}},0.79816000000000009,{"$f":"G402*(1-J402)*(1-E349)","v":{"$error":"#DIV/0!"}}]
[null,52,{"$error":"#DIV/0!"},0,{"$f":"0","v":0},{"$f":"C403*I349+D403*J349+E403*K349","v":{"$error":"#DIV/0!"}},{"$f":"((C403*(1-I349))-(D403*J349)+(E403*(1-K349)))*F349*G349","v":{"$error":"#DIV/0!"}},0.94781499999999996,{"$f":"G403*(1-H403)*(1-E349)","v":{"$error":"#DIV/0!"}},0.79816000000000009,{"$f":"G403*(1-J403)*(1-E349)","v":{"$error":"#DIV/0!"}}]
[null,53,{"$error":"#DIV/0!"},0,{"$f":"0","v":0},{"$f":"C404*I349+D404*J349+E404*K349","v":{"$error":"#DIV/0!"}},{"$f":"((C404*(1-I349))-(D404*J349)+(E404*(1-K349)))*F349*G349","v":{"$error":"#DIV/0!"}},0.94781499999999996,{"$f":"G404*(1-H404)*(1-E349)","v":{"$error":"#DIV/0!"}},0.79816000000000009,{"$f":"G404*(1-J404)*(1-E349)","v":{"$error":"#DIV/0!"}}]
[null,54,{"$error":"#DIV/0!"},0,{"$f":"0","v":0},{"$f":"C405*I349+D405*J349+E405*K349","v":{"$error":"#DIV/0!"}},{"$f":"((C405*(1-I349))-(D405*J349)+(E405*(1-K349)))*F349*G349","v":{"$error":"#DIV/0!"}},0.94781499999999996,{"$f":"G405*(1-H405)*(1-E349)","v":{"$error":"#DIV/0!"}},0.79816000000000009,{"$f":"G405*(1-J405)*(1-E349)","v":{"$error":"#DIV/0!"}}]
[null,55,{"$error":"#DIV/0!"},0,{"$f":"0","v":0},{"$f":"C406*I349+D406*J349+E406*K349","v":{"$error":"#DIV/0!"}},{"$f":"((C406*(1-I349))-(D406*J349)+(E406*(1-K349)))*F349*G349","v":{"$error":"#DIV/0!"}},0.94781499999999996,{"$f":"G406*(1-H406)*(1-E349)","v":{"$error":"#DIV/0!"}},0.79816000000000009,{"$f":"G406*(1-J406)*(1-E349)","v":{"$error":"#DIV/0!"}}]
[null,56,{"$error":"#DIV/0!"},0,{"$f":"0","v":0},{"$f":"C407*I349+D407*J349+E407*K349","v":{"$error":"#DIV/0!"}},{"$f":"((C407*(1-I349))-(D407*J349)+(E407*(1-K349)))*F349*G349","v":{"$error":"#DIV/0!"}},0.94781499999999996,{"$f":"G407*(1-H407)*(1-E349)","v":{"$error":"#DIV/0!"}},0.79816000000000009,{"$f":"G407*(1-J407)*(1-E349)","v":{"$error":"#DIV/0!"}}]
[null,57,{"$error":"#DIV/0!"},0,{"$f":"0","v":0},{"$f":"C408*I349+D408*J349+E408*K349","v":{"$error":"#DIV/0!"}},{"$f":"((C408*(1-I349))-(D408*J349)+(E408*(1-K349)))*F349*G349","v":{"$error":"#DIV/0!"}},0.94781499999999996,{"$f":"G408*(1-H408)*(1-E349)","v":{"$error":"#DIV/0!"}},0.79816000000000009,{"$f":"G408*(1-J408)*(1-E349)","v":{"$error":"#DIV/0!"}}]
[null,58,{"$error":"#DIV/0!"},0,{"$f":"0","v":0},{"$f":"C409*I349+D409*J349+E409*K349","v":{"$error":"#DIV/0!"}},{"$f":"((C409*(1-I349))-(D409*J349)+(E409*(1-K349)))*F349*G349","v":{"$error":"#DIV/0!"}},0.94781499999999996,{"$f":"G409*(1-H409)*(1-E349)","v":{"$error":"#DIV/0!"}},0.79816000000000009,{"$f":"G409*(1-J409)*(1-E349)","v":{"$error":"#DIV/0!"}}]
[null,59,{"$error":"#DIV/0!"},0,{"$f":"0","v":0},{"$f":"C410*I349+D410*J349+E410*K349","v":{"$error":"#DIV/0!"}},{"$f":"((C410*(1-I349))-(D410*J349)+(E410*(1-K349)))*F349*G349","v":{"$error":"#DIV/0!"}},0.94781499999999996,{"$f":"G410*(1-H410)*(1-E349)","v":{"$error":"#DIV/0!"}},0.79816000000000009,{"$f":"G410*(1-J410)*(1-E349)","v":{"$error":"#DIV/0!"}}]
[null,60,{"$error":"#DIV/0!"},0,{"$f":"0","v":0},{"$f":"C411*I349+D411*J349+E411*K349","v":{"$error":"#DIV/0!"}},{"$f":"((C411*(1-I349))-(D411*J349)+(E411*(1-K349)))*F349*G349","v":{"$error":"#DIV/0!"}},0.94781499999999996,{"$f":"G411*(1-H411)*(1-E349)","v":{"$error":"#DIV/0!"}},0.79816000000000009,{"$f":"G411*(1-J411)*(1-E349)","v":{"$error":"#DIV/0!"}}]
[null,61,{"$error":"#DIV/0!"},0,{"$f":"0","v":0},{"$f":"C412*I349+D412*J349+E412*K349","v":{"$error":"#DIV/0!"}},{"$f":"((C412*(1-I349))-(D412*J349)+(E412*(1-K349)))*F349*G349","v":{"$error":"#DIV/0!"}},0.94781499999999996,{"$f":"G412*(1-H412)*(1-E349)","v":{"$error":"#DIV/0!"}},0,{"$f":"G412*(1-J412)*(1-E349)","v":{"$error":"#DIV/0!"}}]
[null,62,{"$error":"#DIV/0!"},0,{"$f":"0","v":0},{"$f":"C413*I349+D413*J349+E413*K349","v":{"$error":"#DIV/0!"}},{"$f":"((C413*(1-I349))-(D413*J349)+(E413*(1-K349)))*F349*G349","v":{"$error":"#DIV/0!"}},0.94781499999999996,{"$f":"G413*(1-H413)*(1-E349)","v":{"$error":"#DIV/0!"}},0,{"$f":"G413*(1-J413)*(1-E349)","v":{"$error":"#DIV/0!"}}]
[null,63,{"$error":"#DIV/0!"},0,{"$f":"0","v":0},{"$f":"C414*I349+D414*J349+E414*K349","v":{"$error":"#DIV/0!"}},{"$f":"((C414*(1-I349))-(D414*J349)+(E414*(1-K349)))*F349*G349","v":{"$error":"#DIV/0!"}},0.94781499999999996,{"$f":"G414*(1-H414)*(1-E349)","v":{"$error":"#DIV/0!"}},0,{"$f":"G414*(1-J414)*(1-E349)","v":{"$error":"#DIV/0!"}}]
[null,64,{"$error":"#DIV/0!"},0,{"$f":"0","v":0},{"$f":"C415*I349+D415*J349+E415*K349","v":{"$error":"#DIV/0!"}},{"$f":"((C415*(1-I349))-(D415*J349)+(E415*(1-K349)))*F349*G349","v":{"$error":"#DIV/0!"}},0.94781499999999996,{"$f":"G415*(1-H415)*(1-E349)","v":{"$error":"#DIV/0!"}},0,{"$f":"G415*(1-J415)*(1-E349)","v":{"$error":"#DIV/0!"}}]
[null,65,{"$error":"#DIV/0!"},0,{"$f":"0","v":0},{"$f":"C416*I349+D416*J349+E416*K349","v":{"$error":"#DIV/0!"}},{"$f":"((C416*(1-I349))-(D416*J349)+(E416*(1-K349)))*F349*G349","v":{"$error":"#DIV/0!"}},0.94781499999999996,{"$f":"G416*(1-H416)*(1-E349)","v":{"$error":"#DIV/0!"}},0,{"$f":"G416*(1-J416)*(1-E349)","v":{"$error":"#DIV/0!"}}]
[null,66,{"$f":"F416","v":{"$error":"#DIV/0!"}},0,{"$f":"0","v":0},{"$f":"C417*I349+D417*J349+E417*K349","v":{"$error":"#DIV/0!"}},{"$f":"((C417*(1-I349))-(D417*J349)+(E417*(1-K349)))*F349*G349","v":{"$error":"#DIV/0!"}},0.94781499999999996,{"$f":"G417*(1-H417)*(1-E349)","v":{"$error":"#DIV/0!"}},0,{"$f":"G417*(1-J417)*(1-E349)","v":{"$error":"#DIV/0!"}}]
[null,67,{"$error":"#DIV/0!"},0,{"$f":"0","v":0},{"$f":"C418*I349+D418*J349+E418*K349","v":{"$error":"#DIV/0!"}},{"$f":"((C418*(1-I349))-(D418*J349)+(E418*(1-K349)))*F349*G349","v":{"$error":"#DIV/0!"}},0.94781499999999996,{"$f":"G418*(1-H418)*(1-E349)","v":{"$error":"#DIV/0!"}},0,{"$f":"G418*(1-J418)*(1-E349)","v":{"$error":"#DIV/0!"}}]
[null,68,{"$error":"#DIV/0!"},0,{"$f":"0","v":0},{"$f":"C419*I349+D419*J349+E419*K349","v":{"$error":"#DIV/0!"}},{"$f":"((C419*(1-I349))-(D419*J349)+(E419*(1-K349)))*F349*G349","v":{"$error":"#DIV/0!"}},0.94781499999999996,{"$f":"G419*(1-H419)*(1-E349)","v":{"$error":"#DIV/0!"}},0,{"$f":"G419*(1-J419)*(1-E349)","v":{"$error":"#DIV/0!"}}]
[null,69,{"$error":"#DIV/0!"},0,{"$f":"0","v":0},{"$f":"C420*I349+D420*J349+E420*K349","v":{"$error":"#DIV/0!"}},{"$f":"((C420*(1-I349))-(D420*J349)+(E420*(1-K349)))*F349*G349","v":{"$error":"#DIV/0!"}},0.94781499999999996,{"$f":"G420*(1-H420)*(1-E349)","v":{"$error":"#DIV/0!"}},0,{"$f":"G420*(1-J420)*(1-E349)","v":{"$error":"#DIV/0!"}}]
[null,70,{"$error":"#DIV/0!"},0,{"$f":"0","v":0},{"$f":"C421*I349+D421*J349+E421*K349","v":{"$error":"#DIV/0!"}},{"$f":"((C421*(1-I349))-(D421*J349)+(E421*(1-K349)))*F349*G349","v":{"$error":"#DIV/0!"}},0.94781499999999996,{"$f":"G421*(1-H421)*(1-E349)","v":{"$error":"#DIV/0!"}},0,{"$f":"G421*(1-J421)*(1-E349)","v":{"$error":"#DIV/0!"}}]
[null,71,{"$error":"#DIV/0!"},0,{"$f":"0","v":0},{"$f":"C422*I349+D422*J349+E422*K349","v":{"$error":"#DIV/0!"}},{"$f":"((C422*(1-I349))-(D422*J349)+(E422*(1-K349)))*F349*G349","v":{"$error":"#DIV/0!"}},0.94781499999999996,{"$f":"G422*(1-H422)*(1-E349)","v":{"$error":"#DIV/0!"}},0,{"$f":"G422*(1-J422)*(1-E349)","v":{"$error":"#DIV/0!"}}]
[null,72,{"$error":"#DIV/0!"},0,{"$f":"0","v":0},{"$f":"C423*I349+D423*J349+E423*K349","v":{"$error":"#DIV/0!"}},{"$f":"((C423*(1-I349))-(D423*J349)+(E423*(1-K349)))*F349*G349","v":{"$error":"#DIV/0!"}},0.94781499999999996,{"$f":"G423*(1-H423)*(1-E349)","v":{"$error":"#DIV/0!"}},0,{"$f":"G423*(1-J423)*(1-E349)","v":{"$error":"#DIV/0!"}}]
[null,73,{"$error":"#DIV/0!"},0,{"$f":"0","v":0},{"$f":"C424*I349+D424*J349+E424*K349","v":{"$error":"#DIV/0!"}},{"$f":"((C424*(1-I349))-(D424*J349)+(E424*(1-K349)))*F349*G349","v":{"$error":"#DIV/0!"}},0.94781499999999996,{"$f":"G424*(1-H424)*(1-E349)","v":{"$error":"#DIV/0!"}},0,{"$f":"G424*(1-J424)*(1-E349)","v":{"$error":"#DIV/0!"}}]
[null,74,{"$error":"#DIV/0!"},0,{"$f":"0","v":0},{"$f":"C425*I349+D425*J349+E425*K349","v":{"$error":"#DIV/0!"}},{"$f":"((C425*(1-I349))-(D425*J349)+(E425*(1-K349)))*F349*G349","v":{"$error":"#DIV/0!"}},0.94781499999999996,{"$f":"G425*(1-H425)*(1-E349)","v":{"$error":"#DIV/0!"}},0,{"$f":"G425*(1-J425)*(1-E349)","v":{"$error":"#DIV/0!"}}]
[null,75,{"$error":"#DIV/0!"},0,{"$f":"0","v":0},{"$f":"C426*I349+D426*J349+E426*K349","v":{"$error":"#DIV/0!"}},{"$f":"((C426*(1-I349))-(D426*J349)+(E426*(1-K349)))*F349*G349","v":{"$error":"#DIV/0!"}},{"$f":"0.95*0.9977","v":0.94781499999999996},{"$f":"G426*(1-H426)*(1-E349)","v":{"$error":"#DIV/0!"}},0,{"$f":"G426*(1-J426)*(1-E349)","v":{"$error":"#DIV/0!"}}]
[null,76,{"$error":"#DIV/0!"},0,{"$f":"0","v":0},{"$f":"C427*I349+D427*J349+E427*K349","v":{"$error":"#DIV/0!"}},{"$f":"((C427*(1-I349))-(D427*J349)+(E427*(1-K349)))*F349*G349","v":{"$error":"#DIV/0!"}},0.94781499999999996,{"$f":"G427*(1-H427)*(1-E349)","v":{"$error":"#DIV/0!"}},0,{"$f":"G427*(1-J427)*(1-E349)","v":{"$error":"#DIV/0!"}}]
[null,77,{"$error":"#DIV/0!"},0,{"$f":"0","v":0},{"$f":"C428*I349+D428*J349+E428*K349","v":{"$error":"#DIV/0!"}},{"$f":"((C428*(1-I349))-(D428*J349)+(E428*(1-K349)))*F349*G349","v":{"$error":"#DIV/0!"}},0.94781499999999996,{"$f":"G428*(1-H428)*(1-E349)","v":{"$error":"#DIV/0!"}},0,{"$f":"G428*(1-J428)*(1-E349)","v":{"$error":"#DIV/0!"}}]
[null,78,{"$error":"#DIV/0!"},0,{"$f":"0","v":0},{"$f":"C429*I349+D429*J349+E429*K349","v":{"$error":"#DIV/0!"}},{"$f":"((C429*(1-I349))-(D429*J349)+(E429*(1-K349)))*F349*G349","v":{"$error":"#DIV/0!"}},0.94781499999999996,{"$f":"G429*(1-H429)*(1-E349)","v":{"$error":"#DIV/0!"}},0,{"$f":"G429*(1-J429)*(1-E349)","v":{"$error":"#DIV/0!"}}]
[null,79,{"$error":"#DIV/0!"},0,{"$f":"0","v":0},{"$f":"C430*I349+D430*J349+E430*K349","v":{"$error":"#DIV/0!"}},{"$f":"((C430*(1-I349))-(D430*J349)+(E430*(1-K349)))*F349*G349","v":{"$error":"#DIV/0!"}},0.94781499999999996,{"$f":"G430*(1-H430)*(1-E349)","v":{"$error":"#DIV/0!"}},0,{"$f":"G430*(1-J430)*(1-E349)","v":{"$error":"#DIV/0!"}}]
[null,80,{"$error":"#DIV/0!"},0,{"$f":"0","v":0},{"$f":"C431*I349+D431*J349+E431*K349","v":{"$error":"#DIV/0!"}},{"$f":"((C431*(1-I349))-(D431*J349)+(E431*(1-K349)))*F349*G349","v":{"$error":"#DIV/0!"}},0.94781499999999996,{"$f":"G431*(1-H431)*(1-E349)","v":{"$error":"#DIV/0!"}},0,{"$f":"G431*(1-J431)*(1-E349)","v":{"$error":"#DIV/0!"}}]
[null,81,{"$error":"#DIV/0!"},0,{"$f":"0","v":0},{"$f":"C432*I349+D432*J349+E432*K349","v":{"$error":"#DIV/0!"}},{"$f":"((C432*(1-I349))-(D432*J349)+(E432*(1-K349)))*F349*G349","v":{"$error":"#DIV/0!"}},0.94781499999999996,{"$f":"G432*(1-H432)*(1-E349)","v":{"$error":"#DIV/0!"}},0,{"$f":"G432*(1-J432)*(1-E349)","v":{"$error":"#DIV/0!"}}]
[null,82,{"$error":"#DIV/0!"},0,{"$f":"0","v":0},{"$f":"C433*I349+D433*J349+E433*K349","v":{"$error":"#DIV/0!"}},{"$f":"((C433*(1-I349))-(D433*J349)+(E433*(1-K349)))*F349*G349","v":{"$error":"#DIV/0!"}},0.94781499999999996,{"$f":"G433*(1-H433)*(1-E349)","v":{"$error":"#DIV/0!"}},0,{"$f":"G433*(1-J433)*(1-E349)","v":{"$error":"#DIV/0!"}}]
[null,83,{"$error":"#DIV/0!"},0,{"$f":"0","v":0},{"$f":"C434*I349+D434*J349+E434*K349","v":{"$error":"#DIV/0!"}},{"$f":"((C434*(1-I349))-(D434*J349)+(E434*(1-K349)))*F349*G349","v":{"$error":"#DIV/0!"}},0.94781499999999996,{"$f":"G434*(1-H434)*(1-E349)","v":{"$error":"#DIV/0!"}},0,{"$f":"G434*(1-J434)*(1-E349)","v":{"$error":"#DIV/0!"}}]
[null,84,{"$error":"#DIV/0!"},{"$f":"E434","v":0},{"$f":"0","v":0},{"$f":"C435*I349+D435*J349+E435*K349","v":{"$error":"#DIV/0!"}},{"$f":"((C435*(1-I349))-(D435*J349)+(E435*(1-K349)))*F349*G349","v":{"$error":"#DIV/0!"}},0.94781499999999996,{"$f":"G435*(1-H435)*(1-E349)","v":{"$error":"#DIV/0!"}},0,{"$f":"G435*(1-J435)*(1-E349)","v":{"$error":"#DIV/0!"}}]
[null,85,{"$error":"#DIV/0!"},0,{"$f":"0","v":0},{"$f":"C436*I349+D436*J349+E436*K349","v":{"$error":"#DIV/0!"}},{"$f":"((C436*(1-I349))-(D436*J349)+(E436*(1-K349)))*F349*G349","v":{"$error":"#DIV/0!"}},0.94781499999999996,{"$f":"G436*(1-H436)*(1-E349)","v":{"$error":"#DIV/0!"}},0,{"$f":"G436*(1-J436)*(1-E349)","v":{"$error":"#DIV/0!"}}]
[null,86,{"$error":"#DIV/0!"},0,{"$f":"0","v":0},{"$f":"C437*I349+D437*J349+E437*K349","v":{"$error":"#DIV/0!"}},{"$f":"((C437*(1-I349))-(D437*J349)+(E437*(1-K349)))*F349*G349","v":{"$error":"#DIV/0!"}},0.94781499999999996,{"$f":"G437*(1-H437)*(1-E349)","v":{"$error":"#DIV/0!"}},0,{"$f":"G437*(1-J437)*(1-E349)","v":{"$error":"#DIV/0!"}}]
[null,87,{"$error":"#DIV/0!"},0,{"$f":"0","v":0},{"$f":"C438*I349+D438*J349+E438*K349","v":{"$error":"#DIV/0!"}},{"$f":"((C438*(1-I349))-(D438*J349)+(E438*(1-K349)))*F349*G349","v":{"$error":"#DIV/0!"}},0.94781499999999996,{"$f":"G438*(1-H438)*(1-E349)","v":{"$error":"#DIV/0!"}},0,{"$f":"G438*(1-J438)*(1-E349)","v":{"$error":"#DIV/0!"}}]
[null,88,{"$error":"#DIV/0!"},0,{"$f":"0","v":0},{"$f":"C439*I349+D439*J349+E439*K349","v":{"$error":"#DIV/0!"}},{"$f":"((C439*(1-I349))-(D439*J349)+(E439*(1-K349)))*F349*G349","v":{"$error":"#DIV/0!"}},0.94781499999999996,{"$f":"G439*(1-H439)*(1-E349)","v":{"$error":"#DIV/0!"}},0,{"$f":"G439*(1-J439)*(1-E349)","v":{"$error":"#DIV/0!"}}]
[null,89,{"$error":"#DIV/0!"},0,{"$f":"0","v":0},{"$f":"C440*I349+D440*J349+E440*K349","v":{"$error":"#DIV/0!"}},{"$f":"((C440*(1-I349))-(D440*J349)+(E440*(1-K349)))*F349*G349","v":{"$error":"#DIV/0!"}},0.94781499999999996,{"$f":"G440*(1-H440)*(1-E349)","v":{"$error":"#DIV/0!"}},0,{"$f":"G440*(1-J440)*(1-E349)","v":{"$error":"#DIV/0!"}}]
[null,90,{"$error":"#DIV/0!"},0,{"$f":"0","v":0},{"$f":"C441*I349+D441*J349+E441*K349","v":{"$error":"#DIV/0!"}},{"$f":"((C441*(1-I349))-(D441*J349)+(E441*(1-K349)))*F349*G349","v":{"$error":"#DIV/0!"}},0.94781499999999996,{"$f":"G441*(1-H441)*(1-E349)","v":{"$error":"#DIV/0!"}},0,{"$f":"G441*(1-J441)*(1-E349)","v":{"$error":"#DIV/0!"}}]
[null,91,{"$error":"#DIV/0!"},0,{"$f":"0","v":0},{"$f":"C442*I349+D442*J349+E442*K349","v":{"$error":"#DIV/0!"}},{"$f":"((C442*(1-I349))-(D442*J349)+(E442*(1-K349)))*F349*G349","v":{"$error":"#DIV/0!"}},0.94781499999999996,{"$f":"G442*(1-H442)*(1-E349)","v":{"$error":"#DIV/0!"}},0,{"$f":"G442*(1-J442)*(1-E349)","v":{"$error":"#DIV/0!"}}]
[null,92,{"$error":"#DIV/0!"},0,{"$f":"0","v":0},{"$f":"C443*I349+D443*J349+E443*K349","v":{"$error":"#DIV/0!"}},{"$f":"((C443*(1-I349))-(D443*J349)+(E443*(1-K349)))*F349*G349","v":{"$error":"#DIV/0!"}},0.94781499999999996,{"$f":"G443*(1-H443)*(1-E349)","v":{"$error":"#DIV/0!"}},0,{"$f":"G443*(1-J443)*(1-E349)","v":{"$error":"#DIV/0!"}}]
[null,93,{"$error":"#DIV/0!"},0,{"$f":"0","v":0},{"$f":"C444*I349+D444*J349+E444*K349","v":{"$error":"#DIV/0!"}},{"$f":"((C444*(1-I349))-(D444*J349)+(E444*(1-K349)))*F349*G349","v":{"$error":"#DIV/0!"}},0.94781499999999996,{"$f":"G444*(1-H444)*(1-E349)","v":{"$error":"#DIV/0!"}},0,{"$f":"G444*(1-J444)*(1-E349)","v":{"$error":"#DIV/0!"}}]
[null,94,{"$error":"#DIV/0!"},0,{"$f":"0","v":0},{"$f":"C445*I349+D445*J349+E445*K349","v":{"$error":"#DIV/0!"}},{"$f":"((C445*(1-I349))-(D445*J349)+(E445*(1-K349)))*F349*G349","v":{"$error":"#DIV/0!"}},0.94781499999999996,{"$f":"G445*(1-H445)*(1-E349)","v":{"$error":"#DIV/0!"}},0,{"$f":"G445*(1-J445)*(1-E349)","v":{"$error":"#DIV/0!"}}]
[null,95,{"$error":"#DIV/0!"},0,{"$f":"0","v":0},{"$f":"C446*I349+D446*J349+E446*K349","v":{"$error":"#DIV/0!"}},{"$f":"((C446*(1-I349))-(D446*J349)+(E446*(1-K349)))*F349*G349","v":{"$error":"#DIV/0!"}},0.94781499999999996,{"$f":"G446*(1-H446)*(1-E349)","v":{"$error":"#DIV/0!"}},0,{"$f":"G446*(1-J446)*(1-E349)","v":{"$error":"#DIV/0!"}}]
[null,96,{"$error":"#DIV/0!"},0,{"$f":"0","v":0},{"$f":"C447*I349+D447*J349+E447*K349","v":{"$error":"#DIV/0!"}},{"$f":"((C447*(1-I349))-(D447*J349)+(E447*(1-K349)))*F349*G349","v":{"$error":"#DIV/0!"}},0.94781499999999996,{"$f":"G447*(1-H447)*(1-E349)","v":{"$error":"#DIV/0!"}},0,{"$f":"G447*(1-J447)*(1-E349)","v":{"$error":"#DIV/0!"}}]
[null,97,{"$error":"#DIV/0!"},0,{"$f":"0","v":0},{"$f":"C448*I349+D448*J349+E448*K349","v":{"$error":"#DIV/0!"}},{"$f":"((C448*(1-I349))-(D448*J349)+(E448*(1-K349)))*F349*G349","v":{"$error":"#DIV/0!"}},0.94781499999999996,{"$f":"G448*(1-H448)*(1-E349)","v":{"$error":"#DIV/0!"}},0,{"$f":"G448*(1-J448)*(1-E349)","v":{"$error":"#DIV/0!"}}]
[null,98,{"$error":"#DIV/0!"},0,{"$f":"0","v":0},{"$f":"C449*I349+D449*J349+E449*K349","v":{"$error":"#DIV/0!"}},{"$f":"((C449*(1-I349))-(D449*J349)+(E449*(1-K349)))*F349*G349","v":{"$error":"#DIV/0!"}},0.94781499999999996,{"$f":"G449*(1-H449)*(1-E349)","v":{"$error":"#DIV/0!"}},0,{"$f":"G449*(1-J449)*(1-E349)","v":{"$error":"#DIV/0!"}}]
[null,99,{"$error":"#DIV/0!"},0,{"$f":"0","v":0},{"$f":"C450*I349+D450*J349+E450*K349","v":{"$error":"#DIV/0!"}},{"$f":"((C450*(1-I349))-(D450*J349)+(E450*(1-K349)))*F349*G349","v":{"$error":"#DIV/0!"}},0.94781499999999996,{"$f":"G450*(1-H450)*(1-E349)","v":{"$error":"#DIV/0!"}},0,{"$f":"G450*(1-J450)*(1-E349)","v":{"$error":"#DIV/0!"}}]
[null,100,{"$error":"#DIV/0!"},0,{"$f":"0","v":0},{"$f":"C451*I349+D451*J349+E451*K349","v":{"$error":"#DIV/0!"}},{"$f":"((C451*(1-I349))-(D451*J349)+(E451*(1-K349)))*F349*G349","v":{"$error":"#DIV/0!"}},0.94781499999999996,{"$f":"G451*(1-H451)*(1-E349)","v":{"$error":"#DIV/0!"}},0,{"$f":"G451*(1-J451)*(1-E349)","v":{"$error":"#DIV/0!"}}]
[null,"Sum of Emissions over 100 years",null,null,null,null,{"$f":"SUM(G352:G451)","v":{"$error":"#DIV/0!"}},null,{"$f":"SUM(I352:I451)","v":{"$error":"#DIV/0!"}},null,{"$f":"SUM(K352:K451)","v":{"$error":"#DIV/0!"}}]

{"sheet":"CA-GREET4.0","index":4,"n_rows":60,"n_cols":13,"rows_kept":60,"cut":false,"hidden":false,"merged":[[29,1,58,1],[29,2,58,2],[29,5,58,5],[9,1,13,1],[9,5,11,5],[9,2,11,2],[12,2,13,2],[15,2,18,2],[22,1,27,1],[22,2,23,2],[24,2,26,2],[25,5,26,5],[27,5,28,5],[17,5,18,5],[15,1,21,1],[19,2,20,2],[1,7,1,12],[1,1,1,5],[3,1,8,1],[3,2,5,2],[5,5,6,5],[7,5,8,5]]}
[]
[null," CA-GREET4.0 Emission Factors & Specifications",null,null,null,null,null,"Unit Conversion"]
[null,"Category","Sub-Category","Name","Value","Unit",null,"Energy","1 kJ","1 MJ","1 kWh","1 BTU","1 MMBtu"]
[null,"Fuel Specifications","Methane","Energy Density",0.96009999999999995,"MJ/ft3 @60°F, LHV",null,"Joule (J)",1000,1000000,3600000,1055.05585,1055055850]
[null,null,null,"Specific Density",19.2,"grams/ft3",null,"Kilojoule (kJ)",1,1000,3600,1.05505585,1055055.8500000001]
[null,null,null,"Heating Value Ratio",0.90100000000000002,"LHV/HHV",null,"Megajoule (MJ)",1E-3,1,3.6,1.0550558499999999E-3,1055.05585]
[null,null,"Natural Gas","Heating Value Ratio",0.90300000000000002,null,null,"Watt-hour (Wh)",0.27777777777777779,277.77777777777777,1000,0.29307106944444444,293071.06944444444]
[null,null,"Liquefied Natural Gas (LNG)","Energy Density",78.8,"MJ/gal @60°F, LHV",null,"Kilowatt-hour (kWh)",2.7777777777777778E-4,0.27777777777777779,1,2.9307106944444444E-4,293.07106944444445]
[null,null,"Liquefied Petroleum Gas (LPG)","Energy Density",89.6,null,null,"British Thermal Unit (BTU)",0.94781712266701335,947.81712266701334,3412.141641601248,1,1000000]
[null,"Greenhouse Gas Properties","Molar Mass","Carbon (C)",12,"g/mol",null,"Million British Thermal Unit (MMBtu)",9.4781712266701337E-7,9.4781712266701326E-4,3.4121416416012479E-3,9.9999999999999995E-7,1]
[null,null,null,"Methane (CH4)",16,null,null,"Mass","1 g","1 kg","1 MT","1 lb","1 short ton"]
[null,null,null,"Carbon Dioxide (CO2)",44,null,null,"Gram (g)",1,1000,1000000,453.59237000000002,907184.74]
[null,null,"Global Warming Potential (GWP)","Methane (CH4)",25,"gCO2e/gCH4",null,"Kilogram (kg)",1E-3,1,1000,0.45359237000000002,907.18474000000003]
[null,null,null,"Nitrous Oxide (N2O)",298,"gCO2e/gN2O",null,"Metric Ton (MT)",9.9999999999999995E-7,1E-3,1,4.5359237000000004E-4,0.90718474000000004]
[null,"Feedstock Collection","Truck Transport","HHDT",218,"gCO2e/short ton-mile",null,"Pound (lb)",2.2046226218487759E-3,2.2046226218487757,2204.6226218487759,1,2000]
[null,"Anaerobic Digestion and Biogas Upgrading","Process Energy","Biogas",1117.4749999999999,"gCO2e/MMBtu, LHV",null,"Short Ton (US Ton)",1.102311310924388E-6,1.1023113109243879E-3,1.1023113109243878,5.0000000000000001E-4,1]
[null,null,null,{"$f":"'Pathway Summary'!C31","v":"North American Natural Gas"},75496,"gCO2e/MMBtu, LHV",null,"Volume","1 m3","1 ml","1 L","1 gal","1 ft3"]
[null,null,null,{"$f":"'Pathway Summary'!C34","v":"LPG or Propane"},7345.27740286076,"gCO2e/gallon",null,"Cubic Meter (m3)",1,9.9999999999999995E-7,1E-3,3.7854109999999998E-3,2.8316846999999999E-2]
[null,null,null,{"$f":"'Pathway Summary'!C35","v":"Diesel"},12308,null,null,"Milliliter (ml)",1000000,1,1000.0000000000001,3785.4110000000001,28316.847000000002]
[null,null,"Tail Gas Destruction","In Flare or Thermal Oxidizer (TO)",1117.4749999999999,"gCO2e/MMBtu, LHV",null,"Liter (L)",1000,1E-3,1,3.7854109999999999,28.316846999999999]
[null,null,null,"Flaring Methane Slip",31.587,"g CH4 / MMBtu, LHV",null,"Gallon (gal)",264.17210707106841,2.6417210707106839E-4,0.26417210707106842,1,7.4805211375990615]
[null,null,"Fugitive Methane Defaults","Digester Leakage and Biogas Upgrading ",0.01,null,null,"Cubic Foot (ft3)",35.314666212661322,3.5314666212661319E-5,3.5314666212661321E-2,0.13368052594273649,1]
[null,"Biomethane Transport","Pipeline ","Fugitives",3.0000000000000001E-6,"%/mile"]
[null,null,null,"Transport Energy",3.8899999999999998E-3,"gCO2e/MJ-mile, LHV"]
[null,null,"LNG Truck","LNG Transport",6.5799999999999999E-3,"gCO2e/MJ-mile, LHV"]
[null,null,null,"Fugitive CH4 - With Boil-Off Recovery",3.1199999999999999E-3,"%"]
[null,null,null,"Fugitive CH4 - Without Boil-Off Recovery",1.559E-2]
[null,null,"Compression","at Fueling Station",2.9636394399179773,"gCO2e/MJ, LHV"]
[null,"Vehicle Emissions","Tailpipe Combustion (excluding CO2)",null,5.51]
[null,"Grid Electricity","2021 eGRID Region","U.S. Average",474.14818114696288,"gCO2e/kWh"]
[null,null,null,"AKGD",739.37369659441038]
[null,null,null,"AKMS",305.05954532367315]
[null,null,null,"AZNM",452.59799644549014]
[null,null,null,"CAMX",329.31550896542888]
[null,null,null,"ERCT",470.46037472212373]
[null,null,null,"FRCC",500.08978131814308]
[null,null,null,"HIMS",729.76964401039049]
[null,null,null,"HIOA",993.04090753329433]
[null,null,null,"MROE",835.17296460818841]
[null,null,null,"MROW",522.27552659353967]
[null,null,null,"NEWE",343.93337546212689]
[null,null,null,"NWPP",341.73208620640725]
[null,null,null,"NYCW",522.5910041112935]
[null,null,null,"NYLI",603.06056459569584]
[null,null,null,"NYUP",153.92030405584592]
[null,null,null,"PRMS",864.84803647299793]
[null,null,null,"RFCE",403.02327991490318]
[null,null,null,"RFCM",647.65601416559605]
[null,null,null,"RFCW",571.73848830541249]
[null,null,null,"RMPA",581.24471143848814]
[null,null,null,"SPNO",518.57796111835]
[null,null,null,"SPSO",538.18467102575312]
[null,null,null,"SRMV",480.14759046268892]
[null,null,null,"SRMW",820.12969419368847]
[null,null,null,"SRSO",508.71583031653392]
[null,null,null,"SRTV",503.56199416646967]
[null,null,null,"SRVC",370.78940202248185]
[null,null,null,"Brazil",110.5727335921882]
[null,null,null,"Canada",142.58733454776279]
[null,null,null,"User Defined"]