{"text_format":"1","workbook":"xlsx","n_sheets":5,"sheets":["Introduction","Feedstock Inputs","Biodiesel Production Inputs","Pathway Summary","CA-GREET4.0"],"not_rendered":{"charts":0,"images":95,"macros":1,"external_links":0,"defined_names":1,"comments":0,"pivot_tables":0},"unopened":[],"bounds":{"document_bytes":16777216,"sheet_cells":100000,"rows_first":2000,"rows_last":500,"rows_between":2000,"halvings":0,"cell_chars":16384,"cell_head_chars":4096},"cells_cut":0,"cells_raw":0,"read":"whole","date_system":"1900"}

{"sheet":"Introduction","index":0,"n_rows":44,"n_cols":6,"rows_kept":44,"cut":false,"hidden":false,"merged":[[2,2,2,6],[3,2,3,6],[8,1,8,7],[1,1,1,7],[4,1,7,2],[4,4,7,4],[4,6,7,7]]}
[]
[]
[null,null,"Low Carbon Fuel Standard\nTier 1 CI Calculator for Biodiesel (Release Date: 07/01/2025)"]
[null,null,"The Tier 1 CI Calculator for Biodiesel offers a simplified interface for calculating the carbon intensity (CI) of biodiesel (BD) used as a tranportation fuel in California.\n\nTo begin, navigate to the \"Feedstock Inputs\" and \"Biodiesel Production Inputs\" worksheets and enter all relevant project data. For Tier 1 pathways, a minimum of 3 months of operational data is required. Carbon Intensity (CI) results are provided on the \"Pathway Summary\" worksheet, along with calculated input results and finished fuel quantities. Pathway-specific Operating Conditions may be added by CARB prior to pathway certification. The \"CA-GREET4.0\" worksheet contains predefined input values from the CA-GREET4.0 model. \n\nData entered by the applicant are limited to User Input cells (see Color Key below). Additional worksheets may be added to the calculator by the applicant to document and support User Input cell values, but existing worksheets and cells containing Calculated Value or CA-GREET4.0 Input values may not be modified without CARB approval via a Tier 2 pathway. \n\nPlease note that this calculator contains macros that allow the user to hide site-specific input fields that are not relevant to a given pathway. In order for macros to function properly, the \"Enable Content\" button in Microsoft Excel must be selected upon opening this calculator.  In order to ensure that CI calculations reflect the most recent inputs, select \"Automatic\" calculations from the \"Calculation Options\" in the \"Formulas\" toolbar or press F9 (if using Microsoft Excel)."]
[null,null,null,"Color Key",null,"LCFS Website Resources"]
[null,null,null,"User Input",null,"LCFS Program Overview"]
[null,null,null,"Calculated Value",null,"Tier 1 Pathway Calculators and Instruction Manuals"]
[null,null,null,"CA-GREET4.0 Value",null,"Tier 1 Pathway Application Process"]
[]
[]
[]
[]
[]
[]
[]
[]
[]
[]
[]
[]
[]
[]
[]
[]
[]
[]
[]
[]
[]
[]
[]
[]
[]
[]
[]
[]
[]
[]
[]
[]
[]
[]
[]
[null,null,null,"`"]

{"sheet":"Feedstock Inputs","index":1,"n_rows":662,"n_cols":23,"rows_kept":662,"cut":false,"hidden":false,"merged":[[1,6,1,8],[4,1,4,18],[5,1,34,1],[5,2,5,3],[5,4,34,4],[5,5,5,17],[5,18,34,18],[6,2,6,3],[6,5,7,5],[6,6,6,9],[8,2,8,3],[9,2,10,2],[11,2,12,2],[13,2,14,2],[15,2,16,2],[17,2,18,2],[6,10,6,17],[7,2,7,3],[7,6,7,7],[7,8,7,9],[7,10,7,11],[7,12,7,13],[7,14,7,15],[7,16,7,17],[24,2,24,3],[30,2,30,3],[31,2,31,3],[35,1,35,18],[37,1,37,18],[38,1,67,1],[38,2,38,3],[38,4,67,4],[38,5,38,17],[38,18,67,18],[39,2,39,3],[39,5,40,5],[39,6,39,9],[39,10,39,17],[40,2,40,3],[40,6,40,7],[40,8,40,9],[40,10,40,11],[40,12,40,13],[40,14,40,15],[50,2,51,2],[57,2,57,3],[63,2,63,3],[64,2,64,3],[68,1,68,18],[70,1,70,18],[40,16,40,17],[41,2,41,3],[42,2,43,2],[44,2,45,2],[46,2,47,2],[48,2,49,2],[73,12,73,13],[73,14,73,15],[73,16,73,17],[71,1,100,1],[71,2,71,3],[71,4,100,4],[71,5,71,17],[71,18,100,18],[72,2,72,3],[72,5,73,5],[72,6,72,9],[72,10,72,17],[73,2,73,3],[74,2,74,3],[75,2,76,2],[77,2,78,2],[79,2,80,2],[81,2,82,2],[83,2,84,2],[73,6,73,7],[73,8,73,9],[73,10,73,11],[90,2,90,3],[96,2,96,3],[97,2,97,3],[101,1,101,18],[103,1,103,18],[104,1,133,1],[104,2,104,3],[104,4,133,4],[104,5,104,17],[104,18,133,18],[105,2,105,3],[105,5,106,5],[105,6,105,9],[105,10,105,17],[106,2,106,3],[106,6,106,7],[106,8,106,9],[106,10,106,11],[106,12,106,13],[106,14,106,15],[116,2,117,2],[123,2,123,3],[129,2,129,3],[130,2,130,3],[134,1,134,18],[136,1,136,18],[106,16,106,17],[107,2,107,3],[108,2,109,2],[110,2,111,2],[112,2,113,2],[114,2,115,2],[139,12,139,13],[139,14,139,15],[139,16,139,17],[137,1,166,1],[137,2,137,3],[137,4,166,4],[137,5,137,17],[137,18,166,18],[138,2,138,3],[138,5,139,5],[138,6,138,9],[138,10,138,17],[139,2,139,3],[140,2,140,3],[141,2,142,2],[143,2,144,2],[145,2,146,2],[147,2,148,2],[149,2,150,2],[139,6,139,7],[139,8,139,9],[139,10,139,11],[156,2,156,3],[162,2,162,3],[163,2,163,3],[167,1,167,18],[169,1,169,18],[170,1,199,1],[170,2,170,3],[170,4,199,4],[170,5,170,17],[170,18,199,18],[171,2,171,3],[171,5,172,5],[171,6,171,9],[171,10,171,17],[172,2,172,3],[172,6,172,7],[172,8,172,9],[172,10,172,11],[172,12,172,13],[172,14,172,15],[182,2,183,2],[189,2,189,3],[195,2,195,3],[196,2,196,3],[200,1,200,18],[202,1,202,18],[172,16,172,17],[173,2,173,3],[174,2,175,2],[176,2,177,2],[178,2,179,2],[180,2,181,2],[205,12,205,13],[205,14,205,15],[205,16,205,17],[203,1,232,1],[203,2,203,3],[203,4,232,4],[203,5,203,17],[203,18,232,18],[204,2,204,3],[204,5,205,5],[204,6,204,9],[204,10,204,17],[205,2,205,3],[206,2,206,3],[207,2,208,2],[209,2,210,2],[211,2,212,2],[213,2,214,2],[215,2,216,2],[205,6,205,7],[205,8,205,9],[205,10,205,11],[222,2,222,3],[228,2,228,3],[229,2,229,3],[233,1,233,18],[235,1,235,18],[236,1,265,1],[236,2,236,3],[236,4,265,4],[236,5,236,17],[236,18,265,18],[237,2,237,3],[237,5,238,5],[237,6,237,9],[237,10,237,17],[238,2,238,3],[238,6,238,7],[238,8,238,9],[238,10,238,11],[238,12,238,13],[238,14,238,15],[248,2,249,2],[255,2,255,3],[261,2,261,3],[262,2,262,3],[266,1,266,18],[268,1,268,18],[238,16,238,17],[239,2,239,3],[240,2,241,2],[242,2,243,2],[244,2,245,2],[246,2,247,2],[271,12,271,13],[271,14,271,15],[271,16,271,17],[269,1,298,1],[269,2,269,3],[269,4,298,4],[269,5,269,17],[269,18,298,18],[270,2,270,3],[270,5,271,5],[270,6,270,9],[270,10,270,17],[271,2,271,3],[272,2,272,3],[273,2,274,2],[275,2,276,2],[277,2,278,2],[279,2,280,2],[281,2,282,2],[271,6,271,7],[271,8,271,9],[271,10,271,11],[288,2,288,3],[294,2,294,3],[295,2,295,3],[299,1,299,18],[301,1,301,18],[302,1,331,1],[302,2,302,3],[302,4,331,4],[302,5,302,17],[302,18,331,18],[303,2,303,3],[303,5,304,5],[303,6,303,9],[303,10,303,17],[304,2,304,3],[304,6,304,7],[304,8,304,9],[304,10,304,11],[304,12,304,13],[304,14,304,15],[314,2,315,2],[321,2,321,3],[327,2,327,3],[328,2,328,3],[332,1,332,18],[334,1,334,18],[304,16,304,17],[305,2,305,3],[306,2,307,2],[308,2,309,2],[310,2,311,2],[312,2,313,2],[337,12,337,13],[337,14,337,15],[337,16,337,17],[335,1,364,1],[335,2,335,3],[335,4,364,4],[335,5,335,17],[335,18,364,18],[336,2,336,3],[336,5,337,5],[336,6,336,9],[336,10,336,17],[337,2,337,3],[338,2,338,3],[339,2,340,2],[341,2,342,2],[343,2,344,2],[345,2,346,2],[347,2,348,2],[337,6,337,7],[337,8,337,9],[337,10,337,11],[354,2,354,3],[360,2,360,3],[361,2,361,3],[365,1,365,18],[367,1,367,18],[368,1,397,1],[368,2,368,3],[368,4,397,4],[368,5,368,17],[368,18,397,18],[369,2,369,3],[369,5,370,5],[369,6,369,9],[369,10,369,17],[370,2,370,3],[370,6,370,7],[370,8,370,9],[370,10,370,11],[370,12,370,13],[370,14,370,15],[380,2,381,2],[387,2,387,3],[393,2,393,3],[394,2,394,3],[398,1,398,18],[400,1,400,18],[370,16,370,17],[371,2,371,3],[372,2,373,2],[374,2,375,2],[376,2,377,2],[378,2,379,2],[403,12,403,13],[403,14,403,15],[403,16,403,17],[401,1,430,1],[401,2,401,3],[401,4,430,4],[401,5,401,17],[401,18,430,18],[402,2,402,3],[402,5,403,5],[402,6,402,9],[402,10,402,17],[403,2,403,3],[404,2,404,3],[405,2,406,2],[407,2,408,2],[409,2,410,2],[411,2,412,2],[413,2,414,2],[403,6,403,7],[403,8,403,9],[403,10,403,11],[420,2,420,3],[426,2,426,3],[427,2,427,3],[431,1,431,18],[433,1,433,18],[434,1,463,1],[434,2,434,3],[434,4,463,4],[434,5,434,17],[434,18,463,18],[435,2,435,3],[435,5,436,5],[435,6,435,9],[435,10,435,17],[436,2,436,3],[436,6,436,7],[436,8,436,9],[436,10,436,11],[436,12,436,13],[436,14,436,15],[446,2,447,2],[453,2,453,3],[459,2,459,3],[460,2,460,3],[464,1,464,18],[466,1,466,18],[436,16,436,17],[437,2,437,3],[438,2,439,2],[440,2,441,2],[442,2,443,2],[444,2,445,2],[469,12,469,13],[469,14,469,15],[469,16,469,17],[467,1,496,1],[467,2,467,3],[467,4,496,4],[467,5,467,17],[467,18,496,18],[468,2,468,3],[468,5,469,5],[468,6,468,9],[468,10,468,17],[469,2,469,3],[470,2,470,3],[471,2,472,2],[473,2,474,2],[475,2,476,2],[477,2,478,2],[479,2,480,2],[469,6,469,7],[469,8,469,9],[469,10,469,11],[486,2,486,3],[492,2,492,3],[493,2,493,3],[497,1,497,18],[499,1,499,18],[500,1,529,1],[500,2,500,3],[500,4,529,4],[500,5,500,17],[500,18,529,18],[501,2,501,3],[501,5,502,5],[501,6,501,9],[501,10,501,17],[502,2,502,3],[502,6,502,7],[502,8,502,9],[502,10,502,11],[502,12,502,13],[502,14,502,15],[512,2,513,2],[519,2,519,3],[525,2,525,3],[526,2,526,3],[530,1,530,18],[532,1,532,18],[502,16,502,17],[503,2,503,3],[504,2,505,2],[506,2,507,2],[508,2,509,2],[510,2,511,2],[535,12,535,13],[535,14,535,15],[535,16,535,17],[533,1,562,1],[533,2,533,3],[533,4,562,4],[533,5,533,17],[533,18,562,18],[534,2,534,3],[534,5,535,5],[534,6,534,9],[534,10,534,17],[535,2,535,3],[536,2,536,3],[537,2,538,2],[539,2,540,2],[541,2,542,2],[543,2,544,2],[545,2,546,2],[535,6,535,7],[535,8,535,9],[535,10,535,11],[552,2,552,3],[558,2,558,3],[559,2,559,3],[563,1,563,18],[565,1,565,18],[566,1,595,1],[566,2,566,3],[566,4,595,4],[566,5,566,17],[566,18,595,18],[567,2,567,3],[567,5,568,5],[567,6,567,9],[567,10,567,17],[568,2,568,3],[568,6,568,7],[568,8,568,9],[568,10,568,11],[568,12,568,13],[568,14,568,15],[578,2,579,2],[585,2,585,3],[591,2,591,3],[592,2,592,3],[601,10,601,11],[618,2,618,3],[624,2,624,3],[625,2,625,3],[596,1,596,18],[598,1,598,18],[568,16,568,17],[569,2,569,3],[570,2,571,2],[572,2,573,2],[574,2,575,2],[576,2,577,2],[601,12,601,13],[601,14,601,15],[601,16,601,17],[599,1,628,1],[599,2,599,3],[599,4,628,4],[599,5,599,17],[599,18,628,18],[600,2,600,3],[600,5,601,5],[600,6,600,9],[600,10,600,17],[644,2,645,2],[651,2,651,3],[657,2,657,3],[658,2,658,3],[607,2,608,2],[609,2,610,2],[611,2,612,2],[601,6,601,7],[601,8,601,9],[601,2,601,3],[602,2,602,3],[603,2,604,2],[605,2,606,2],[662,1,662,18],[634,16,634,17],[635,2,635,3],[636,2,637,2],[638,2,639,2],[640,2,641,2],[642,2,643,2],[629,1,629,18],[631,1,631,18],[632,1,661,1],[632,2,632,3],[632,4,661,4],[632,5,632,17],[632,18,661,18],[633,2,633,3],[633,5,634,5],[633,6,633,9],[633,10,633,17],[634,2,634,3],[634,6,634,7],[634,8,634,9],[634,10,634,11],[634,12,634,13],[634,14,634,15]]}
[]
[null,null,"Number of Feedstocks",1,null,"Navigate to","Feedstock 1"]
[]
[]
[]
[null,null,"Feedstock 1",null,true,"Section 2: Monthly Feedstock Inputs",null,null,null,null,null,null,null,null,null,null,null,null," "]
[null,null,{"$f":"IF(AND(D10>0,D12>0),CONCATENATE(IF(D12=\"Other (Specify Below)\",D13,D12),\" \",IF(D10=\"Other (Specify Below)\",D11,D10)),\"\")","v":""},null,null,null,"Feedstock Inventory",null,null,null,"Feedstock Transport",null,null,null,null,null,null,null,null,null,"Feedstock 1",{"$f":"IF(SUBTOTAL(103,C7)>0, IF(C7=\"\",U7,C7),\"\")","v":"Feedstock 1"},{"$f":"_xlfn._xlws.FILTER(V7:V26,V7:V26<>\"\")","v":"Feedstock 1"}]
[null,null,null,null,null,null,"Stored at Fuel Production Facility",null,"Delivered to Fuel Production Facility",null,"Truck",null,"Rail",null,"Barge",null,"Ocean Tanker",null,null,null,"Feedstock 2",{"$f":"IF(SUBTOTAL(103,C40)>0, IF(C40=\"\",U8,C40),\"\")","v":""}]
[null,null,"Section 1: Static Feedstock Inputs",null,null,"2.1.1","2.2.1","2.3.1","2.4.1","2.5.1","2.6.1","2.7.1","2.8.1","2.9.1","2.10.1","2.11.1","2.12.1","2.13.1",null,null,"Feedstock 3",{"$f":"IF(SUBTOTAL(103,C73)>0, IF(C73=\"\",U9,C73),\"\")","v":""}]
[null,null,"1.1.1 Feedstock Type",null,null,"Reporting Month","Beginning","Ending","Weight","Moisture","Weight","Distance",{"$f":"K10","v":"Weight"},"Distance","Weight","Distance","Weight","Distance",null,null,"Feedstock 4",{"$f":"IF(SUBTOTAL(103,C106)>0, IF(C106=\"\",U10,C106),\"\")","v":""}]
[null,null,null,null,null,"MM/YYYY","lbs","lbs","lbs","%","lbs","miles",{"$f":"K11","v":"lbs"},{"$f":"L11","v":"miles"},{"$f":"M11","v":"lbs"},{"$f":"L11","v":"miles"},{"$f":"K11","v":"lbs"},{"$f":"L11","v":"miles"},null,null,"Feedstock 5",{"$f":"IF(SUBTOTAL(103,C139)>0, IF(C139=\"\",U11,C139),\"\")","v":""}]
[null,null,"1.2.1 Feedstock Origin",null,null,{"$f":"'Biodiesel Production Inputs'!E$7","v":"00:00:00"},null,null,null,null,null,null,null,null,null,null,null,null,null,null,"Feedstock 6",{"$f":"IF(SUBTOTAL(103,C172)>0, IF(C172=\"\",U12,C172),\"\")","v":""}]
[null,null,null,null,null,{"$f":"'Biodiesel Production Inputs'!E$8","v":"00:00:00"},null,null,null,null,null,null,null,null,null,null,null,null,null,null,"Feedstock 7",{"$f":"IF(SUBTOTAL(103,C205)>0, IF(C205=\"\",U13,C205),\"\")","v":""}]
[null,null,"1.3.1 Production EF \n(gCO2e/dry lb)","Default",null,{"$f":"'Biodiesel Production Inputs'!E$9","v":"00:00:00"},null,null,null,null,null,null,null,null,null,null,null,null,null,null,"Feedstock 8",{"$f":"IF(SUBTOTAL(103,C238)>0, IF(C238=\"\",U14,C238),\"\")","v":""}]
[null,null,null,null,null,{"$f":"'Biodiesel Production Inputs'!E$10","v":"00:00:00"},null,null,null,null,null,null,null,null,null,null,null,null,null,null,"Feedstock 9",{"$f":"IF(SUBTOTAL(103,C271)>0, IF(C271=\"\",U15,C271),\"\")","v":""}]
[null,null,"1.4.1 Transport Modes",null,null,{"$f":"'Biodiesel Production Inputs'!E$11","v":"00:00:00"},null,null,null,null,null,null,null,null,null,null,null,null,null,null,"Feedstock 10",{"$f":"IF(SUBTOTAL(103,C304)>0, IF(C304=\"\",U16,C304),\"\")","v":""}]
[null,null,null,null,null,{"$f":"'Biodiesel Production Inputs'!E$12","v":"00:00:00"},null,null,null,null,null,null,null,null,null,null,null,null,null,null,"Feedstock 11",{"$f":"IF(SUBTOTAL(103,C337)>0, IF(C337=\"\",U17,C337),\"\")","v":""}]
[null,null,"1.5.1 Ocean Tanker EF \n(gCO2e/lb-mile)",null,null,{"$f":"'Biodiesel Production Inputs'!E$13","v":"00:00:00"},null,null,null,null,null,null,null,null,null,null,null,null,null,null,"Feedstock 12",{"$f":"IF(SUBTOTAL(103,C370)>0, IF(C370=\"\",U18,C370),\"\")","v":""}]
[null,null,null,null,null,{"$f":"'Biodiesel Production Inputs'!E$14","v":"00:00:00"},null,null,null,null,null,null,null,null,null,null,null,null,null,null,"Feedstock 13",{"$f":"IF(SUBTOTAL(103,C403)>0, IF(C403=\"\",U19,C403),\"\")","v":""}]
[null,null,"Site-Specific",{"$f":"_xlfn._xlws.FILTER(C20:C21,C20:C21<>\"\")","v":"Site-Specific"},null,{"$f":"'Biodiesel Production Inputs'!E$15","v":"00:00:00"},null,null,null,null,null,null,null,null,null,null,null,null,null,null,"Feedstock 14",{"$f":"IF(SUBTOTAL(103,C436)>0, IF(C436=\"\",U20,C436),\"\")","v":""}]
[null,null,"Default","Default",false,{"$f":"'Biodiesel Production Inputs'!E$16","v":"00:00:00"},null,null,null,null,null,null,null,null,null,null,null,null,null,null,"Feedstock 15",{"$f":"IF(SUBTOTAL(103,C469)>0, IF(C469=\"\",U21,C469),\"\")","v":""}]
[null,null,null,null,null,{"$f":"'Biodiesel Production Inputs'!E$17","v":"00:00:00"},null,null,null,null,null,null,null,null,null,null,null,null,null,null,"Feedstock 16",{"$f":"IF(SUBTOTAL(103,C502)>0, IF(C502=\"\",U22,C502),\"\")","v":""}]
[null,null,null,null,false,{"$f":"'Biodiesel Production Inputs'!E$18","v":"00:00:00"},null,null,null,null,null,null,null,null,null,null,null,null,null,null,"Feedstock 17",{"$f":"IF(SUBTOTAL(103,C535)>0, IF(C535=\"\",U23,C535),\"\")","v":""}]
[null,null,null,null,null,{"$f":"'Biodiesel Production Inputs'!E$19","v":"00:00:00"},null,null,null,null,null,null,null,null,null,null,null,null,null,null,"Feedstock 18",{"$f":"IF(SUBTOTAL(103,C568)>0, IF(C568=\"\",U24,C568),\"\")","v":""}]
[null,null,"Feedstock Transport (lb-miles)",null,null,{"$f":"'Biodiesel Production Inputs'!E$20","v":"00:00:00"},null,null,null,null,null,null,null,null,null,null,null,null,null,null,"Feedstock 19",{"$f":"IF(SUBTOTAL(103,C601)>0, IF(C601=\"\",U25,C601),\"\")","v":""}]
[null,null,"Truck",{"$f":"SUMPRODUCT(K12:K35,L12:L35)","v":0},null,{"$f":"'Biodiesel Production Inputs'!E$21","v":"00:00:00"},null,null,null,null,null,null,null,null,null,null,null,null,null,null,"Feedstock 20",{"$f":"IF(SUBTOTAL(103,C634)>0, IF(C634=\"\",U26,C634),\"\")","v":""}]
[null,null,"Rail",{"$f":"SUMPRODUCT(M12:M35,N12:N35)","v":0},null,{"$f":"'Biodiesel Production Inputs'!E$22","v":"00:00:00"}]
[null,null,"Barge",{"$f":"SUMPRODUCT(O12:O35,P12:P35)","v":0},null,{"$f":"'Biodiesel Production Inputs'!E$23","v":"00:00:00"}]
[null,null,"Ocean Tanker",{"$f":"SUMPRODUCT(Q12:Q35,R12:R35)","v":0},null,{"$f":"'Biodiesel Production Inputs'!E$24","v":"00:00:00"}]
[null,null,"Transport EF (gCO2e/dry lb)",{"$f":"IFERROR((D26*'CA-GREET4.0'!E$12+D27*'CA-GREET4.0'!E$13+D28*'CA-GREET4.0'!E$14+IFERROR(D29*D19,0))/SUMPRODUCT(I12:I35,1-J12:J35),0)","v":0},null,{"$f":"'Biodiesel Production Inputs'!E$25","v":"00:00:00"}]
[null,null,null,null,null,{"$f":"'Biodiesel Production Inputs'!E$26","v":"00:00:00"}]
[null,null,"Fuel Production Facility Inventory (dry lbs)",null,null,{"$f":"'Biodiesel Production Inputs'!E$27","v":"00:00:00"}]
[null,null,"Feedstock Received",{"$f":"SUMPRODUCT(I12:I35,1-J12:J35)","v":0},null,{"$f":"'Biodiesel Production Inputs'!E$28","v":"00:00:00"}]
[null,null,"On-Site Inventory Change",{"$f":"SUMPRODUCT(H12:H35-G12:G35,1-J12:J35)","v":0},null,{"$f":"'Biodiesel Production Inputs'!E$29","v":"00:00:00"}]
[null,null,"Feedstock Used ",{"$f":"D33-D34","v":0},null,{"$f":"'Biodiesel Production Inputs'!E$30","v":"00:00:00"}]
[]
[]
[]
[null,null,"Feedstock 2",null,true,"Section 2: Monthly Feedstock Inputs",null,null,null,null,null,null,null,null,null,null,null,null," "]
[null,null,{"$f":"IF(AND(D43>0,D45>0),CONCATENATE(IF(D45=\"Other (Specify Below)\",D46,D45),\" \",IF(D43=\"Other (Specify Below)\",D44,D43)),\"\")","v":""},null,null,null,"Feedstock Inventory",null,null,null,"Feedstock Transport"]
[null,null,null,null,null,null,"Stored at Fuel Production Facility",null,"Delivered to Fuel Production Facility",null,"Truck",null,"Rail",null,"Barge",null,"Ocean Tanker"]
[null,null,"Section 1: Static Feedstock Inputs",null,null,"2.1.2","2.2.2","2.3.2","2.4.2","2.5.2","2.6.2","2.7.2","2.8.2","2.9.2","2.10.2","2.11.2","2.12.2","2.13.2"]
[null,null,"1.1.2 Feedstock Type",null,null,"Reporting Month","Beginning","Ending","Weight","Moisture","Weight","Distance",{"$f":"K43","v":"Weight"},"Distance","Weight","Distance","Weight","Distance"]
[null,null,null,null,null,"MM/YYYY","lbs","lbs","lbs","%","lbs","miles",{"$f":"K44","v":"lbs"},{"$f":"L44","v":"miles"},{"$f":"M44","v":"lbs"},{"$f":"L44","v":"miles"},{"$f":"K44","v":"lbs"},{"$f":"L44","v":"miles"}]
[null,null,"1.2.2 Feedstock Origin",null,null,{"$f":"'Biodiesel Production Inputs'!E$7","v":"00:00:00"}]
[null,null,null,null,null,{"$f":"'Biodiesel Production Inputs'!E$8","v":"00:00:00"}]
[null,null,"1.3.2 Production EF \n(gCO2e/dry lb)","Site-Specific",null,{"$f":"'Biodiesel Production Inputs'!E$9","v":"00:00:00"}]
[null,null,null,null,null,{"$f":"'Biodiesel Production Inputs'!E$10","v":"00:00:00"}]
[null,null,"1.4.2 Transport Modes",null,null,{"$f":"'Biodiesel Production Inputs'!E$11","v":"00:00:00"}]
[null,null,null,null,null,{"$f":"'Biodiesel Production Inputs'!E$12","v":"00:00:00"}]
[null,null,"1.5.2 Ocean Tanker EF \n(gCO2e/lb-mile)",null,null,{"$f":"'Biodiesel Production Inputs'!E$13","v":"00:00:00"}]
[null,null,null,null,null,{"$f":"'Biodiesel Production Inputs'!E$14","v":"00:00:00"}]
[null,null,"Site-Specific",{"$f":"_xlfn._xlws.FILTER(C53:C54,C53:C54<>\"\")","v":"Site-Specific"},null,{"$f":"'Biodiesel Production Inputs'!E$15","v":"00:00:00"}]
[null,null,"Default","Default",false,{"$f":"'Biodiesel Production Inputs'!E$16","v":"00:00:00"}]
[null,null,null,null,null,{"$f":"'Biodiesel Production Inputs'!E$17","v":"00:00:00"}]
[null,null,null,null,false,{"$f":"'Biodiesel Production Inputs'!E$18","v":"00:00:00"}]
[null,null,null,null,null,{"$f":"'Biodiesel Production Inputs'!E$19","v":"00:00:00"}]
[null,null,"Feedstock Transport (lb-miles)",null,null,{"$f":"'Biodiesel Production Inputs'!E$20","v":"00:00:00"}]
[null,null,"Truck",{"$f":"SUMPRODUCT(K45:K68,L45:L68)","v":0},null,{"$f":"'Biodiesel Production Inputs'!E$21","v":"00:00:00"}]
[null,null,"Rail",{"$f":"SUMPRODUCT(M45:M68,N45:N68)","v":0},null,{"$f":"'Biodiesel Production Inputs'!E$22","v":"00:00:00"}]
[null,null,"Barge",{"$f":"SUMPRODUCT(O45:O68,P45:P68)","v":0},null,{"$f":"'Biodiesel Production Inputs'!E$23","v":"00:00:00"}]
[null,null,"Ocean Tanker",{"$f":"SUMPRODUCT(Q45:Q68,R45:R68)","v":0},null,{"$f":"'Biodiesel Production Inputs'!E$24","v":"00:00:00"}]
[null,null,"Transport EF (gCO2e/dry lb)",{"$f":"IFERROR((D59*'CA-GREET4.0'!E$12+D60*'CA-GREET4.0'!E$13+D61*'CA-GREET4.0'!E$14+IFERROR(D62*D52,0))/SUMPRODUCT(I45:I68,1-J45:J68),0)","v":0},null,{"$f":"'Biodiesel Production Inputs'!E$25","v":"00:00:00"}]
[null,null,null,null,null,{"$f":"'Biodiesel Production Inputs'!E$26","v":"00:00:00"}]
[null,null,"Fuel Production Facility Inventory (dry lbs)",null,null,{"$f":"'Biodiesel Production Inputs'!E$27","v":"00:00:00"}]
[null,null,"Feedstock Received",{"$f":"SUMPRODUCT(I45:I68,1-J45:J68)","v":0},null,{"$f":"'Biodiesel Production Inputs'!E$28","v":"00:00:00"}]
[null,null,"On-Site Inventory Change",{"$f":"SUMPRODUCT(H45:H68-G45:G68,1-J45:J68)","v":0},null,{"$f":"'Biodiesel Production Inputs'!E$29","v":"00:00:00"}]
[null,null,"Feedstock Used ",{"$f":"D66-D67","v":0},null,{"$f":"'Biodiesel Production Inputs'!E$30","v":"00:00:00"}]
[]
[]
[]
[null,null,"Feedstock 3",null,true,"Section 2: Monthly Feedstock Inputs",null,null,null,null,null,null,null,null,null,null,null,null," "]
[null,null,{"$f":"IF(AND(D76>0,D78>0),CONCATENATE(IF(D78=\"Other (Specify Below)\", D79,D78), \" \",IF(D76=\"Other (Specify Below)\",D77,D76)),\"\")","v":""},null,null,null,"Feedstock Inventory",null,null,null,"Feedstock Transport"]
[null,null,null,null,null,null,"Stored at Fuel Production Facility",null,"Delivered to Fuel Production Facility",null,"Truck",null,"Rail",null,"Barge",null,"Ocean Tanker"]
[null,null,"Section 1: Static Feedstock Inputs",null,null,"2.1.3","2.2.3","2.3.3","2.4.3","2.5.3","2.6.3","2.7.3","2.8.3","2.9.3","2.10.3","2.11.3","2.12.3","2.13.3"]
[null,null,"1.1.3 Feedstock Type",null,null,"Reporting Month","Beginning","Ending","Weight","Moisture","Weight","Distance",{"$f":"K76","v":"Weight"},"Distance","Weight","Distance","Weight","Distance"]
[null,null,null,null,null,"MM/YYYY","lbs","lbs","lbs","%","lbs","miles",{"$f":"K77","v":"lbs"},{"$f":"L77","v":"miles"},{"$f":"M77","v":"lbs"},{"$f":"L77","v":"miles"},{"$f":"K77","v":"lbs"},{"$f":"L77","v":"miles"}]
[null,null,"1.2.3 Feedstock Origin",null,null,{"$f":"'Biodiesel Production Inputs'!E$7","v":"00:00:00"}]
[null,null,null,null,null,{"$f":"'Biodiesel Production Inputs'!E$8","v":"00:00:00"}]
[null,null,"1.3.3 Production EF \n(gCO2e/dry lb)",null,null,{"$f":"'Biodiesel Production Inputs'!E$9","v":"00:00:00"}]
[null,null,null,null,null,{"$f":"'Biodiesel Production Inputs'!E$10","v":"00:00:00"}]
[null,null,"1.4.3 Transport Modes",null,null,{"$f":"'Biodiesel Production Inputs'!E$11","v":"00:00:00"}]
[null,null,null,null,null,{"$f":"'Biodiesel Production Inputs'!E$12","v":"00:00:00"}]
[null,null,"1.5.3 Ocean Tanker EF \n(gCO2e/lb-mile)",null,null,{"$f":"'Biodiesel Production Inputs'!E$13","v":"00:00:00"}]
[null,null,null,null,null,{"$f":"'Biodiesel Production Inputs'!E$14","v":"00:00:00"}]
[null,null,"Site-Specific",{"$f":"_xlfn._xlws.FILTER(C86:C87,C86:C87<>\"\")","v":"Site-Specific"},null,{"$f":"'Biodiesel Production Inputs'!E$15","v":"00:00:00"}]
[null,null,"Default","Default",false,{"$f":"'Biodiesel Production Inputs'!E$16","v":"00:00:00"}]
[null,null,null,null,null,{"$f":"'Biodiesel Production Inputs'!E$17","v":"00:00:00"}]
[null,null,null,null,false,{"$f":"'Biodiesel Production Inputs'!E$18","v":"00:00:00"}]
[null,null,null,null,null,{"$f":"'Biodiesel Production Inputs'!E$19","v":"00:00:00"}]
[null,null,"Feedstock Transport (lb-miles)",null,null,{"$f":"'Biodiesel Production Inputs'!E$20","v":"00:00:00"}]
[null,null,"Truck",{"$f":"SUMPRODUCT(K78:K101,L78:L101)","v":0},null,{"$f":"'Biodiesel Production Inputs'!E$21","v":"00:00:00"}]
[null,null,"Rail",{"$f":"SUMPRODUCT(M78:M101,N78:N101)","v":0},null,{"$f":"'Biodiesel Production Inputs'!E$22","v":"00:00:00"}]
[null,null,"Barge",{"$f":"SUMPRODUCT(O78:O101,P78:P101)","v":0},null,{"$f":"'Biodiesel Production Inputs'!E$23","v":"00:00:00"}]
[null,null,"Ocean Tanker",{"$f":"SUMPRODUCT(Q78:Q101,R78:R101)","v":0},null,{"$f":"'Biodiesel Production Inputs'!E$24","v":"00:00:00"}]
[null,null,"Transport EF (gCO2e/dry lb)",{"$f":"IFERROR((D92*'CA-GREET4.0'!E$12+D93*'CA-GREET4.0'!E$13+D94*'CA-GREET4.0'!E$14+IFERROR(D95*D85,0))/SUMPRODUCT(I78:I101,1-J78:J101),0)","v":0},null,{"$f":"'Biodiesel Production Inputs'!E$25","v":"00:00:00"}]
[null,null,null,null,null,{"$f":"'Biodiesel Production Inputs'!E$26","v":"00:00:00"}]
[null,null,"Fuel Production Facility Inventory (dry lbs)",null,null,{"$f":"'Biodiesel Production Inputs'!E$27","v":"00:00:00"}]
[null,null,"Feedstock Received",{"$f":"SUMPRODUCT(I78:I101,1-J78:J101)","v":0},null,{"$f":"'Biodiesel Production Inputs'!E$28","v":"00:00:00"}]
[null,null,"On-Site Inventory Change",{"$f":"SUMPRODUCT(H78:H101-G78:G101,1-J78:J101)","v":0},null,{"$f":"'Biodiesel Production Inputs'!E$29","v":"00:00:00"}]
[null,null,"Feedstock Used ",{"$f":"D99-D100","v":0},null,{"$f":"'Biodiesel Production Inputs'!E$30","v":"00:00:00"}]
[]
[]
[]
[null,null,"Feedstock 4",null,true,"Section 2: Monthly Feedstock Inputs",null,null,null,null,null,null,null,null,null,null,null,null," "]
[null,null,{"$f":"IF(AND(D109>0,D111>0),CONCATENATE(IF(D111=\"Other (Specify Below)\",D112,D111),\" \",IF(D109=\"Other (Specify Below)\",D110,D109)),\"\")","v":""},null,null,null,"Feedstock Inventory",null,null,null,"Feedstock Transport"]
[null,null,null,null,null,null,"Stored at Fuel Production Facility",null,"Delivered to Fuel Production Facility",null,"Truck",null,"Rail",null,"Barge",null,"Ocean Tanker"]
[null,null,"Section 1: Static Feedstock Inputs",null,null,"2.1.4","2.2.4","2.3.4","2.4.4","2.5.4","2.6.4","2.7.4","2.8.4","2.9.4","2.10.4","2.11.4","2.12.4","2.13.4"]
[null,null,"1.1.4 Feedstock Type",null,null,"Reporting Month","Beginning","Ending","Weight","Moisture","Weight","Distance",{"$f":"K109","v":"Weight"},"Distance","Weight","Distance","Weight","Distance"]
[null,null,null,null,null,"MM/YYYY","lbs","lbs","lbs","%","lbs","miles",{"$f":"K110","v":"lbs"},{"$f":"L110","v":"miles"},{"$f":"M110","v":"lbs"},{"$f":"L110","v":"miles"},{"$f":"K110","v":"lbs"},{"$f":"L110","v":"miles"}]
[null,null,"1.2.4 Feedstock Origin",null,null,{"$f":"'Biodiesel Production Inputs'!E$7","v":"00:00:00"}]
[null,null,null,null,null,{"$f":"'Biodiesel Production Inputs'!E$8","v":"00:00:00"}]
[null,null,"1.3.4 Production EF \n(gCO2e/dry lb)",null,null,{"$f":"'Biodiesel Production Inputs'!E$9","v":"00:00:00"}]
[null,null,null,null,null,{"$f":"'Biodiesel Production Inputs'!E$10","v":"00:00:00"}]
[null,null,"1.4.4 Transport Modes",null,null,{"$f":"'Biodiesel Production Inputs'!E$11","v":"00:00:00"}]
[null,null,null,null,null,{"$f":"'Biodiesel Production Inputs'!E$12","v":"00:00:00"}]
[null,null,"1.5.4 Ocean Tanker EF \n(gCO2e/lb-mile)",null,null,{"$f":"'Biodiesel Production Inputs'!E$13","v":"00:00:00"}]
[null,null,null,null,null,{"$f":"'Biodiesel Production Inputs'!E$14","v":"00:00:00"}]
[null,null,"Site-Specific",{"$f":"_xlfn._xlws.FILTER(C119:C120,C119:C120<>\"\")","v":"Site-Specific"},null,{"$f":"'Biodiesel Production Inputs'!E$15","v":"00:00:00"}]
[null,null,"Default","Default",false,{"$f":"'Biodiesel Production Inputs'!E$16","v":"00:00:00"}]
[null,null,null,null,null,{"$f":"'Biodiesel Production Inputs'!E$17","v":"00:00:00"}]
[null,null,null,null,false,{"$f":"'Biodiesel Production Inputs'!E$18","v":"00:00:00"}]
[null,null,null,null,null,{"$f":"'Biodiesel Production Inputs'!E$19","v":"00:00:00"}]
[null,null,"Feedstock Transport (lb-miles)",null,null,{"$f":"'Biodiesel Production Inputs'!E$20","v":"00:00:00"}]
[null,null,"Truck",{"$f":"SUMPRODUCT(K111:K134,L111:L134)","v":0},null,{"$f":"'Biodiesel Production Inputs'!E$21","v":"00:00:00"}]
[null,null,"Rail",{"$f":"SUMPRODUCT(M111:M134,N111:N134)","v":0},null,{"$f":"'Biodiesel Production Inputs'!E$22","v":"00:00:00"}]
[null,null,"Barge",{"$f":"SUMPRODUCT(O111:O134,P111:P134)","v":0},null,{"$f":"'Biodiesel Production Inputs'!E$23","v":"00:00:00"}]
[null,null,"Ocean Tanker",{"$f":"SUMPRODUCT(Q111:Q134,R111:R134)","v":0},null,{"$f":"'Biodiesel Production Inputs'!E$24","v":"00:00:00"}]
[null,null,"Transport EF (gCO2e/dry lb)",{"$f":"IFERROR((D125*'CA-GREET4.0'!E$12+D126*'CA-GREET4.0'!E$13+D127*'CA-GREET4.0'!E$14+IFERROR(D128*D118,0))/SUMPRODUCT(I111:I134,1-J111:J134),0)","v":0},null,{"$f":"'Biodiesel Production Inputs'!E$25","v":"00:00:00"}]
[null,null,null,null,null,{"$f":"'Biodiesel Production Inputs'!E$26","v":"00:00:00"}]
[null,null,"Fuel Production Facility Inventory (dry lbs)",null,null,{"$f":"'Biodiesel Production Inputs'!E$27","v":"00:00:00"}]
[null,null,"Feedstock Received",{"$f":"SUMPRODUCT(I111:I134,1-J111:J134)","v":0},null,{"$f":"'Biodiesel Production Inputs'!E$28","v":"00:00:00"}]
[null,null,"On-Site Inventory Change",{"$f":"SUMPRODUCT(H111:H134-G111:G134,1-J111:J134)","v":0},null,{"$f":"'Biodiesel Production Inputs'!E$29","v":"00:00:00"}]
[null,null,"Feedstock Used ",{"$f":"D132-D133","v":0},null,{"$f":"'Biodiesel Production Inputs'!E$30","v":"00:00:00"}]
[]
[]
[]
[null,null,"Feedstock 5",null,true,"Section 2: Monthly Feedstock Inputs",null,null,null,null,null,null,null,null,null,null,null,null," "]
[null,null,{"$f":"IF(AND(D142>0,D144>0),CONCATENATE(IF(D144=\"Other (Specify Below)\",D145,D144),\" \",IF(D142=\"Other (Specify Below)\",D143,D142)),\"\")","v":""},null,null,null,"Feedstock Inventory",null,null,null,"Feedstock Transport"]
[null,null,null,null,null,null,"Stored at Fuel Production Facility",null,"Delivered to Fuel Production Facility",null,"Truck",null,"Rail",null,"Barge",null,"Ocean Tanker"]
[null,null,"Section 1: Static Feedstock Inputs",null,null,"2.1.5","2.2.5","2.3.5","2.4.5","2.5.5","2.6.5","2.7.5","2.8.5","2.9.5","2.10.5","2.11.5","2.12.5","2.13.5"]
[null,null,"1.1.5 Feedstock Type",null,null,"Reporting Month","Beginning","Ending","Weight","Moisture","Weight","Distance",{"$f":"K142","v":"Weight"},"Distance","Weight","Distance","Weight","Distance"]
[null,null,null,null,null,"MM/YYYY","lbs","lbs","lbs","%","lbs","miles",{"$f":"K143","v":"lbs"},{"$f":"L143","v":"miles"},{"$f":"M143","v":"lbs"},{"$f":"L143","v":"miles"},{"$f":"K143","v":"lbs"},{"$f":"L143","v":"miles"}]
[null,null,"1.2.5 Feedstock Origin",null,null,{"$f":"'Biodiesel Production Inputs'!E$7","v":"00:00:00"}]
[null,null,null,null,null,{"$f":"'Biodiesel Production Inputs'!E$8","v":"00:00:00"}]
[null,null,"1.3.5 Production EF \n(gCO2e/dry lb)",null,null,{"$f":"'Biodiesel Production Inputs'!E$9","v":"00:00:00"}]
[null,null,null,null,null,{"$f":"'Biodiesel Production Inputs'!E$10","v":"00:00:00"}]
[null,null,"1.4.5 Transport Modes",null,null,{"$f":"'Biodiesel Production Inputs'!E$11","v":"00:00:00"}]
[null,null,null,null,null,{"$f":"'Biodiesel Production Inputs'!E$12","v":"00:00:00"}]
[null,null,"1.5.5 Ocean Tanker EF \n(gCO2e/lb-mile)",null,null,{"$f":"'Biodiesel Production Inputs'!E$13","v":"00:00:00"}]
[null,null,null,null,null,{"$f":"'Biodiesel Production Inputs'!E$14","v":"00:00:00"}]
[null,null,"Site-Specific",{"$f":"_xlfn._xlws.FILTER(C152:C153,C152:C153<>\"\")","v":"Site-Specific"},null,{"$f":"'Biodiesel Production Inputs'!E$15","v":"00:00:00"}]
[null,null,"Default","Default",false,{"$f":"'Biodiesel Production Inputs'!E$16","v":"00:00:00"}]
[null,null,null,null,null,{"$f":"'Biodiesel Production Inputs'!E$17","v":"00:00:00"}]
[null,null,null,null,false,{"$f":"'Biodiesel Production Inputs'!E$18","v":"00:00:00"}]
[null,null,null,null,null,{"$f":"'Biodiesel Production Inputs'!E$19","v":"00:00:00"}]
[null,null,"Feedstock Transport (lb-miles)",null,null,{"$f":"'Biodiesel Production Inputs'!E$20","v":"00:00:00"}]
[null,null,"Truck",{"$f":"SUMPRODUCT(K144:K167,L144:L167)","v":0},null,{"$f":"'Biodiesel Production Inputs'!E$21","v":"00:00:00"}]
[null,null,"Rail",{"$f":"SUMPRODUCT(M144:M167,N144:N167)","v":0},null,{"$f":"'Biodiesel Production Inputs'!E$22","v":"00:00:00"}]
[null,null,"Barge",{"$f":"SUMPRODUCT(O144:O167,P144:P167)","v":0},null,{"$f":"'Biodiesel Production Inputs'!E$23","v":"00:00:00"}]
[null,null,"Ocean Tanker",{"$f":"SUMPRODUCT(Q144:Q167,R144:R167)","v":0},null,{"$f":"'Biodiesel Production Inputs'!E$24","v":"00:00:00"}]
[null,null,"Transport EF (gCO2e/dry lb)",{"$f":"IFERROR((D158*'CA-GREET4.0'!E$12+D159*'CA-GREET4.0'!E$13+D160*'CA-GREET4.0'!E$14+IFERROR(D161*D151,0))/SUMPRODUCT(I144:I167,1-J144:J167),0)","v":0},null,{"$f":"'Biodiesel Production Inputs'!E$25","v":"00:00:00"}]
[null,null,null,null,null,{"$f":"'Biodiesel Production Inputs'!E$26","v":"00:00:00"}]
[null,null,"Fuel Production Facility Inventory (dry lbs)",null,null,{"$f":"'Biodiesel Production Inputs'!E$27","v":"00:00:00"}]
[null,null,"Feedstock Received",{"$f":"SUMPRODUCT(I144:I167,1-J144:J167)","v":0},null,{"$f":"'Biodiesel Production Inputs'!E$28","v":"00:00:00"}]
[null,null,"On-Site Inventory Change",{"$f":"SUMPRODUCT(H144:H167-G144:G167,1-J144:J167)","v":0},null,{"$f":"'Biodiesel Production Inputs'!E$29","v":"00:00:00"}]
[null,null,"Feedstock Used ",{"$f":"D165-D166","v":0},null,{"$f":"'Biodiesel Production Inputs'!E$30","v":"00:00:00"}]
[]
[]
[]
[null,null,"Feedstock 6",null,true,"Section 2: Monthly Feedstock Inputs",null,null,null,null,null,null,null,null,null,null,null,null," "]
[null,null,{"$f":"IF(AND(D175>0,D177>0),CONCATENATE(IF(D177=\"Other (Specify Below)\", D178,D177), \" \",IF(D175=\"Other (Specify Below)\",D176,D175)),\"\")","v":""},null,null,null,"Feedstock Inventory",null,null,null,"Feedstock Transport"]
[null,null,null,null,null,null,"Stored at Fuel Production Facility",null,"Delivered to Fuel Production Facility",null,"Truck",null,"Rail",null,"Barge",null,"Ocean Tanker"]
[null,null,"Section 1: Static Feedstock Inputs",null,null,"2.1.6","2.2.6","2.3.6","2.4.6","2.5.6","2.6.6","2.7.6","2.8.6","2.9.6","2.10.6","2.11.6","2.12.6","2.13.6"]
[null,null,"1.1.6 Feedstock Type",null,null,"Reporting Month","Beginning","Ending","Weight","Moisture","Weight","Distance",{"$f":"K175","v":"Weight"},"Distance","Weight","Distance","Weight","Distance"]
[null,null,null,null,null,"MM/YYYY","lbs","lbs","lbs","%","lbs","miles",{"$f":"K176","v":"lbs"},{"$f":"L176","v":"miles"},{"$f":"M176","v":"lbs"},{"$f":"L176","v":"miles"},{"$f":"K176","v":"lbs"},{"$f":"L176","v":"miles"}]
[null,null,"1.2.6 Feedstock Origin",null,null,{"$f":"'Biodiesel Production Inputs'!E$7","v":"00:00:00"}]
[null,null,null,null,null,{"$f":"'Biodiesel Production Inputs'!E$8","v":"00:00:00"}]
[null,null,"1.3.6 Production EF \n(gCO2e/dry lb)",null,null,{"$f":"'Biodiesel Production Inputs'!E$9","v":"00:00:00"}]
[null,null,null,null,null,{"$f":"'Biodiesel Production Inputs'!E$10","v":"00:00:00"}]
[null,null,"1.4.6 Transport Modes",null,null,{"$f":"'Biodiesel Production Inputs'!E$11","v":"00:00:00"}]
[null,null,null,null,null,{"$f":"'Biodiesel Production Inputs'!E$12","v":"00:00:00"}]
[null,null,"1.5.6 Ocean Tanker EF \n(gCO2e/lb-mile)",null,null,{"$f":"'Biodiesel Production Inputs'!E$13","v":"00:00:00"}]
[null,null,null,null,null,{"$f":"'Biodiesel Production Inputs'!E$14","v":"00:00:00"}]
[null,null,"Site-Specific",{"$f":"_xlfn._xlws.FILTER(C185:C186,C185:C186<>\"\")","v":"Site-Specific"},null,{"$f":"'Biodiesel Production Inputs'!E$15","v":"00:00:00"}]
[null,null,"Default","Default",false,{"$f":"'Biodiesel Production Inputs'!E$16","v":"00:00:00"}]
[null,null,null,null,null,{"$f":"'Biodiesel Production Inputs'!E$17","v":"00:00:00"}]
[null,null,null,null,false,{"$f":"'Biodiesel Production Inputs'!E$18","v":"00:00:00"}]
[null,null,null,null,null,{"$f":"'Biodiesel Production Inputs'!E$19","v":"00:00:00"}]
[null,null,"Feedstock Transport (lb-miles)",null,null,{"$f":"'Biodiesel Production Inputs'!E$20","v":"00:00:00"}]
[null,null,"Truck",{"$f":"SUMPRODUCT(K177:K200,L177:L200)","v":0},null,{"$f":"'Biodiesel Production Inputs'!E$21","v":"00:00:00"}]
[null,null,"Rail",{"$f":"SUMPRODUCT(M177:M200,N177:N200)","v":0},null,{"$f":"'Biodiesel Production Inputs'!E$22","v":"00:00:00"}]
[null,null,"Barge",{"$f":"SUMPRODUCT(O177:O200,P177:P200)","v":0},null,{"$f":"'Biodiesel Production Inputs'!E$23","v":"00:00:00"}]
[null,null,"Ocean Tanker",{"$f":"SUMPRODUCT(Q177:Q200,R177:R200)","v":0},null,{"$f":"'Biodiesel Production Inputs'!E$24","v":"00:00:00"}]
[null,null,"Transport EF (gCO2e/dry lb)",{"$f":"IFERROR((D191*'CA-GREET4.0'!E$12+D192*'CA-GREET4.0'!E$13+D193*'CA-GREET4.0'!E$14+IFERROR(D194*D184,0))/SUMPRODUCT(I177:I200,1-J177:J200),0)","v":0},null,{"$f":"'Biodiesel Production Inputs'!E$25","v":"00:00:00"}]
[null,null,null,null,null,{"$f":"'Biodiesel Production Inputs'!E$26","v":"00:00:00"}]
[null,null,"Fuel Production Facility Inventory (dry lbs)",null,null,{"$f":"'Biodiesel Production Inputs'!E$27","v":"00:00:00"}]
[null,null,"Feedstock Received",{"$f":"SUMPRODUCT(I177:I200,1-J177:J200)","v":0},null,{"$f":"'Biodiesel Production Inputs'!E$28","v":"00:00:00"}]
[null,null,"On-Site Inventory Change",{"$f":"SUMPRODUCT(H177:H200-G177:G200,1-J177:J200)","v":0},null,{"$f":"'Biodiesel Production Inputs'!E$29","v":"00:00:00"}]
[null,null,"Feedstock Used ",{"$f":"D198-D199","v":0},null,{"$f":"'Biodiesel Production Inputs'!E$30","v":"00:00:00"}]
[]
[]
[]
[null,null,"Feedstock 7",null,true,"Section 2: Monthly Feedstock Inputs",null,null,null,null,null,null,null,null,null,null,null,null," "]
[null,null,{"$f":"IF(AND(D208>0,D210>0),CONCATENATE(IF(D210=\"Other (Specify Below)\",D211,D210),\" \",IF(D208=\"Other (Specify Below)\",D209,D208)),\"\")","v":""},null,null,null,"Feedstock Inventory",null,null,null,"Feedstock Transport"]
[null,null,null,null,null,null,"Stored at Fuel Production Facility",null,"Delivered to Fuel Production Facility",null,"Truck",null,"Rail",null,"Barge",null,"Ocean Tanker"]
[null,null,"Section 1: Static Feedstock Inputs",null,null,"2.1.7","2.2.7","2.3.7","2.4.7","2.5.7","2.6.7","2.7.7","2.8.7","2.9.7","2.10.7","2.11.7","2.12.7","2.13.7"]
[null,null,"1.1.7 Feedstock Type",null,null,"Reporting Month","Beginning","Ending","Weight","Moisture","Weight","Distance",{"$f":"K208","v":"Weight"},"Distance","Weight","Distance","Weight","Distance"]
[null,null,null,null,null,"MM/YYYY","lbs","lbs","lbs","%","lbs","miles",{"$f":"K209","v":"lbs"},{"$f":"L209","v":"miles"},{"$f":"M209","v":"lbs"},{"$f":"L209","v":"miles"},{"$f":"K209","v":"lbs"},{"$f":"L209","v":"miles"}]
[null,null,"1.2.7 Feedstock Origin",null,null,{"$f":"'Biodiesel Production Inputs'!E$7","v":"00:00:00"}]
[null,null,null,null,null,{"$f":"'Biodiesel Production Inputs'!E$8","v":"00:00:00"}]
[null,null,"1.3.7 Production EF \n(gCO2e/dry lb)",null,null,{"$f":"'Biodiesel Production Inputs'!E$9","v":"00:00:00"}]
[null,null,null,null,null,{"$f":"'Biodiesel Production Inputs'!E$10","v":"00:00:00"}]
[null,null,"1.4.7 Transport Modes",null,null,{"$f":"'Biodiesel Production Inputs'!E$11","v":"00:00:00"}]
[null,null,null,null,null,{"$f":"'Biodiesel Production Inputs'!E$12","v":"00:00:00"}]
[null,null,"1.5.7 Ocean Tanker EF \n(gCO2e/lb-mile)",null,null,{"$f":"'Biodiesel Production Inputs'!E$13","v":"00:00:00"}]
[null,null,null,null,null,{"$f":"'Biodiesel Production Inputs'!E$14","v":"00:00:00"}]
[null,null,"Site-Specific",{"$f":"_xlfn._xlws.FILTER(C218:C219,C218:C219<>\"\")","v":"Site-Specific"},null,{"$f":"'Biodiesel Production Inputs'!E$15","v":"00:00:00"}]
[null,null,"Default","Default",false,{"$f":"'Biodiesel Production Inputs'!E$16","v":"00:00:00"}]
[null,null,null,null,null,{"$f":"'Biodiesel Production Inputs'!E$17","v":"00:00:00"}]
[null,null,null,null,false,{"$f":"'Biodiesel Production Inputs'!E$18","v":"00:00:00"}]
[null,null,null,null,null,{"$f":"'Biodiesel Production Inputs'!E$19","v":"00:00:00"}]
[null,null,"Feedstock Transport (lb-miles)",null,null,{"$f":"'Biodiesel Production Inputs'!E$20","v":"00:00:00"}]
[null,null,"Truck",{"$f":"SUMPRODUCT(K210:K233,L210:L233)","v":0},null,{"$f":"'Biodiesel Production Inputs'!E$21","v":"00:00:00"}]
[null,null,"Rail",{"$f":"SUMPRODUCT(M210:M233,N210:N233)","v":0},null,{"$f":"'Biodiesel Production Inputs'!E$22","v":"00:00:00"}]
[null,null,"Barge",{"$f":"SUMPRODUCT(O210:O233,P210:P233)","v":0},null,{"$f":"'Biodiesel Production Inputs'!E$23","v":"00:00:00"}]
[null,null,"Ocean Tanker",{"$f":"SUMPRODUCT(Q210:Q233,R210:R233)","v":0},null,{"$f":"'Biodiesel Production Inputs'!E$24","v":"00:00:00"}]
[null,null,"Transport EF (gCO2e/dry lb)",{"$f":"IFERROR((D224*'CA-GREET4.0'!E$12+D225*'CA-GREET4.0'!E$13+D226*'CA-GREET4.0'!E$14+IFERROR(D227*D217,0))/SUMPRODUCT(I210:I233,1-J210:J233),0)","v":0},null,{"$f":"'Biodiesel Production Inputs'!E$25","v":"00:00:00"}]
[null,null,null,null,null,{"$f":"'Biodiesel Production Inputs'!E$26","v":"00:00:00"}]
[null,null,"Fuel Production Facility Inventory (dry lbs)",null,null,{"$f":"'Biodiesel Production Inputs'!E$27","v":"00:00:00"}]
[null,null,"Feedstock Received",{"$f":"SUMPRODUCT(I210:I233,1-J210:J233)","v":0},null,{"$f":"'Biodiesel Production Inputs'!E$28","v":"00:00:00"}]
[null,null,"On-Site Inventory Change",{"$f":"SUMPRODUCT(H210:H233-G210:G233,1-J210:J233)","v":0},null,{"$f":"'Biodiesel Production Inputs'!E$29","v":"00:00:00"}]
[null,null,"Feedstock Used ",{"$f":"D231-D232","v":0},null,{"$f":"'Biodiesel Production Inputs'!E$30","v":"00:00:00"}]
[]
[]
[]
[null,null,"Feedstock 8",null,true,"Section 2: Monthly Feedstock Inputs",null,null,null,null,null,null,null,null,null,null,null,null," "]
[null,null,{"$f":"IF(AND(D241>0,D243>0),CONCATENATE(IF(D243=\"Other (Specify Below)\",D244,D243),\" \",IF(D241=\"Other (Specify Below)\",D242,D241)),\"\")","v":""},null,null,null,"Feedstock Inventory",null,null,null,"Feedstock Transport"]
[null,null,null,null,null,null,"Stored at Fuel Production Facility",null,"Delivered to Fuel Production Facility",null,"Truck",null,"Rail",null,"Barge",null,"Ocean Tanker"]
[null,null,"Section 1: Static Feedstock Inputs",null,null,"2.1.8","2.2.8","2.3.8","2.4.8","2.5.8","2.6.8","2.7.8","2.8.8","2.9.8","2.10.8","2.11.8","2.12.8","2.13.8"]
[null,null,"1.1.8 Feedstock Type",null,null,"Reporting Month","Beginning","Ending","Weight","Moisture","Weight","Distance",{"$f":"K241","v":"Weight"},"Distance","Weight","Distance","Weight","Distance"]
[null,null,null,null,null,"MM/YYYY","lbs","lbs","lbs","%","lbs","miles",{"$f":"K242","v":"lbs"},{"$f":"L242","v":"miles"},{"$f":"M242","v":"lbs"},{"$f":"L242","v":"miles"},{"$f":"K242","v":"lbs"},{"$f":"L242","v":"miles"}]
[null,null,"1.2.8 Feedstock Origin",null,null,{"$f":"'Biodiesel Production Inputs'!E$7","v":"00:00:00"}]
[null,null,null,null,null,{"$f":"'Biodiesel Production Inputs'!E$8","v":"00:00:00"}]
[null,null,"1.3.8 Production EF \n(gCO2e/dry lb)",null,null,{"$f":"'Biodiesel Production Inputs'!E$9","v":"00:00:00"}]
[null,null,null,null,null,{"$f":"'Biodiesel Production Inputs'!E$10","v":"00:00:00"}]
[null,null,"1.4.8 Transport Modes",null,null,{"$f":"'Biodiesel Production Inputs'!E$11","v":"00:00:00"}]
[null,null,null,null,null,{"$f":"'Biodiesel Production Inputs'!E$12","v":"00:00:00"}]
[null,null,"1.5.8 Ocean Tanker EF \n(gCO2e/lb-mile)",null,null,{"$f":"'Biodiesel Production Inputs'!E$13","v":"00:00:00"}]
[null,null,null,null,null,{"$f":"'Biodiesel Production Inputs'!E$14","v":"00:00:00"}]
[null,null,"Site-Specific",{"$f":"_xlfn._xlws.FILTER(C251:C252,C251:C252<>\"\")","v":"Site-Specific"},null,{"$f":"'Biodiesel Production Inputs'!E$15","v":"00:00:00"}]
[null,null,"Default","Default",false,{"$f":"'Biodiesel Production Inputs'!E$16","v":"00:00:00"}]
[null,null,null,null,null,{"$f":"'Biodiesel Production Inputs'!E$17","v":"00:00:00"}]
[null,null,null,null,false,{"$f":"'Biodiesel Production Inputs'!E$18","v":"00:00:00"}]
[null,null,null,null,null,{"$f":"'Biodiesel Production Inputs'!E$19","v":"00:00:00"}]
[null,null,"Feedstock Transport (lb-miles)",null,null,{"$f":"'Biodiesel Production Inputs'!E$20","v":"00:00:00"}]
[null,null,"Truck",{"$f":"SUMPRODUCT(K243:K266,L243:L266)","v":0},null,{"$f":"'Biodiesel Production Inputs'!E$21","v":"00:00:00"}]
[null,null,"Rail",{"$f":"SUMPRODUCT(M243:M266,N243:N266)","v":0},null,{"$f":"'Biodiesel Production Inputs'!E$22","v":"00:00:00"}]
[null,null,"Barge",{"$f":"SUMPRODUCT(O243:O266,P243:P266)","v":0},null,{"$f":"'Biodiesel Production Inputs'!E$23","v":"00:00:00"}]
[null,null,"Ocean Tanker",{"$f":"SUMPRODUCT(Q243:Q266,R243:R266)","v":0},null,{"$f":"'Biodiesel Production Inputs'!E$24","v":"00:00:00"}]
[null,null,"Transport EF (gCO2e/dry lb)",{"$f":"IFERROR((D257*'CA-GREET4.0'!E$12+D258*'CA-GREET4.0'!E$13+D259*'CA-GREET4.0'!E$14+IFERROR(D260*D250,0))/SUMPRODUCT(I243:I266,1-J243:J266),0)","v":0},null,{"$f":"'Biodiesel Production Inputs'!E$25","v":"00:00:00"}]
[null,null,null,null,null,{"$f":"'Biodiesel Production Inputs'!E$26","v":"00:00:00"}]
[null,null,"Fuel Production Facility Inventory (dry lbs)",null,null,{"$f":"'Biodiesel Production Inputs'!E$27","v":"00:00:00"}]
[null,null,"Feedstock Received",{"$f":"SUMPRODUCT(I243:I266,1-J243:J266)","v":0},null,{"$f":"'Biodiesel Production Inputs'!E$28","v":"00:00:00"}]
[null,null,"On-Site Inventory Change",{"$f":"SUMPRODUCT(H243:H266-G243:G266,1-J243:J266)","v":0},null,{"$f":"'Biodiesel Production Inputs'!E$29","v":"00:00:00"}]
[null,null,"Feedstock Used ",{"$f":"D264-D265","v":0},null,{"$f":"'Biodiesel Production Inputs'!E$30","v":"00:00:00"}]
[]
[]
[]
[null,null,"Feedstock 9",null,true,"Section 2: Monthly Feedstock Inputs",null,null,null,null,null,null,null,null,null,null,null,null," "]
[null,null,{"$f":"IF(AND(D274>0,D276>0),CONCATENATE(IF(D276=\"Other (Specify Below)\",D277,D276),\" \",IF(D274=\"Other (Specify Below)\",D275,D274)),\"\")","v":""},null,null,null,"Feedstock Inventory",null,null,null,"Feedstock Transport"]
[null,null,null,null,null,null,"Stored at Fuel Production Facility",null,"Delivered to Fuel Production Facility",null,"Truck",null,"Rail",null,"Barge",null,"Ocean Tanker"]
[null,null,"Section 1: Static Feedstock Inputs",null,null,"2.1.9","2.2.9","2.3.9","2.4.9","2.5.9","2.6.9","2.7.9","2.8.9","2.9.9","2.10.9","2.11.9","2.12.9","2.13.9"]
[null,null,"1.1.9 Feedstock Type",null,null,"Reporting Month","Beginning","Ending","Weight","Moisture","Weight","Distance",{"$f":"K274","v":"Weight"},"Distance","Weight","Distance","Weight","Distance"]
[null,null,null,null,null,"MM/YYYY","lbs","lbs","lbs","%","lbs","miles",{"$f":"K275","v":"lbs"},{"$f":"L275","v":"miles"},{"$f":"M275","v":"lbs"},{"$f":"L275","v":"miles"},{"$f":"K275","v":"lbs"},{"$f":"L275","v":"miles"}]
[null,null,"1.2.9 Feedstock Origin",null,null,{"$f":"'Biodiesel Production Inputs'!E$7","v":"00:00:00"}]
[null,null,null,null,null,{"$f":"'Biodiesel Production Inputs'!E$8","v":"00:00:00"}]
[null,null,"1.3.9 Production EF \n(gCO2e/dry lb)",null,null,{"$f":"'Biodiesel Production Inputs'!E$9","v":"00:00:00"}]
[null,null,null,null,null,{"$f":"'Biodiesel Production Inputs'!E$10","v":"00:00:00"}]
[null,null,"1.4.9 Transport Modes",null,null,{"$f":"'Biodiesel Production Inputs'!E$11","v":"00:00:00"}]
[null,null,null,null,null,{"$f":"'Biodiesel Production Inputs'!E$12","v":"00:00:00"}]
[null,null,"1.5.9 Ocean Tanker EF \n(gCO2e/lb-mile)",null,null,{"$f":"'Biodiesel Production Inputs'!E$13","v":"00:00:00"}]
[null,null,null,null,null,{"$f":"'Biodiesel Production Inputs'!E$14","v":"00:00:00"}]
[null,null,"Site-Specific",{"$f":"_xlfn._xlws.FILTER(C284:C285,C284:C285<>\"\")","v":"Site-Specific"},null,{"$f":"'Biodiesel Production Inputs'!E$15","v":"00:00:00"}]
[null,null,"Default","Default",false,{"$f":"'Biodiesel Production Inputs'!E$16","v":"00:00:00"}]
[null,null,null,null,null,{"$f":"'Biodiesel Production Inputs'!E$17","v":"00:00:00"}]
[null,null,null,null,false,{"$f":"'Biodiesel Production Inputs'!E$18","v":"00:00:00"}]
[null,null,null,null,null,{"$f":"'Biodiesel Production Inputs'!E$19","v":"00:00:00"}]
[null,null,"Feedstock Transport (lb-miles)",null,null,{"$f":"'Biodiesel Production Inputs'!E$20","v":"00:00:00"}]
[null,null,"Truck",{"$f":"SUMPRODUCT(K276:K299,L276:L299)","v":0},null,{"$f":"'Biodiesel Production Inputs'!E$21","v":"00:00:00"}]
[null,null,"Rail",{"$f":"SUMPRODUCT(M276:M299,N276:N299)","v":0},null,{"$f":"'Biodiesel Production Inputs'!E$22","v":"00:00:00"}]
[null,null,"Barge",{"$f":"SUMPRODUCT(O276:O299,P276:P299)","v":0},null,{"$f":"'Biodiesel Production Inputs'!E$23","v":"00:00:00"}]
[null,null,"Ocean Tanker",{"$f":"SUMPRODUCT(Q276:Q299,R276:R299)","v":0},null,{"$f":"'Biodiesel Production Inputs'!E$24","v":"00:00:00"}]
[null,null,"Transport EF (gCO2e/dry lb)",{"$f":"IFERROR((D290*'CA-GREET4.0'!E$12+D291*'CA-GREET4.0'!E$13+D292*'CA-GREET4.0'!E$14+IFERROR(D293*D283,0))/SUMPRODUCT(I276:I299,1-J276:J299),0)","v":0},null,{"$f":"'Biodiesel Production Inputs'!E$25","v":"00:00:00"}]
[null,null,null,null,null,{"$f":"'Biodiesel Production Inputs'!E$26","v":"00:00:00"}]
[null,null,"Fuel Production Facility Inventory (dry lbs)",null,null,{"$f":"'Biodiesel Production Inputs'!E$27","v":"00:00:00"}]
[null,null,"Feedstock Received",{"$f":"SUMPRODUCT(I276:I299,1-J276:J299)","v":0},null,{"$f":"'Biodiesel Production Inputs'!E$28","v":"00:00:00"}]
[null,null,"On-Site Inventory Change",{"$f":"SUMPRODUCT(H276:H299-G276:G299,1-J276:J299)","v":0},null,{"$f":"'Biodiesel Production Inputs'!E$29","v":"00:00:00"}]
[null,null,"Feedstock Used ",{"$f":"D297-D298","v":0},null,{"$f":"'Biodiesel Production Inputs'!E$30","v":"00:00:00"}]
[]
[]
[]
[null,null,"Feedstock 10",null,true,"Section 2: Monthly Feedstock Inputs",null,null,null,null,null,null,null,null,null,null,null,null," "]
[null,null,{"$f":"IF(AND(D307>0,D309>0),CONCATENATE(IF(D309=\"Other (Specify Below)\",D310,D309),\" \",IF(D307=\"Other (Specify Below)\",D308,D307)),\"\")","v":""},null,null,null,"Feedstock Inventory",null,null,null,"Feedstock Transport"]
[null,null,null,null,null,null,"Stored at Fuel Production Facility",null,"Delivered to Fuel Production Facility",null,"Truck",null,"Rail",null,"Barge",null,"Ocean Tanker"]
[null,null,"Section 1: Static Feedstock Inputs",null,null,"2.1.10","2.2.10","2.3.10","2.4.10","2.5.10","2.6.10","2.7.10","2.8.10","2.9.10","2.10.10","2.11.10","2.12.10","2.13.10"]
[null,null,"1.1.10 Feedstock Type",null,null,"Reporting Month","Beginning","Ending","Weight","Moisture","Weight","Distance",{"$f":"K307","v":"Weight"},"Distance","Weight","Distance","Weight","Distance"]
[null,null,null,null,null,"MM/YYYY","lbs","lbs","lbs","%","lbs","miles",{"$f":"K308","v":"lbs"},{"$f":"L308","v":"miles"},{"$f":"M308","v":"lbs"},{"$f":"L308","v":"miles"},{"$f":"K308","v":"lbs"},{"$f":"L308","v":"miles"}]
[null,null,"1.2.10 Feedstock Origin",null,null,{"$f":"'Biodiesel Production Inputs'!E$7","v":"00:00:00"}]
[null,null,null,null,null,{"$f":"'Biodiesel Production Inputs'!E$8","v":"00:00:00"}]
[null,null,"1.3.10 Production EF \n(gCO2e/dry lb)",null,null,{"$f":"'Biodiesel Production Inputs'!E$9","v":"00:00:00"}]
[null,null,null,null,null,{"$f":"'Biodiesel Production Inputs'!E$10","v":"00:00:00"}]
[null,null,"1.4.10 Transport Modes",null,null,{"$f":"'Biodiesel Production Inputs'!E$11","v":"00:00:00"}]
[null,null,null,null,null,{"$f":"'Biodiesel Production Inputs'!E$12","v":"00:00:00"}]
[null,null,"1.5.10 Ocean Tanker EF \n(gCO2e/lb-mile)",null,null,{"$f":"'Biodiesel Production Inputs'!E$13","v":"00:00:00"}]
[null,null,null,null,null,{"$f":"'Biodiesel Production Inputs'!E$14","v":"00:00:00"}]
[null,null,"Site-Specific",{"$f":"_xlfn._xlws.FILTER(C317:C318,C317:C318<>\"\")","v":"Site-Specific"},null,{"$f":"'Biodiesel Production Inputs'!E$15","v":"00:00:00"}]
[null,null,"Default","Default",false,{"$f":"'Biodiesel Production Inputs'!E$16","v":"00:00:00"}]
[null,null,null,null,null,{"$f":"'Biodiesel Production Inputs'!E$17","v":"00:00:00"}]
[null,null,null,null,false,{"$f":"'Biodiesel Production Inputs'!E$18","v":"00:00:00"}]
[null,null,null,null,null,{"$f":"'Biodiesel Production Inputs'!E$19","v":"00:00:00"}]
[null,null,"Feedstock Transport (lb-miles)",null,null,{"$f":"'Biodiesel Production Inputs'!E$20","v":"00:00:00"}]
[null,null,"Truck",{"$f":"SUMPRODUCT(K309:K332,L309:L332)","v":0},null,{"$f":"'Biodiesel Production Inputs'!E$21","v":"00:00:00"}]
[null,null,"Rail",{"$f":"SUMPRODUCT(M309:M332,N309:N332)","v":0},null,{"$f":"'Biodiesel Production Inputs'!E$22","v":"00:00:00"}]
[null,null,"Barge",{"$f":"SUMPRODUCT(O309:O332,P309:P332)","v":0},null,{"$f":"'Biodiesel Production Inputs'!E$23","v":"00:00:00"}]
[null,null,"Ocean Tanker",{"$f":"SUMPRODUCT(Q309:Q332,R309:R332)","v":0},null,{"$f":"'Biodiesel Production Inputs'!E$24","v":"00:00:00"}]
[null,null,"Transport EF (gCO2e/dry lb)",{"$f":"IFERROR((D323*'CA-GREET4.0'!E$12+D324*'CA-GREET4.0'!E$13+D325*'CA-GREET4.0'!E$14+IFERROR(D326*D316,0))/SUMPRODUCT(I309:I332,1-J309:J332),0)","v":0},null,{"$f":"'Biodiesel Production Inputs'!E$25","v":"00:00:00"}]
[null,null,null,null,null,{"$f":"'Biodiesel Production Inputs'!E$26","v":"00:00:00"}]
[null,null,"Fuel Production Facility Inventory (dry lbs)",null,null,{"$f":"'Biodiesel Production Inputs'!E$27","v":"00:00:00"}]
[null,null,"Feedstock Received",{"$f":"SUMPRODUCT(I309:I332,1-J309:J332)","v":0},null,{"$f":"'Biodiesel Production Inputs'!E$28","v":"00:00:00"}]
[null,null,"On-Site Inventory Change",{"$f":"SUMPRODUCT(H309:H332-G309:G332,1-J309:J332)","v":0},null,{"$f":"'Biodiesel Production Inputs'!E$29","v":"00:00:00"}]
[null,null,"Feedstock Used ",{"$f":"D330-D331","v":0},null,{"$f":"'Biodiesel Production Inputs'!E$30","v":"00:00:00"}]
[]
[]
[]
[null,null,"Feedstock 11",null,true,"Section 2: Monthly Feedstock Inputs",null,null,null,null,null,null,null,null,null,null,null,null," "]
[null,null,{"$f":"IF(AND(D340>0,D342>0),CONCATENATE(IF(D342=\"Other (Specify Below)\",D343,D342),\" \",IF(D340=\"Other (Specify Below)\",D341,D340)),\"\")","v":""},null,null,null,"Feedstock Inventory",null,null,null,"Feedstock Transport"]
[null,null,null,null,null,null,"Stored at Fuel Production Facility",null,"Delivered to Fuel Production Facility",null,"Truck",null,"Rail",null,"Barge",null,"Ocean Tanker"]
[null,null,"Section 1: Static Feedstock Inputs",null,null,"2.1.11","2.2.11","2.3.11","2.4.11","2.5.11","2.6.11","2.7.11","2.8.11","2.9.11","2.10.11","2.11.11","2.12.11","2.13.11"]
[null,null,"1.1.11 Feedstock Type",null,null,"Reporting Month","Beginning","Ending","Weight","Moisture","Weight","Distance",{"$f":"K340","v":"Weight"},"Distance","Weight","Distance","Weight","Distance"]
[null,null,null,null,null,"MM/YYYY","lbs","lbs","lbs","%","lbs","miles",{"$f":"K341","v":"lbs"},{"$f":"L341","v":"miles"},{"$f":"M341","v":"lbs"},{"$f":"L341","v":"miles"},{"$f":"K341","v":"lbs"},{"$f":"L341","v":"miles"}]
[null,null,"1.2.11 Feedstock Origin",null,null,{"$f":"'Biodiesel Production Inputs'!E$7","v":"00:00:00"}]
[null,null,null,null,null,{"$f":"'Biodiesel Production Inputs'!E$8","v":"00:00:00"}]
[null,null,"1.3.11 Production EF \n(gCO2e/dry lb)",null,null,{"$f":"'Biodiesel Production Inputs'!E$9","v":"00:00:00"}]
[null,null,null,null,null,{"$f":"'Biodiesel Production Inputs'!E$10","v":"00:00:00"}]
[null,null,"1.4.11 Transport Modes",null,null,{"$f":"'Biodiesel Production Inputs'!E$11","v":"00:00:00"}]
[null,null,null,null,null,{"$f":"'Biodiesel Production Inputs'!E$12","v":"00:00:00"}]
[null,null,"1.5.11 Ocean Tanker EF \n(gCO2e/lb-mile)",null,null,{"$f":"'Biodiesel Production Inputs'!E$13","v":"00:00:00"}]
[null,null,null,null,null,{"$f":"'Biodiesel Production Inputs'!E$14","v":"00:00:00"}]
[null,null,"Site-Specific",{"$f":"_xlfn._xlws.FILTER(C350:C351,C350:C351<>\"\")","v":"Site-Specific"},null,{"$f":"'Biodiesel Production Inputs'!E$15","v":"00:00:00"}]
[null,null,"Default","Default",false,{"$f":"'Biodiesel Production Inputs'!E$16","v":"00:00:00"}]
[null,null,null,null,null,{"$f":"'Biodiesel Production Inputs'!E$17","v":"00:00:00"}]
[null,null,null,null,false,{"$f":"'Biodiesel Production Inputs'!E$18","v":"00:00:00"}]
[null,null,null,null,null,{"$f":"'Biodiesel Production Inputs'!E$19","v":"00:00:00"}]
[null,null,"Feedstock Transport (lb-miles)",null,null,{"$f":"'Biodiesel Production Inputs'!E$20","v":"00:00:00"}]
[null,null,"Truck",{"$f":"SUMPRODUCT(K342:K365,L342:L365)","v":0},null,{"$f":"'Biodiesel Production Inputs'!E$21","v":"00:00:00"}]
[null,null,"Rail",{"$f":"SUMPRODUCT(M342:M365,N342:N365)","v":0},null,{"$f":"'Biodiesel Production Inputs'!E$22","v":"00:00:00"}]
[null,null,"Barge",{"$f":"SUMPRODUCT(O342:O365,P342:P365)","v":0},null,{"$f":"'Biodiesel Production Inputs'!E$23","v":"00:00:00"}]
[null,null,"Ocean Tanker",{"$f":"SUMPRODUCT(Q342:Q365,R342:R365)","v":0},null,{"$f":"'Biodiesel Production Inputs'!E$24","v":"00:00:00"}]
[null,null,"Transport EF (gCO2e/dry lb)",{"$f":"IFERROR((D356*'CA-GREET4.0'!E$12+D357*'CA-GREET4.0'!E$13+D358*'CA-GREET4.0'!E$14+IFERROR(D359*D349,0))/SUMPRODUCT(I342:I365,1-J342:J365),0)","v":0},null,{"$f":"'Biodiesel Production Inputs'!E$25","v":"00:00:00"}]
[null,null,null,null,null,{"$f":"'Biodiesel Production Inputs'!E$26","v":"00:00:00"}]
[null,null,"Fuel Production Facility Inventory (dry lbs)",null,null,{"$f":"'Biodiesel Production Inputs'!E$27","v":"00:00:00"}]
[null,null,"Feedstock Received",{"$f":"SUMPRODUCT(I342:I365,1-J342:J365)","v":0},null,{"$f":"'Biodiesel Production Inputs'!E$28","v":"00:00:00"}]
[null,null,"On-Site Inventory Change",{"$f":"SUMPRODUCT(H342:H365-G342:G365,1-J342:J365)","v":0},null,{"$f":"'Biodiesel Production Inputs'!E$29","v":"00:00:00"}]
[null,null,"Feedstock Used ",{"$f":"D363-D364","v":0},null,{"$f":"'Biodiesel Production Inputs'!E$30","v":"00:00:00"}]
[]
[]
[]
[null,null,"Feedstock 12",null,true,"Section 2: Monthly Feedstock Inputs",null,null,null,null,null,null,null,null,null,null,null,null," "]
[null,null,{"$f":"IF(AND(D373>0,D375>0),CONCATENATE(IF(D375=\"Other (Specify Below)\",D376,D375),\" \",IF(D373=\"Other (Specify Below)\",D374,D373)),\"\")","v":""},null,null,null,"Feedstock Inventory",null,null,null,"Feedstock Transport"]
[null,null,null,null,null,null,"Stored at Fuel Production Facility",null,"Delivered to Fuel Production Facility",null,"Truck",null,"Rail",null,"Barge",null,"Ocean Tanker"]
[null,null,"Section 1: Static Feedstock Inputs",null,null,"2.1.12","2.2.12","2.3.12","2.4.12","2.5.12","2.6.12","2.7.12","2.8.12","2.9.12","2.10.12","2.11.12","2.12.12","2.13.12"]
[null,null,"1.1.12 Feedstock Type",null,null,"Reporting Month","Beginning","Ending","Weight","Moisture","Weight","Distance",{"$f":"K373","v":"Weight"},"Distance","Weight","Distance","Weight","Distance"]
[null,null,null,null,null,"MM/YYYY","lbs","lbs","lbs","%","lbs","miles",{"$f":"K374","v":"lbs"},{"$f":"L374","v":"miles"},{"$f":"M374","v":"lbs"},{"$f":"L374","v":"miles"},{"$f":"K374","v":"lbs"},{"$f":"L374","v":"miles"}]
[null,null,"1.2.12 Feedstock Origin",null,null,{"$f":"'Biodiesel Production Inputs'!E$7","v":"00:00:00"}]
[null,null,null,null,null,{"$f":"'Biodiesel Production Inputs'!E$8","v":"00:00:00"}]
[null,null,"1.3.12 Production EF \n(gCO2e/dry lb)",null,null,{"$f":"'Biodiesel Production Inputs'!E$9","v":"00:00:00"}]
[null,null,null,null,null,{"$f":"'Biodiesel Production Inputs'!E$10","v":"00:00:00"}]
[null,null,"1.4.12 Transport Modes",null,null,{"$f":"'Biodiesel Production Inputs'!E$11","v":"00:00:00"}]
[null,null,null,null,null,{"$f":"'Biodiesel Production Inputs'!E$12","v":"00:00:00"}]
[null,null,"1.5.12 Ocean Tanker EF \n(gCO2e/lb-mile)",null,null,{"$f":"'Biodiesel Production Inputs'!E$13","v":"00:00:00"}]
[null,null,null,null,null,{"$f":"'Biodiesel Production Inputs'!E$14","v":"00:00:00"}]
[null,null,"Site-Specific",{"$f":"_xlfn._xlws.FILTER(C383:C384,C383:C384<>\"\")","v":"Site-Specific"},null,{"$f":"'Biodiesel Production Inputs'!E$15","v":"00:00:00"}]
[null,null,"Default","Default",false,{"$f":"'Biodiesel Production Inputs'!E$16","v":"00:00:00"}]
[null,null,null,null,null,{"$f":"'Biodiesel Production Inputs'!E$17","v":"00:00:00"}]
[null,null,null,null,false,{"$f":"'Biodiesel Production Inputs'!E$18","v":"00:00:00"}]
[null,null,null,null,null,{"$f":"'Biodiesel Production Inputs'!E$19","v":"00:00:00"}]
[null,null,"Feedstock Transport (lb-miles)",null,null,{"$f":"'Biodiesel Production Inputs'!E$20","v":"00:00:00"}]
[null,null,"Truck",{"$f":"SUMPRODUCT(K375:K398,L375:L398)","v":0},null,{"$f":"'Biodiesel Production Inputs'!E$21","v":"00:00:00"}]
[null,null,"Rail",{"$f":"SUMPRODUCT(M375:M398,N375:N398)","v":0},null,{"$f":"'Biodiesel Production Inputs'!E$22","v":"00:00:00"}]
[null,null,"Barge",{"$f":"SUMPRODUCT(O375:O398,P375:P398)","v":0},null,{"$f":"'Biodiesel Production Inputs'!E$23","v":"00:00:00"}]
[null,null,"Ocean Tanker",{"$f":"SUMPRODUCT(Q375:Q398,R375:R398)","v":0},null,{"$f":"'Biodiesel Production Inputs'!E$24","v":"00:00:00"}]
[null,null,"Transport EF (gCO2e/dry lb)",{"$f":"IFERROR((D389*'CA-GREET4.0'!E$12+D390*'CA-GREET4.0'!E$13+D391*'CA-GREET4.0'!E$14+IFERROR(D392*D382,0))/SUMPRODUCT(I375:I398,1-J375:J398),0)","v":0},null,{"$f":"'Biodiesel Production Inputs'!E$25","v":"00:00:00"}]
[null,null,null,null,null,{"$f":"'Biodiesel Production Inputs'!E$26","v":"00:00:00"}]
[null,null,"Fuel Production Facility Inventory (dry lbs)",null,null,{"$f":"'Biodiesel Production Inputs'!E$27","v":"00:00:00"}]
[null,null,"Feedstock Received",{"$f":"SUMPRODUCT(I375:I398,1-J375:J398)","v":0},null,{"$f":"'Biodiesel Production Inputs'!E$28","v":"00:00:00"}]
[null,null,"On-Site Inventory Change",{"$f":"SUMPRODUCT(H375:H398-G375:G398,1-J375:J398)","v":0},null,{"$f":"'Biodiesel Production Inputs'!E$29","v":"00:00:00"}]
[null,null,"Feedstock Used ",{"$f":"D396-D397","v":0},null,{"$f":"'Biodiesel Production Inputs'!E$30","v":"00:00:00"}]
[]
[]
[]
[null,null,"Feedstock 13",null,true,"Section 2: Monthly Feedstock Inputs",null,null,null,null,null,null,null,null,null,null,null,null," "]
[null,null,{"$f":"IF(AND(D406>0,D408>0),CONCATENATE(IF(D408=\"Other (Specify Below)\", D409,D408), \" \",IF(D406=\"Other (Specify Below)\",D407,D406)),\"\")","v":""},null,null,null,"Feedstock Inventory",null,null,null,"Feedstock Transport"]
[null,null,null,null,null,null,"Stored at Fuel Production Facility",null,"Delivered to Fuel Production Facility",null,"Truck",null,"Rail",null,"Barge",null,"Ocean Tanker"]
[null,null,"Section 1: Static Feedstock Inputs",null,null,"2.1.13","2.2.13","2.3.13","2.4.13","2.5.13","2.6.13","2.7.13","2.8.13","2.9.13","2.10.13","2.11.13","2.12.13","2.13.13"]
[null,null,"1.1.13 Feedstock Type",null,null,"Reporting Month","Beginning","Ending","Weight","Moisture","Weight","Distance",{"$f":"K406","v":"Weight"},"Distance","Weight","Distance","Weight","Distance"]
[null,null,null,null,null,"MM/YYYY","lbs","lbs","lbs","%","lbs","miles",{"$f":"K407","v":"lbs"},{"$f":"L407","v":"miles"},{"$f":"M407","v":"lbs"},{"$f":"L407","v":"miles"},{"$f":"K407","v":"lbs"},{"$f":"L407","v":"miles"}]
[null,null,"1.2.13 Feedstock Origin",null,null,{"$f":"'Biodiesel Production Inputs'!E$7","v":"00:00:00"}]
[null,null,null,null,null,{"$f":"'Biodiesel Production Inputs'!E$8","v":"00:00:00"}]
[null,null,"1.3.13 Production EF \n(gCO2e/dry lb)",null,null,{"$f":"'Biodiesel Production Inputs'!E$9","v":"00:00:00"}]
[null,null,null,null,null,{"$f":"'Biodiesel Production Inputs'!E$10","v":"00:00:00"}]
[null,null,"1.4.13 Transport Modes",null,null,{"$f":"'Biodiesel Production Inputs'!E$11","v":"00:00:00"}]
[null,null,null,null,null,{"$f":"'Biodiesel Production Inputs'!E$12","v":"00:00:00"}]
[null,null,"1.5.13 Ocean Tanker EF \n(gCO2e/lb-mile)",null,null,{"$f":"'Biodiesel Production Inputs'!E$13","v":"00:00:00"}]
[null,null,null,null,null,{"$f":"'Biodiesel Production Inputs'!E$14","v":"00:00:00"}]
[null,null,"Site-Specific",{"$f":"_xlfn._xlws.FILTER(C416:C417,C416:C417<>\"\")","v":"Site-Specific"},null,{"$f":"'Biodiesel Production Inputs'!E$15","v":"00:00:00"}]
[null,null,"Default","Default",false,{"$f":"'Biodiesel Production Inputs'!E$16","v":"00:00:00"}]
[null,null,null,null,null,{"$f":"'Biodiesel Production Inputs'!E$17","v":"00:00:00"}]
[null,null,null,null,false,{"$f":"'Biodiesel Production Inputs'!E$18","v":"00:00:00"}]
[null,null,null,null,null,{"$f":"'Biodiesel Production Inputs'!E$19","v":"00:00:00"}]
[null,null,"Feedstock Transport (lb-miles)",null,null,{"$f":"'Biodiesel Production Inputs'!E$20","v":"00:00:00"}]
[null,null,"Truck",{"$f":"SUMPRODUCT(K408:K431,L408:L431)","v":0},null,{"$f":"'Biodiesel Production Inputs'!E$21","v":"00:00:00"}]
[null,null,"Rail",{"$f":"SUMPRODUCT(M408:M431,N408:N431)","v":0},null,{"$f":"'Biodiesel Production Inputs'!E$22","v":"00:00:00"}]
[null,null,"Barge",{"$f":"SUMPRODUCT(O408:O431,P408:P431)","v":0},null,{"$f":"'Biodiesel Production Inputs'!E$23","v":"00:00:00"}]
[null,null,"Ocean Tanker",{"$f":"SUMPRODUCT(Q408:Q431,R408:R431)","v":0},null,{"$f":"'Biodiesel Production Inputs'!E$24","v":"00:00:00"}]
[null,null,"Transport EF (gCO2e/dry lb)",{"$f":"IFERROR((D422*'CA-GREET4.0'!E$12+D423*'CA-GREET4.0'!E$13+D424*'CA-GREET4.0'!E$14+IFERROR(D425*D415,0))/SUMPRODUCT(I408:I431,1-J408:J431),0)","v":0},null,{"$f":"'Biodiesel Production Inputs'!E$25","v":"00:00:00"}]
[null,null,null,null,null,{"$f":"'Biodiesel Production Inputs'!E$26","v":"00:00:00"}]
[null,null,"Fuel Production Facility Inventory (dry lbs)",null,null,{"$f":"'Biodiesel Production Inputs'!E$27","v":"00:00:00"}]
[null,null,"Feedstock Received",{"$f":"SUMPRODUCT(I408:I431,1-J408:J431)","v":0},null,{"$f":"'Biodiesel Production Inputs'!E$28","v":"00:00:00"}]
[null,null,"On-Site Inventory Change",{"$f":"SUMPRODUCT(H408:H431-G408:G431,1-J408:J431)","v":0},null,{"$f":"'Biodiesel Production Inputs'!E$29","v":"00:00:00"}]
[null,null,"Feedstock Used ",{"$f":"D429-D430","v":0},null,{"$f":"'Biodiesel Production Inputs'!E$30","v":"00:00:00"}]
[]
[]
[]
[null,null,"Feedstock 14",null,true,"Section 2: Monthly Feedstock Inputs",null,null,null,null,null,null,null,null,null,null,null,null," "]
[null,null,{"$f":"IF(AND(D439>0,D441>0),CONCATENATE(IF(D441=\"Other (Specify Below)\",D442,D441),\" \",IF(D439=\"Other (Specify Below)\",D440,D439)),\"\")","v":""},null,null,null,"Feedstock Inventory",null,null,null,"Feedstock Transport"]
[null,null,null,null,null,null,"Stored at Fuel Production Facility",null,"Delivered to Fuel Production Facility",null,"Truck",null,"Rail",null,"Barge",null,"Ocean Tanker"]
[null,null,"Section 1: Static Feedstock Inputs",null,null,"2.1.14","2.2.14","2.3.14","2.4.14","2.5.14","2.6.14","2.7.14","2.8.14","2.9.14","2.10.14","2.11.14","2.12.14","2.13.14"]
[null,null,"1.1.14 Feedstock Type",null,null,"Reporting Month","Beginning","Ending","Weight","Moisture","Weight","Distance",{"$f":"K439","v":"Weight"},"Distance","Weight","Distance","Weight","Distance"]
[null,null,null,null,null,"MM/YYYY","lbs","lbs","lbs","%","lbs","miles",{"$f":"K440","v":"lbs"},{"$f":"L440","v":"miles"},{"$f":"M440","v":"lbs"},{"$f":"L440","v":"miles"},{"$f":"K440","v":"lbs"},{"$f":"L440","v":"miles"}]
[null,null,"1.2.14 Feedstock Origin",null,null,{"$f":"'Biodiesel Production Inputs'!E$7","v":"00:00:00"}]
[null,null,null,null,null,{"$f":"'Biodiesel Production Inputs'!E$8","v":"00:00:00"}]
[null,null,"1.3.14 Production EF \n(gCO2e/dry lb)",null,null,{"$f":"'Biodiesel Production Inputs'!E$9","v":"00:00:00"}]
[null,null,null,null,null,{"$f":"'Biodiesel Production Inputs'!E$10","v":"00:00:00"}]
[null,null,"1.4.14 Transport Modes",null,null,{"$f":"'Biodiesel Production Inputs'!E$11","v":"00:00:00"}]
[null,null,null,null,null,{"$f":"'Biodiesel Production Inputs'!E$12","v":"00:00:00"}]
[null,null,"1.5.14 Ocean Tanker EF \n(gCO2e/lb-mile)",null,null,{"$f":"'Biodiesel Production Inputs'!E$13","v":"00:00:00"}]
[null,null,null,null,null,{"$f":"'Biodiesel Production Inputs'!E$14","v":"00:00:00"}]
[null,null,"Site-Specific",{"$f":"_xlfn._xlws.FILTER(C449:C450,C449:C450<>\"\")","v":"Site-Specific"},null,{"$f":"'Biodiesel Production Inputs'!E$15","v":"00:00:00"}]
[null,null,"Default","Default",false,{"$f":"'Biodiesel Production Inputs'!E$16","v":"00:00:00"}]
[null,null,null,null,null,{"$f":"'Biodiesel Production Inputs'!E$17","v":"00:00:00"}]
[null,null,null,null,false,{"$f":"'Biodiesel Production Inputs'!E$18","v":"00:00:00"}]
[null,null,null,null,null,{"$f":"'Biodiesel Production Inputs'!E$19","v":"00:00:00"}]
[null,null,"Feedstock Transport (lb-miles)",null,null,{"$f":"'Biodiesel Production Inputs'!E$20","v":"00:00:00"}]
[null,null,"Truck",{"$f":"SUMPRODUCT(K441:K464,L441:L464)","v":0},null,{"$f":"'Biodiesel Production Inputs'!E$21","v":"00:00:00"}]
[null,null,"Rail",{"$f":"SUMPRODUCT(M441:M464,N441:N464)","v":0},null,{"$f":"'Biodiesel Production Inputs'!E$22","v":"00:00:00"}]
[null,null,"Barge",{"$f":"SUMPRODUCT(O441:O464,P441:P464)","v":0},null,{"$f":"'Biodiesel Production Inputs'!E$23","v":"00:00:00"}]
[null,null,"Ocean Tanker",{"$f":"SUMPRODUCT(Q441:Q464,R441:R464)","v":0},null,{"$f":"'Biodiesel Production Inputs'!E$24","v":"00:00:00"}]
[null,null,"Transport EF (gCO2e/dry lb)",{"$f":"IFERROR((D455*'CA-GREET4.0'!E$12+D456*'CA-GREET4.0'!E$13+D457*'CA-GREET4.0'!E$14+IFERROR(D458*D448,0))/SUMPRODUCT(I441:I464,1-J441:J464),0)","v":0},null,{"$f":"'Biodiesel Production Inputs'!E$25","v":"00:00:00"}]
[null,null,null,null,null,{"$f":"'Biodiesel Production Inputs'!E$26","v":"00:00:00"}]
[null,null,"Fuel Production Facility Inventory (dry lbs)",null,null,{"$f":"'Biodiesel Production Inputs'!E$27","v":"00:00:00"}]
[null,null,"Feedstock Received",{"$f":"SUMPRODUCT(I441:I464,1-J441:J464)","v":0},null,{"$f":"'Biodiesel Production Inputs'!E$28","v":"00:00:00"}]
[null,null,"On-Site Inventory Change",{"$f":"SUMPRODUCT(H441:H464-G441:G464,1-J441:J464)","v":0},null,{"$f":"'Biodiesel Production Inputs'!E$29","v":"00:00:00"}]
[null,null,"Feedstock Used ",{"$f":"D462-D463","v":0},null,{"$f":"'Biodiesel Production Inputs'!E$30","v":"00:00:00"}]
[]
[]
[]
[null,null,"Feedstock 15",null,true,"Section 2: Monthly Feedstock Inputs",null,null,null,null,null,null,null,null,null,null,null,null," "]
[null,null,{"$f":"IF(AND(D472>0,D474>0),CONCATENATE(IF(D474=\"Other (Specify Below)\",D475,D474),\" \",IF(D472=\"Other (Specify Below)\",D473,D472)),\"\")","v":""},null,null,null,"Feedstock Inventory",null,null,null,"Feedstock Transport"]
[null,null,null,null,null,null,"Stored at Fuel Production Facility",null,"Delivered to Fuel Production Facility",null,"Truck",null,"Rail",null,"Barge",null,"Ocean Tanker"]
[null,null,"Section 1: Static Feedstock Inputs",null,null,"2.1.15","2.2.15","2.3.15","2.4.15","2.5.15","2.6.15","2.7.15","2.8.15","2.9.15","2.10.15","2.11.15","2.12.15","2.13.15"]
[null,null,"1.1.15 Feedstock Type",null,null,"Reporting Month","Beginning","Ending","Weight","Moisture","Weight","Distance",{"$f":"K472","v":"Weight"},"Distance","Weight","Distance","Weight","Distance"]
[null,null,null,null,null,"MM/YYYY","lbs","lbs","lbs","%","lbs","miles",{"$f":"K473","v":"lbs"},{"$f":"L473","v":"miles"},{"$f":"M473","v":"lbs"},{"$f":"L473","v":"miles"},{"$f":"K473","v":"lbs"},{"$f":"L473","v":"miles"}]
[null,null,"1.2.15 Feedstock Origin",null,null,{"$f":"'Biodiesel Production Inputs'!E$7","v":"00:00:00"}]
[null,null,null,null,null,{"$f":"'Biodiesel Production Inputs'!E$8","v":"00:00:00"}]
[null,null,"1.3.15 Production EF \n(gCO2e/dry lb)",null,null,{"$f":"'Biodiesel Production Inputs'!E$9","v":"00:00:00"}]
[null,null,null,null,null,{"$f":"'Biodiesel Production Inputs'!E$10","v":"00:00:00"}]
[null,null,"1.4.15 Transport Modes",null,null,{"$f":"'Biodiesel Production Inputs'!E$11","v":"00:00:00"}]
[null,null,null,null,null,{"$f":"'Biodiesel Production Inputs'!E$12","v":"00:00:00"}]
[null,null,"1.5.15 Ocean Tanker EF \n(gCO2e/lb-mile)",null,null,{"$f":"'Biodiesel Production Inputs'!E$13","v":"00:00:00"}]
[null,null,null,null,null,{"$f":"'Biodiesel Production Inputs'!E$14","v":"00:00:00"}]
[null,null,"Site-Specific",{"$f":"_xlfn._xlws.FILTER(C482:C483,C482:C483<>\"\")","v":"Site-Specific"},null,{"$f":"'Biodiesel Production Inputs'!E$15","v":"00:00:00"}]
[null,null,"Default","Default",false,{"$f":"'Biodiesel Production Inputs'!E$16","v":"00:00:00"}]
[null,null,null,null,null,{"$f":"'Biodiesel Production Inputs'!E$17","v":"00:00:00"}]
[null,null,null,null,false,{"$f":"'Biodiesel Production Inputs'!E$18","v":"00:00:00"}]
[null,null,null,null,null,{"$f":"'Biodiesel Production Inputs'!E$19","v":"00:00:00"}]
[null,null,"Feedstock Transport (lb-miles)",null,null,{"$f":"'Biodiesel Production Inputs'!E$20","v":"00:00:00"}]
[null,null,"Truck",{"$f":"SUMPRODUCT(K474:K497,L474:L497)","v":0},null,{"$f":"'Biodiesel Production Inputs'!E$21","v":"00:00:00"}]
[null,null,"Rail",{"$f":"SUMPRODUCT(M474:M497,N474:N497)","v":0},null,{"$f":"'Biodiesel Production Inputs'!E$22","v":"00:00:00"}]
[null,null,"Barge",{"$f":"SUMPRODUCT(O474:O497,P474:P497)","v":0},null,{"$f":"'Biodiesel Production Inputs'!E$23","v":"00:00:00"}]
[null,null,"Ocean Tanker",{"$f":"SUMPRODUCT(Q474:Q497,R474:R497)","v":0},null,{"$f":"'Biodiesel Production Inputs'!E$24","v":"00:00:00"}]
[null,null,"Transport EF (gCO2e/dry lb)",{"$f":"IFERROR((D488*'CA-GREET4.0'!E$12+D489*'CA-GREET4.0'!E$13+D490*'CA-GREET4.0'!E$14+IFERROR(D491*D481,0))/SUMPRODUCT(I474:I497,1-J474:J497),0)","v":0},null,{"$f":"'Biodiesel Production Inputs'!E$25","v":"00:00:00"}]
[null,null,null,null,null,{"$f":"'Biodiesel Production Inputs'!E$26","v":"00:00:00"}]
[null,null,"Fuel Production Facility Inventory (dry lbs)",null,null,{"$f":"'Biodiesel Production Inputs'!E$27","v":"00:00:00"}]
[null,null,"Feedstock Received",{"$f":"SUMPRODUCT(I474:I497,1-J474:J497)","v":0},null,{"$f":"'Biodiesel Production Inputs'!E$28","v":"00:00:00"}]
[null,null,"On-Site Inventory Change",{"$f":"SUMPRODUCT(H474:H497-G474:G497,1-J474:J497)","v":0},null,{"$f":"'Biodiesel Production Inputs'!E$29","v":"00:00:00"}]
[null,null,"Feedstock Used ",{"$f":"D495-D496","v":0},null,{"$f":"'Biodiesel Production Inputs'!E$30","v":"00:00:00"}]
[]
[]
[]
[null,null,"Feedstock 16",null,true,"Section 2: Monthly Feedstock Inputs",null,null,null,null,null,null,null,null,null,null,null,null," "]
[null,null,{"$f":"IF(AND(D505>0,D507>0),CONCATENATE(IF(D507=\"Other (Specify Below)\", D508,D507), \" \",IF(D505=\"Other (Specify Below)\",D506,D505)),\"\")","v":""},null,null,null,"Feedstock Inventory",null,null,null,"Feedstock Transport"]
[null,null,null,null,null,null,"Stored at Fuel Production Facility",null,"Delivered to Fuel Production Facility",null,"Truck",null,"Rail",null,"Barge",null,"Ocean Tanker"]
[null,null,"Section 1: Static Feedstock Inputs",null,null,"2.1.16","2.2.16","2.3.16","2.4.16","2.5.16","2.6.16","2.7.16","2.8.16","2.9.16","2.10.16","2.11.16","2.12.16","2.13.16"]
[null,null,"1.1.16 Feedstock Type",null,null,"Reporting Month","Beginning","Ending","Weight","Moisture","Weight","Distance",{"$f":"K505","v":"Weight"},"Distance","Weight","Distance","Weight","Distance"]
[null,null,null,null,null,"MM/YYYY","lbs","lbs","lbs","%","lbs","miles",{"$f":"K506","v":"lbs"},{"$f":"L506","v":"miles"},{"$f":"M506","v":"lbs"},{"$f":"L506","v":"miles"},{"$f":"K506","v":"lbs"},{"$f":"L506","v":"miles"}]
[null,null,"1.2.16 Feedstock Origin",null,null,{"$f":"'Biodiesel Production Inputs'!E$7","v":"00:00:00"}]
[null,null,null,null,null,{"$f":"'Biodiesel Production Inputs'!E$8","v":"00:00:00"}]
[null,null,"1.3.16 Production EF \n(gCO2e/dry lb)",null,null,{"$f":"'Biodiesel Production Inputs'!E$9","v":"00:00:00"}]
[null,null,null,null,null,{"$f":"'Biodiesel Production Inputs'!E$10","v":"00:00:00"}]
[null,null,"1.4.16 Transport Modes",null,null,{"$f":"'Biodiesel Production Inputs'!E$11","v":"00:00:00"}]
[null,null,null,null,null,{"$f":"'Biodiesel Production Inputs'!E$12","v":"00:00:00"}]
[null,null,"1.5.16 Ocean Tanker EF \n(gCO2e/lb-mile)",null,null,{"$f":"'Biodiesel Production Inputs'!E$13","v":"00:00:00"}]
[null,null,null,null,null,{"$f":"'Biodiesel Production Inputs'!E$14","v":"00:00:00"}]
[null,null,"Site-Specific",{"$f":"_xlfn._xlws.FILTER(C515:C516,C515:C516<>\"\")","v":"Site-Specific"},null,{"$f":"'Biodiesel Production Inputs'!E$15","v":"00:00:00"}]
[null,null,"Default","Default",false,{"$f":"'Biodiesel Production Inputs'!E$16","v":"00:00:00"}]
[null,null,null,null,null,{"$f":"'Biodiesel Production Inputs'!E$17","v":"00:00:00"}]
[null,null,null,null,false,{"$f":"'Biodiesel Production Inputs'!E$18","v":"00:00:00"}]
[null,null,null,null,null,{"$f":"'Biodiesel Production Inputs'!E$19","v":"00:00:00"}]
[null,null,"Feedstock Transport (lb-miles)",null,null,{"$f":"'Biodiesel Production Inputs'!E$20","v":"00:00:00"}]
[null,null,"Truck",{"$f":"SUMPRODUCT(K507:K530,L507:L530)","v":0},null,{"$f":"'Biodiesel Production Inputs'!E$21","v":"00:00:00"}]
[null,null,"Rail",{"$f":"SUMPRODUCT(M507:M530,N507:N530)","v":0},null,{"$f":"'Biodiesel Production Inputs'!E$22","v":"00:00:00"}]
[null,null,"Barge",{"$f":"SUMPRODUCT(O507:O530,P507:P530)","v":0},null,{"$f":"'Biodiesel Production Inputs'!E$23","v":"00:00:00"}]
[null,null,"Ocean Tanker",{"$f":"SUMPRODUCT(Q507:Q530,R507:R530)","v":0},null,{"$f":"'Biodiesel Production Inputs'!E$24","v":"00:00:00"}]
[null,null,"Transport EF (gCO2e/dry lb)",{"$f":"IFERROR((D521*'CA-GREET4.0'!E$12+D522*'CA-GREET4.0'!E$13+D523*'CA-GREET4.0'!E$14+IFERROR(D524*D514,0))/SUMPRODUCT(I507:I530,1-J507:J530),0)","v":0},null,{"$f":"'Biodiesel Production Inputs'!E$25","v":"00:00:00"}]
[null,null,null,null,null,{"$f":"'Biodiesel Production Inputs'!E$26","v":"00:00:00"}]
[null,null,"Fuel Production Facility Inventory (dry lbs)",null,null,{"$f":"'Biodiesel Production Inputs'!E$27","v":"00:00:00"}]
[null,null,"Feedstock Received",{"$f":"SUMPRODUCT(I507:I530,1-J507:J530)","v":0},null,{"$f":"'Biodiesel Production Inputs'!E$28","v":"00:00:00"}]
[null,null,"On-Site Inventory Change",{"$f":"SUMPRODUCT(H507:H530-G507:G530,1-J507:J530)","v":0},null,{"$f":"'Biodiesel Production Inputs'!E$29","v":"00:00:00"}]
[null,null,"Feedstock Used ",{"$f":"D528-D529","v":0},null,{"$f":"'Biodiesel Production Inputs'!E$30","v":"00:00:00"}]
[]
[]
[]
[null,null,"Feedstock 17",null,true,"Section 2: Monthly Feedstock Inputs",null,null,null,null,null,null,null,null,null,null,null,null," "]
[null,null,{"$f":"IF(AND(D538>0,D540>0),CONCATENATE(IF(D540=\"Other (Specify Below)\",D541,D540),\" \",IF(D538=\"Other (Specify Below)\",D539,D538)),\"\")","v":""},null,null,null,"Feedstock Inventory",null,null,null,"Feedstock Transport"]
[null,null,null,null,null,null,"Stored at Fuel Production Facility",null,"Delivered to Fuel Production Facility",null,"Truck",null,"Rail",null,"Barge",null,"Ocean Tanker"]
[null,null,"Section 1: Static Feedstock Inputs",null,null,"2.1.17","2.2.17","2.3.17","2.4.17","2.5.17","2.6.17","2.7.17","2.8.17","2.9.17","2.10.17","2.11.17","2.12.17","2.13.17"]
[null,null,"1.1.17 Feedstock Type",null,null,"Reporting Month","Beginning","Ending","Weight","Moisture","Weight","Distance",{"$f":"K538","v":"Weight"},"Distance","Weight","Distance","Weight","Distance"]
[null,null,null,null,null,"MM/YYYY","lbs","lbs","lbs","%","lbs","miles",{"$f":"K539","v":"lbs"},{"$f":"L539","v":"miles"},{"$f":"M539","v":"lbs"},{"$f":"L539","v":"miles"},{"$f":"K539","v":"lbs"},{"$f":"L539","v":"miles"}]
[null,null,"1.2.17 Feedstock Origin",null,null,{"$f":"'Biodiesel Production Inputs'!E$7","v":"00:00:00"}]
[null,null,null,null,null,{"$f":"'Biodiesel Production Inputs'!E$8","v":"00:00:00"}]
[null,null,"1.3.17 Production EF \n(gCO2e/dry lb)",null,null,{"$f":"'Biodiesel Production Inputs'!E$9","v":"00:00:00"}]
[null,null,null,null,null,{"$f":"'Biodiesel Production Inputs'!E$10","v":"00:00:00"}]
[null,null,"1.4.17 Transport Modes",null,null,{"$f":"'Biodiesel Production Inputs'!E$11","v":"00:00:00"}]
[null,null,null,null,null,{"$f":"'Biodiesel Production Inputs'!E$12","v":"00:00:00"}]
[null,null,"1.5.17 Ocean Tanker EF \n(gCO2e/lb-mile)",null,null,{"$f":"'Biodiesel Production Inputs'!E$13","v":"00:00:00"}]
[null,null,null,null,null,{"$f":"'Biodiesel Production Inputs'!E$14","v":"00:00:00"}]
[null,null,"Site-Specific",{"$f":"_xlfn._xlws.FILTER(C548:C549,C548:C549<>\"\")","v":"Site-Specific"},null,{"$f":"'Biodiesel Production Inputs'!E$15","v":"00:00:00"}]
[null,null,"Default","Default",false,{"$f":"'Biodiesel Production Inputs'!E$16","v":"00:00:00"}]
[null,null,null,null,null,{"$f":"'Biodiesel Production Inputs'!E$17","v":"00:00:00"}]
[null,null,null,null,false,{"$f":"'Biodiesel Production Inputs'!E$18","v":"00:00:00"}]
[null,null,null,null,null,{"$f":"'Biodiesel Production Inputs'!E$19","v":"00:00:00"}]
[null,null,"Feedstock Transport (lb-miles)",null,null,{"$f":"'Biodiesel Production Inputs'!E$20","v":"00:00:00"}]
[null,null,"Truck",{"$f":"SUMPRODUCT(K540:K563,L540:L563)","v":0},null,{"$f":"'Biodiesel Production Inputs'!E$21","v":"00:00:00"}]
[null,null,"Rail",{"$f":"SUMPRODUCT(M540:M563,N540:N563)","v":0},null,{"$f":"'Biodiesel Production Inputs'!E$22","v":"00:00:00"}]
[null,null,"Barge",{"$f":"SUMPRODUCT(O540:O563,P540:P563)","v":0},null,{"$f":"'Biodiesel Production Inputs'!E$23","v":"00:00:00"}]
[null,null,"Ocean Tanker",{"$f":"SUMPRODUCT(Q540:Q563,R540:R563)","v":0},null,{"$f":"'Biodiesel Production Inputs'!E$24","v":"00:00:00"}]
[null,null,"Transport EF (gCO2e/dry lb)",{"$f":"IFERROR((D554*'CA-GREET4.0'!E$12+D555*'CA-GREET4.0'!E$13+D556*'CA-GREET4.0'!E$14+IFERROR(D557*D547,0))/SUMPRODUCT(I540:I563,1-J540:J563),0)","v":0},null,{"$f":"'Biodiesel Production Inputs'!E$25","v":"00:00:00"}]
[null,null,null,null,null,{"$f":"'Biodiesel Production Inputs'!E$26","v":"00:00:00"}]
[null,null,"Fuel Production Facility Inventory (dry lbs)",null,null,{"$f":"'Biodiesel Production Inputs'!E$27","v":"00:00:00"}]
[null,null,"Feedstock Received",{"$f":"SUMPRODUCT(I540:I563,1-J540:J563)","v":0},null,{"$f":"'Biodiesel Production Inputs'!E$28","v":"00:00:00"}]
[null,null,"On-Site Inventory Change",{"$f":"SUMPRODUCT(H540:H563-G540:G563,1-J540:J563)","v":0},null,{"$f":"'Biodiesel Production Inputs'!E$29","v":"00:00:00"}]
[null,null,"Feedstock Used ",{"$f":"D561-D562","v":0},null,{"$f":"'Biodiesel Production Inputs'!E$30","v":"00:00:00"}]
[]
[]
[]
[null,null,"Feedstock 18",null,true,"Section 2: Monthly Feedstock Inputs",null,null,null,null,null,null,null,null,null,null,null,null," "]
[null,null,{"$f":"IF(AND(D571>0,D573>0),CONCATENATE(IF(D573=\"Other (Specify Below)\",D574,D573),\" \",IF(D571=\"Other (Specify Below)\",D572,D571)),\"\")","v":""},null,null,null,"Feedstock Inventory",null,null,null,"Feedstock Transport"]
[null,null,null,null,null,null,"Stored at Fuel Production Facility",null,"Delivered to Fuel Production Facility",null,"Truck",null,"Rail",null,"Barge",null,"Ocean Tanker"]
[null,null,"Section 1: Static Feedstock Inputs",null,null,"2.1.18","2.2.18","2.3.18","2.4.18","2.5.18","2.6.18","2.7.18","2.8.18","2.9.18","2.10.18","2.11.18","2.12.18","2.13.18"]
[null,null,"1.1.18 Feedstock Type",null,null,"Reporting Month","Beginning","Ending","Weight","Moisture","Weight","Distance",{"$f":"K571","v":"Weight"},"Distance","Weight","Distance","Weight","Distance"]
[null,null,null,null,null,"MM/YYYY","lbs","lbs","lbs","%","lbs","miles",{"$f":"K572","v":"lbs"},{"$f":"L572","v":"miles"},{"$f":"M572","v":"lbs"},{"$f":"L572","v":"miles"},{"$f":"K572","v":"lbs"},{"$f":"L572","v":"miles"}]
[null,null,"1.2.18 Feedstock Origin",null,null,{"$f":"'Biodiesel Production Inputs'!E$7","v":"00:00:00"}]
[null,null,null,null,null,{"$f":"'Biodiesel Production Inputs'!E$8","v":"00:00:00"}]
[null,null,"1.3.18 Production EF \n(gCO2e/dry lb)",null,null,{"$f":"'Biodiesel Production Inputs'!E$9","v":"00:00:00"}]
[null,null,null,null,null,{"$f":"'Biodiesel Production Inputs'!E$10","v":"00:00:00"}]
[null,null,"1.4.18 Transport Modes",null,null,{"$f":"'Biodiesel Production Inputs'!E$11","v":"00:00:00"}]
[null,null,null,null,null,{"$f":"'Biodiesel Production Inputs'!E$12","v":"00:00:00"}]
[null,null,"1.5.18 Ocean Tanker EF \n(gCO2e/lb-mile)",null,null,{"$f":"'Biodiesel Production Inputs'!E$13","v":"00:00:00"}]
[null,null,null,null,null,{"$f":"'Biodiesel Production Inputs'!E$14","v":"00:00:00"}]
[null,null,"Site-Specific",{"$f":"_xlfn._xlws.FILTER(C581:C582,C581:C582<>\"\")","v":"Site-Specific"},null,{"$f":"'Biodiesel Production Inputs'!E$15","v":"00:00:00"}]
[null,null,"Default","Default",false,{"$f":"'Biodiesel Production Inputs'!E$16","v":"00:00:00"}]
[null,null,null,null,null,{"$f":"'Biodiesel Production Inputs'!E$17","v":"00:00:00"}]
[null,null,null,null,false,{"$f":"'Biodiesel Production Inputs'!E$18","v":"00:00:00"}]
[null,null,null,null,null,{"$f":"'Biodiesel Production Inputs'!E$19","v":"00:00:00"}]
[null,null,"Feedstock Transport (lb-miles)",null,null,{"$f":"'Biodiesel Production Inputs'!E$20","v":"00:00:00"}]
[null,null,"Truck",{"$f":"SUMPRODUCT(K573:K596,L573:L596)","v":0},null,{"$f":"'Biodiesel Production Inputs'!E$21","v":"00:00:00"}]
[null,null,"Rail",{"$f":"SUMPRODUCT(M573:M596,N573:N596)","v":0},null,{"$f":"'Biodiesel Production Inputs'!E$22","v":"00:00:00"}]
[null,null,"Barge",{"$f":"SUMPRODUCT(O573:O596,P573:P596)","v":0},null,{"$f":"'Biodiesel Production Inputs'!E$23","v":"00:00:00"}]
[null,null,"Ocean Tanker",{"$f":"SUMPRODUCT(Q573:Q596,R573:R596)","v":0},null,{"$f":"'Biodiesel Production Inputs'!E$24","v":"00:00:00"}]
[null,null,"Transport EF (gCO2e/dry lb)",{"$f":"IFERROR((D587*'CA-GREET4.0'!E$12+D588*'CA-GREET4.0'!E$13+D589*'CA-GREET4.0'!E$14+IFERROR(D590*D580,0))/SUMPRODUCT(I573:I596,1-J573:J596),0)","v":0},null,{"$f":"'Biodiesel Production Inputs'!E$25","v":"00:00:00"}]
[null,null,null,null,null,{"$f":"'Biodiesel Production Inputs'!E$26","v":"00:00:00"}]
[null,null,"Fuel Production Facility Inventory (dry lbs)",null,null,{"$f":"'Biodiesel Production Inputs'!E$27","v":"00:00:00"}]
[null,null,"Feedstock Received",{"$f":"SUMPRODUCT(I573:I596,1-J573:J596)","v":0},null,{"$f":"'Biodiesel Production Inputs'!E$28","v":"00:00:00"}]
[null,null,"On-Site Inventory Change",{"$f":"SUMPRODUCT(H573:H596-G573:G596,1-J573:J596)","v":0},null,{"$f":"'Biodiesel Production Inputs'!E$29","v":"00:00:00"}]
[null,null,"Feedstock Used ",{"$f":"D594-D595","v":0},null,{"$f":"'Biodiesel Production Inputs'!E$30","v":"00:00:00"}]
[]
[]
[]
[null,null,"Feedstock 19",null,true,"Section 2: Monthly Feedstock Inputs",null,null,null,null,null,null,null,null,null,null,null,null," "]
[null,null,{"$f":"IF(AND(D604>0,D606>0),CONCATENATE(IF(D606=\"Other (Specify Below)\",D607,D606),\" \",IF(D604=\"Other (Specify Below)\",D605,D604)),\"\")","v":""},null,null,null,"Feedstock Inventory",null,null,null,"Feedstock Transport"]
[null,null,null,null,null,null,"Stored at Fuel Production Facility",null,"Delivered to Fuel Production Facility",null,"Truck",null,"Rail",null,"Barge",null,"Ocean Tanker"]
[null,null,"Section 1: Static Feedstock Inputs",null,null,"2.1.19","2.2.19","2.3.19","2.4.19","2.5.19","2.6.19","2.7.19","2.8.19","2.9.19","2.10.19","2.11.19","2.12.19","2.13.19"]
[null,null,"1.1.19 Feedstock Type",null,null,"Reporting Month","Beginning","Ending","Weight","Moisture","Weight","Distance",{"$f":"K604","v":"Weight"},"Distance","Weight","Distance","Weight","Distance"]
[null,null,null,null,null,"MM/YYYY","lbs","lbs","lbs","%","lbs","miles",{"$f":"K605","v":"lbs"},{"$f":"L605","v":"miles"},{"$f":"M605","v":"lbs"},{"$f":"L605","v":"miles"},{"$f":"K605","v":"lbs"},{"$f":"L605","v":"miles"}]
[null,null,"1.2.19 Feedstock Origin",null,null,{"$f":"'Biodiesel Production Inputs'!E$7","v":"00:00:00"}]
[null,null,null,null,null,{"$f":"'Biodiesel Production Inputs'!E$8","v":"00:00:00"}]
[null,null,"1.3.19 Production EF \n(gCO2e/dry lb)",null,null,{"$f":"'Biodiesel Production Inputs'!E$9","v":"00:00:00"}]
[null,null,null,null,null,{"$f":"'Biodiesel Production Inputs'!E$10","v":"00:00:00"}]
[null,null,"1.4.19 Transport Modes",null,null,{"$f":"'Biodiesel Production Inputs'!E$11","v":"00:00:00"}]
[null,null,null,null,null,{"$f":"'Biodiesel Production Inputs'!E$12","v":"00:00:00"}]
[null,null,"1.5.19 Ocean Tanker EF \n(gCO2e/lb-mile)",null,null,{"$f":"'Biodiesel Production Inputs'!E$13","v":"00:00:00"}]
[null,null,null,null,null,{"$f":"'Biodiesel Production Inputs'!E$14","v":"00:00:00"}]
[null,null,"Site-Specific",{"$f":"_xlfn._xlws.FILTER(C614:C615,C614:C615<>\"\")","v":"Site-Specific"},null,{"$f":"'Biodiesel Production Inputs'!E$15","v":"00:00:00"}]
[null,null,"Default","Default",false,{"$f":"'Biodiesel Production Inputs'!E$16","v":"00:00:00"}]
[null,null,null,null,null,{"$f":"'Biodiesel Production Inputs'!E$17","v":"00:00:00"}]
[null,null,null,null,false,{"$f":"'Biodiesel Production Inputs'!E$18","v":"00:00:00"}]
[null,null,null,null,null,{"$f":"'Biodiesel Production Inputs'!E$19","v":"00:00:00"}]
[null,null,"Feedstock Transport (lb-miles)",null,null,{"$f":"'Biodiesel Production Inputs'!E$20","v":"00:00:00"}]
[null,null,"Truck",{"$f":"SUMPRODUCT(K606:K629,L606:L629)","v":0},null,{"$f":"'Biodiesel Production Inputs'!E$21","v":"00:00:00"}]
[null,null,"Rail",{"$f":"SUMPRODUCT(M606:M629,N606:N629)","v":0},null,{"$f":"'Biodiesel Production Inputs'!E$22","v":"00:00:00"}]
[null,null,"Barge",{"$f":"SUMPRODUCT(O606:O629,P606:P629)","v":0},null,{"$f":"'Biodiesel Production Inputs'!E$23","v":"00:00:00"}]
[null,null,"Ocean Tanker",{"$f":"SUMPRODUCT(Q606:Q629,R606:R629)","v":0},null,{"$f":"'Biodiesel Production Inputs'!E$24","v":"00:00:00"}]
[null,null,"Transport EF (gCO2e/dry lb)",{"$f":"IFERROR((D620*'CA-GREET4.0'!E$12+D621*'CA-GREET4.0'!E$13+D622*'CA-GREET4.0'!E$14+IFERROR(D623*D613,0))/SUMPRODUCT(I606:I629,1-J606:J629),0)","v":0},null,{"$f":"'Biodiesel Production Inputs'!E$25","v":"00:00:00"}]
[null,null,null,null,null,{"$f":"'Biodiesel Production Inputs'!E$26","v":"00:00:00"}]
[null,null,"Fuel Production Facility Inventory (dry lbs)",null,null,{"$f":"'Biodiesel Production Inputs'!E$27","v":"00:00:00"}]
[null,null,"Feedstock Received",{"$f":"SUMPRODUCT(I606:I629,1-J606:J629)","v":0},null,{"$f":"'Biodiesel Production Inputs'!E$28","v":"00:00:00"}]
[null,null,"On-Site Inventory Change",{"$f":"SUMPRODUCT(H606:H629-G606:G629,1-J606:J629)","v":0},null,{"$f":"'Biodiesel Production Inputs'!E$29","v":"00:00:00"}]
[null,null,"Feedstock Used ",{"$f":"D627-D628","v":0},null,{"$f":"'Biodiesel Production Inputs'!E$30","v":"00:00:00"}]
[]
[]
[]
[null,null,"Feedstock 20",null,true,"Section 2: Monthly Feedstock Inputs",null,null,null,null,null,null,null,null,null,null,null,null," "]
[null,null,{"$f":"IF(AND(D637>0,D639>0),CONCATENATE(IF(D639=\"Other (Specify Below)\",D640,D639),\" \",IF(D637=\"Other (Specify Below)\",D638,D637)),\"\")","v":""},null,null,null,"Feedstock Inventory",null,null,null,"Feedstock Transport"]
[null,null,null,null,null,null,"Stored at Fuel Production Facility",null,"Delivered to Fuel Production Facility",null,"Truck",null,"Rail",null,"Barge",null,"Ocean Tanker"]
[null,null,"Section 1: Static Feedstock Inputs",null,null,"2.1.20","2.2.20","2.3.20","2.4.20","2.5.20","2.6.20","2.7.20","2.8.20","2.9.20","2.10.20","2.11.20","2.12.20","2.13.20"]
[null,null,"1.1.20 Feedstock Type",null,null,"Reporting Month","Beginning","Ending","Weight","Moisture","Weight","Distance",{"$f":"K637","v":"Weight"},"Distance","Weight","Distance","Weight","Distance"]
[null,null,null,null,null,"MM/YYYY","lbs","lbs","lbs","%","lbs","miles",{"$f":"K638","v":"lbs"},{"$f":"L638","v":"miles"},{"$f":"M638","v":"lbs"},{"$f":"L638","v":"miles"},{"$f":"K638","v":"lbs"},{"$f":"L638","v":"miles"}]
[null,null,"1.2.20 Feedstock Origin",null,null,{"$f":"'Biodiesel Production Inputs'!E$7","v":"00:00:00"}]
[null,null,null,null,null,{"$f":"'Biodiesel Production Inputs'!E$8","v":"00:00:00"}]
[null,null,"1.3.20 Production EF \n(gCO2e/dry lb)",null,null,{"$f":"'Biodiesel Production Inputs'!E$9","v":"00:00:00"}]
[null,null,null,null,null,{"$f":"'Biodiesel Production Inputs'!E$10","v":"00:00:00"}]
[null,null,"1.4.20 Transport Modes",null,null,{"$f":"'Biodiesel Production Inputs'!E$11","v":"00:00:00"}]
[null,null,null,null,null,{"$f":"'Biodiesel Production Inputs'!E$12","v":"00:00:00"}]
[null,null,"1.5.20 Ocean Tanker EF \n(gCO2e/lb-mile)",null,null,{"$f":"'Biodiesel Production Inputs'!E$13","v":"00:00:00"}]
[null,null,null,null,null,{"$f":"'Biodiesel Production Inputs'!E$14","v":"00:00:00"}]
[null,null,"Site-Specific",{"$f":"_xlfn._xlws.FILTER(C647:C648,C647:C648<>\"\")","v":"Site-Specific"},null,{"$f":"'Biodiesel Production Inputs'!E$15","v":"00:00:00"}]
[null,null,"Default","Default",false,{"$f":"'Biodiesel Production Inputs'!E$16","v":"00:00:00"}]
[null,null,null,null,null,{"$f":"'Biodiesel Production Inputs'!E$17","v":"00:00:00"}]
[null,null,null,null,false,{"$f":"'Biodiesel Production Inputs'!E$18","v":"00:00:00"}]
[null,null,null,null,null,{"$f":"'Biodiesel Production Inputs'!E$19","v":"00:00:00"}]
[null,null,"Feedstock Transport (lb-miles)",null,null,{"$f":"'Biodiesel Production Inputs'!E$20","v":"00:00:00"}]
[null,null,"Truck",{"$f":"SUMPRODUCT(K639:K662,L639:L662)","v":0},null,{"$f":"'Biodiesel Production Inputs'!E$21","v":"00:00:00"}]
[null,null,"Rail",{"$f":"SUMPRODUCT(M639:M662,N639:N662)","v":0},null,{"$f":"'Biodiesel Production Inputs'!E$22","v":"00:00:00"}]
[null,null,"Barge",{"$f":"SUMPRODUCT(O639:O662,P639:P662)","v":0},null,{"$f":"'Biodiesel Production Inputs'!E$23","v":"00:00:00"}]
[null,null,"Ocean Tanker",{"$f":"SUMPRODUCT(Q639:Q662,R639:R662)","v":0},null,{"$f":"'Biodiesel Production Inputs'!E$24","v":"00:00:00"}]
[null,null,"Transport EF (gCO2e/dry lb)",{"$f":"IFERROR((D653*'CA-GREET4.0'!E$12+D654*'CA-GREET4.0'!E$13+D655*'CA-GREET4.0'!E$14+IFERROR(D656*D646,0))/SUMPRODUCT(I639:I662,1-J639:J662),0)","v":0},null,{"$f":"'Biodiesel Production Inputs'!E$25","v":"00:00:00"}]
[null,null,null,null,null,{"$f":"'Biodiesel Production Inputs'!E$26","v":"00:00:00"}]
[null,null,"Fuel Production Facility Inventory (dry lbs)",null,null,{"$f":"'Biodiesel Production Inputs'!E$27","v":"00:00:00"}]
[null,null,"Feedstock Received",{"$f":"SUMPRODUCT(I639:I662,1-J639:J662)","v":0},null,{"$f":"'Biodiesel Production Inputs'!E$28","v":"00:00:00"}]
[null,null,"On-Site Inventory Change",{"$f":"SUMPRODUCT(H639:H662-G639:G662,1-J639:J662)","v":0},null,{"$f":"'Biodiesel Production Inputs'!E$29","v":"00:00:00"}]
[null,null,"Feedstock Used ",{"$f":"D660-D661","v":0},null,{"$f":"'Biodiesel Production Inputs'!E$30","v":"00:00:00"}]

{"sheet":"Biodiesel Production Inputs","index":2,"n_rows":29,"n_cols":19,"rows_kept":29,"cut":false,"hidden":false,"merged":[[1,1,1,2],[2,5,2,8],[29,25,29,26],[2,9,2,11],[2,16,2,18],[1,4,1,18],[7,1,7,2],[15,1,15,2],[28,1,29,1],[8,1,9,1],[10,1,11,1],[12,1,13,1],[2,12,2,15]]}
[]
[null,"Section 3: Applicant Information",null,null,"Section 6: Monthly Operational Data"]
[null,"3.1 Application #",null,null,null,"Process Energy",null,null,null,"Methanol Inputs",null,null,"Coproduct Exports",null,null,null,"Biodiesel Production"]
[null,"3.2 Company Name",null,null,6.1,6.2,6.3,6.4,6.5,6.6,6.7,6.8,6.9,6.1,6.11,6.12,6.13,6.14,6.15]
[null,"3.3 Company ID",null,null,"Reporting Month","North American Natural Gas","Grid Electricity","Directly-Supplied Low-CI Electricity","Alternate Fuel","Beginning Methanol Inventory","Methanol Purchased","Ending Methanol Inventory","Free Fatty Acids","Glycerin","Distillate Bottoms","Alternate Coproduct","Beginning Inventory","Ending Inventory","Biodiesel Sales"]
[null,"3.4 Fuel Production Facility ID",null,null,"MM/YYYY","MMBtu, HHV","kWh","kWh","MMBtu, HHV","gallons @ 60°F","gallons @ 60°F","gallons @ 60°F","dry lbs","dry lbs","dry lbs","dry lbs","gallons @ 60°F","gallons @ 60°F","gallons @ 60°F"]
[]
[null,"Section 4: Pathway Inputs"]
[null,"4.1 Process Energy "]
[]
[null,"4.2 Coproducts Exported"]
[]
[null,"4.3 Biodiesel Transport Modes"]
[]
[]
[null,"Section 5: Static Operational Data"]
[null,"5.1  Electricity Grid Region"]
[null,"5.2 Electricity Grid EF (gCO2e/kWh)"]
[null,"5.3 Low-CI Electricity EF (gCO2e/kWh)"]
[null,"5.4 Alternate Fuel Description"]
[null,"5.5 Alternate Fuel EF (gCO2e/MMBtu, HHV)"]
[null,"5.6 Free Fatty Acid Heating Value (Btu/lb, LHV)"]
[null,"5.7 Distillate Bottoms Heating Value (Btu/lb, LHV)"]
[null,"5.8 Alternate Coproduct Heating Value (Btu/lb, LHV)"]
[null,"5.9 Biodiesel Transport - Truck (miles)"]
[null,"5.10 Biodiesel Transport - Rail (miles)"]
[null,"5.11 Biodiesel Transport - Barge (miles)"]
[null,"5.12 Biodiesel Transport - Ocean Tanker (miles)"]
[null,"5.13 Ocean Tanker EF (gCO2e/gallon-mile oil)"]

{"sheet":"Pathway Summary","index":3,"n_rows":49,"n_cols":28,"rows_kept":49,"cut":false,"hidden":false,"merged":[[18,1,21,1],[28,1,31,1],[22,1,23,1],[42,21,42,25],[35,1,35,7],[33,1,33,7],[34,1,34,7],[37,1,37,27],[38,1,38,27],[24,1,27,1],[9,4,10,4],[5,1,5,17],[6,1,6,2],[3,2,4,27],[1,2,2,27],[6,4,6,27],[7,4,7,5],[15,1,17,1],[13,1,13,4],[13,5,13,6],[13,8,13,27],[12,1,12,27]]}
[]
[null,null,"Tier 1 Biodiesel Pathway Summary"]
[]
[null,null,"FOR APPLICANT ONLY - CONTAINS CONFIDENTIAL BUSINESS INFORMATION - DO NOT DISTRIBUTE"]
[]
[]
[null,"Applicant Information",null,null,"Biodiesel Production Quantities"]
[null,"Application #",{"$f":"'Biodiesel Production Inputs'!C3","v":0},null,null,null,"Unit","Total ",{"$f":"'Feedstock Inputs'!C7","v":""},{"$f":"'Feedstock Inputs'!C40","v":""},{"$f":"'Feedstock Inputs'!C73","v":""},{"$f":"'Feedstock Inputs'!C106","v":""},{"$f":"'Feedstock Inputs'!C139","v":""},{"$f":"'Feedstock Inputs'!C172","v":""},{"$f":"'Feedstock Inputs'!C205","v":""},{"$f":"'Feedstock Inputs'!C238","v":""},{"$f":"'Feedstock Inputs'!C271","v":""},{"$f":"'Feedstock Inputs'!C304","v":""},{"$f":"'Feedstock Inputs'!C337","v":""},{"$f":"'Feedstock Inputs'!C370","v":""},{"$f":"'Feedstock Inputs'!C403","v":""},{"$f":"'Feedstock Inputs'!C436","v":""},{"$f":"'Feedstock Inputs'!C469","v":""},{"$f":"'Feedstock Inputs'!C502","v":""},{"$f":"'Feedstock Inputs'!C535","v":""},{"$f":"'Feedstock Inputs'!C568","v":""},{"$f":"'Feedstock Inputs'!C601","v":""},{"$f":"'Feedstock Inputs'!C634","v":""}]
[null,"Company Name and ID",{"$f":"CONCATENATE('Biodiesel Production Inputs'!C4,\" \",'Biodiesel Production Inputs'!C5)","v":" "},null,"Feedstock","Used","dry lbs",{"$f":"SUM(I9:AB9)","v":0},{"$f":"'Feedstock Inputs'!D35","v":0},{"$f":"'Feedstock Inputs'!D68","v":0},{"$f":"'Feedstock Inputs'!D101","v":0},{"$f":"'Feedstock Inputs'!D134","v":0},{"$f":"'Feedstock Inputs'!D167","v":0},{"$f":"'Feedstock Inputs'!D200","v":0},{"$f":"'Feedstock Inputs'!D233","v":0},{"$f":"'Feedstock Inputs'!D266","v":0},{"$f":"'Feedstock Inputs'!D299","v":0},{"$f":"'Feedstock Inputs'!D332","v":0},{"$f":"'Feedstock Inputs'!D365","v":0},{"$f":"'Feedstock Inputs'!D398","v":0},{"$f":"'Feedstock Inputs'!D431","v":0},{"$f":"'Feedstock Inputs'!D464","v":0},{"$f":"'Feedstock Inputs'!D497","v":0},{"$f":"'Feedstock Inputs'!D530","v":0},{"$f":"'Feedstock Inputs'!D563","v":0},{"$f":"'Feedstock Inputs'!D596","v":0},{"$f":"'Feedstock Inputs'!D629","v":0},{"$f":"'Feedstock Inputs'!D662","v":0}]
[null,"Fuel Production Facility ID",{"$f":"'Biodiesel Production Inputs'!C6","v":0},null,"Finished Fuel","Biodiesel Produced","gallons @ 60°F",{"$f":"SUM('Biodiesel Production Inputs'!R7:S30,-'Biodiesel Production Inputs'!Q7:Q30)","v":0},{"$f":"IFERROR(H10*I9/H9,)","v":0},{"$f":"IFERROR(H10*J9/H9,)","v":0},{"$f":"IFERROR(H10*K9/H9,)","v":0},{"$f":"IFERROR(H10*L9/H9,)","v":0},{"$f":"IFERROR(H10*M9/H9,)","v":0},{"$f":"IFERROR(H10*N9/H9,)","v":0},{"$f":"IFERROR(H10*O9/H9,)","v":0},{"$f":"IFERROR(H10*P9/H9,)","v":0},{"$f":"IFERROR(H10*Q9/H9,)","v":0},{"$f":"IFERROR(H10*R9/H9,)","v":0},{"$f":"IFERROR(H10*S9/H9,)","v":0},{"$f":"IFERROR(H10*T9/H9,)","v":0},{"$f":"IFERROR(H10*U9/H9,)","v":0},{"$f":"IFERROR(H10*V9/H9,)","v":0},{"$f":"IFERROR(H10*W9/H9,)","v":0},{"$f":"IFERROR(H10*X9/H9,)","v":0},{"$f":"IFERROR(H10*Y9/H9,)","v":0},{"$f":"IFERROR(H10*Z9/H9,)","v":0},{"$f":"IFERROR(H10*AA9/H9,)","v":0},{"$f":"IFERROR(H10*AB9/H9,)","v":0}]
[null,"Operational Data Period",{"$f":"IF(SUM('Biodiesel Production Inputs'!E7:E30)=0,\"\",CONCATENATE(TEXT(MIN('Biodiesel Production Inputs'!E7:E30),\"mm/yyyy\"),\" — \",TEXT(MAX('Biodiesel Production Inputs'!E7:E30),\"mm/yyyy\")))","v":""},null,null,"Biodiesel Dispensed","MJ BD, LHV",{"$f":"H10*'CA-GREET4.0'!E4/'CA-GREET4.0'!E27","v":0},{"$f":"IFERROR(H11*I9/H9,)","v":0},{"$f":"IFERROR(H11*J9/H9,)","v":0},{"$f":"IFERROR(H11*K9/H9,)","v":0},{"$f":"IFERROR(H11*L9/H9,)","v":0},{"$f":"IFERROR(H11*M9/H9,)","v":0},{"$f":"IFERROR(H11*N9/H9,)","v":0},{"$f":"IFERROR(H11*O9/H9,)","v":0},{"$f":"IFERROR(H11*P9/H9,)","v":0},{"$f":"IFERROR(H11*Q9/H9,)","v":0},{"$f":"IFERROR(H11*R9/H9,)","v":0},{"$f":"IFERROR(H11*S9/H9,)","v":0},{"$f":"IFERROR(H11*T9/H9,)","v":0},{"$f":"IFERROR(H11*U9/H9,)","v":0},{"$f":"IFERROR(H11*V9/H9,)","v":0},{"$f":"IFERROR(H11*W9/H9,)","v":0},{"$f":"IFERROR(H11*X9/H9,)","v":0},{"$f":"IFERROR(H11*Y9/H9,)","v":0},{"$f":"IFERROR(H11*Z9/H9,)","v":0},{"$f":"IFERROR(H11*AA9/H9,)","v":0},{"$f":"IFERROR(H11*AB9/H9,)","v":0}]
[]
[null,"Carbon Intensity Calculations"]
[null,"Fuel Pathway Inputs",null,null,null,"Emission Factors",null,"Emissions ","CI (gCO2e/MJ BD, LHV)"]
[null,"Category","Name","Value","Unit","Value","Unit","gCO2e",{"$f":"I8","v":""},{"$f":"J8","v":""},"","","","","","","","","","","","","","","","","",""]
[null,"Feedstock Production and Transport","Production",{"$f":"H9","v":0},"dry lbs feedstock",{"$f":"IFERROR(H16/D16,)","v":0},"gCO2e/dry lb feedstock",{"$f":"SUMPRODUCT(I16:AB16,I11:AB11)","v":0},{"$f":"IFERROR('Feedstock Inputs'!D15*I9/I11,)","v":0},{"$f":"IFERROR('Feedstock Inputs'!D48*J9/J11,)","v":0},{"$f":"IFERROR('Feedstock Inputs'!D81*K9/K11,)","v":0},{"$f":"IFERROR('Feedstock Inputs'!D114*L9/L11,)","v":0},{"$f":"IFERROR('Feedstock Inputs'!D147*M9/M11,)","v":0},{"$f":"IFERROR('Feedstock Inputs'!D180*N9/N11,)","v":0},{"$f":"IFERROR('Feedstock Inputs'!D213*O9/O11,)","v":0},{"$f":"IFERROR('Feedstock Inputs'!D246*P9/P11,)","v":0},{"$f":"IFERROR('Feedstock Inputs'!D279*Q9/Q11,)","v":0},{"$f":"IFERROR('Feedstock Inputs'!D312*R9/R11,)","v":0},{"$f":"IFERROR('Feedstock Inputs'!D345*S9/S11,)","v":0},{"$f":"IFERROR('Feedstock Inputs'!D378*T9/T11,)","v":0},{"$f":"IFERROR('Feedstock Inputs'!D411*U9/U11,)","v":0},{"$f":"IFERROR('Feedstock Inputs'!D444*V9/V11,)","v":0},{"$f":"IFERROR('Feedstock Inputs'!D477*W9/W11,)","v":0},{"$f":"IFERROR('Feedstock Inputs'!D510*X9/X11,)","v":0},{"$f":"IFERROR('Feedstock Inputs'!D543*Y9/Y11,)","v":0},{"$f":"IFERROR('Feedstock Inputs'!D576*Z9/Z11,)","v":0},{"$f":"IFERROR('Feedstock Inputs'!D609*AA9/AA11,)","v":0},{"$f":"IFERROR('Feedstock Inputs'!D642*AB9/AB11,)","v":0}]
[null,null,"Transport",{"$f":"H9","v":0},"dry lbs feedstock",{"$f":"IFERROR(H17/D17,)","v":0},"gCO2e/dry lb feedstock",{"$f":"SUMPRODUCT(I17:AB17,I11:AB11)","v":0},{"$f":"IFERROR('Feedstock Inputs'!D30*I9/I11,)","v":0},{"$f":"IFERROR('Feedstock Inputs'!D63*J9/J11,)","v":0},{"$f":"IFERROR('Feedstock Inputs'!D96*K9/K11,)","v":0},{"$f":"IFERROR('Feedstock Inputs'!D129*L9/L11,)","v":0},{"$f":"IFERROR('Feedstock Inputs'!D162*M9/M11,)","v":0},{"$f":"IFERROR('Feedstock Inputs'!D195*N9/N11,)","v":0},{"$f":"IFERROR('Feedstock Inputs'!D228*O9/O11,)","v":0},{"$f":"IFERROR('Feedstock Inputs'!D261*P9/P11,)","v":0},{"$f":"IFERROR('Feedstock Inputs'!D294*Q9/Q11,)","v":0},{"$f":"IFERROR('Feedstock Inputs'!D327*R9/R11,)","v":0},{"$f":"IFERROR('Feedstock Inputs'!D360*S9/S11,)","v":0},{"$f":"IFERROR('Feedstock Inputs'!D393*T9/T11,)","v":0},{"$f":"IFERROR('Feedstock Inputs'!D426*U9/U11,)","v":0},{"$f":"IFERROR('Feedstock Inputs'!D459*V9/V11,)","v":0},{"$f":"IFERROR('Feedstock Inputs'!D492*W9/W11,)","v":0},{"$f":"IFERROR('Feedstock Inputs'!D525*X9/X11,)","v":0},{"$f":"IFERROR('Feedstock Inputs'!D558*Y9/Y11,)","v":0},{"$f":"IFERROR('Feedstock Inputs'!D591*Z9/Z11,)","v":0},{"$f":"IFERROR('Feedstock Inputs'!D624*AA9/AA11,)","v":0},{"$f":"IFERROR('Feedstock Inputs'!D657*AB9/AB11,)","v":0}]
[null,null,"Land Use Change",{"$f":"H9","v":0},"dry lbs feedstock",{"$f":"IFERROR(H18/D18,)","v":0},"gCO2e/dry lb feedstock",{"$f":"SUMPRODUCT(I18:AB18,I11:AB11)","v":0},{"$f":"IFERROR(VLOOKUP('Feedstock Inputs'!D10,'CA-GREET4.0'!D17:E19,2,FALSE),)","v":0},{"$f":"IFERROR(VLOOKUP('Feedstock Inputs'!D43,'CA-GREET4.0'!D17:E19,2,FALSE),)","v":0},{"$f":"IFERROR(VLOOKUP('Feedstock Inputs'!D76,'CA-GREET4.0'!D17:E19,2,FALSE),)","v":0},{"$f":"IFERROR(VLOOKUP('Feedstock Inputs'!D109,'CA-GREET4.0'!D17:E19,2,FALSE),)","v":0},{"$f":"IFERROR(VLOOKUP('Feedstock Inputs'!D142,'CA-GREET4.0'!D17:E19,2,FALSE),)","v":0},{"$f":"IFERROR(VLOOKUP('Feedstock Inputs'!D175,'CA-GREET4.0'!D17:E19,2,FALSE),)","v":0},{"$f":"IFERROR(VLOOKUP('Feedstock Inputs'!D208,'CA-GREET4.0'!D17:E19,2,FALSE),)","v":0},{"$f":"IFERROR(VLOOKUP('Feedstock Inputs'!D241,'CA-GREET4.0'!D17:E19,2,FALSE),)","v":0},{"$f":"IFERROR(VLOOKUP('Feedstock Inputs'!D274,'CA-GREET4.0'!D17:E19,2,FALSE),)","v":0},{"$f":"IFERROR(VLOOKUP('Feedstock Inputs'!D307,'CA-GREET4.0'!D17:E19,2,FALSE),)","v":0},{"$f":"IFERROR(VLOOKUP('Feedstock Inputs'!D340,'CA-GREET4.0'!D17:E19,2,FALSE),)","v":0},{"$f":"IFERROR(VLOOKUP('Feedstock Inputs'!D373,'CA-GREET4.0'!D17:E19,2,FALSE),)","v":0},{"$f":"IFERROR(VLOOKUP('Feedstock Inputs'!D406,'CA-GREET4.0'!D17:E19,2,FALSE),)","v":0},{"$f":"IFERROR(VLOOKUP('Feedstock Inputs'!D439,'CA-GREET4.0'!D17:E19,2,FALSE),)","v":0},{"$f":"IFERROR(VLOOKUP('Feedstock Inputs'!D472,'CA-GREET4.0'!D17:E19,2,FALSE),)","v":0},{"$f":"IFERROR(VLOOKUP('Feedstock Inputs'!D505,'CA-GREET4.0'!D17:E19,2,FALSE),)","v":0},{"$f":"IFERROR(VLOOKUP('Feedstock Inputs'!D538,'CA-GREET4.0'!D17:E19,2,FALSE),)","v":0},{"$f":"IFERROR(VLOOKUP('Feedstock Inputs'!D571,'CA-GREET4.0'!D17:E19,2,FALSE),)","v":0},{"$f":"IFERROR(VLOOKUP('Feedstock Inputs'!D604,'CA-GREET4.0'!D17:E19,2,FALSE),)","v":0},{"$f":"IFERROR(VLOOKUP('Feedstock Inputs'!D637,'CA-GREET4.0'!D17:E19,2,FALSE),)","v":0}]
[null,"Fuel Production Process Energy",{"$f":"'Biodiesel Production Inputs'!F5","v":"North American Natural Gas"},{"$f":"SUM('Biodiesel Production Inputs'!F7:F30)*'CA-GREET4.0'!E5","v":0},"MMBtu, LHV",{"$f":"'CA-GREET4.0'!E20","v":75495.751250270754},"gCO2e/MMBtu NG, LHV",{"$f":"D19*F19","v":0},{"$f":"IF(I11>0,H19/H11,)","v":0},{"$f":"IF(J11>0,H19/H11,)","v":0},{"$f":"IF(K11>0,H19/H11,)","v":0},{"$f":"IF(L11>0,H19/H11,)","v":0},{"$f":"IF(M11>0,H19/H11,)","v":0},{"$f":"IF(N11>0,H19/H11,)","v":0},{"$f":"IF(O11>0,H19/H11,)","v":0},{"$f":"IF(P11>0,H19/H11,)","v":0},{"$f":"IF(Q11>0,H19/H11,)","v":0},{"$f":"IF(R11>0,H19/H11,)","v":0},{"$f":"IF(S11>0,H19/H11,)","v":0},{"$f":"IF(T11>0,H19/H11,)","v":0},{"$f":"IF(U11>0,H19/H11,)","v":0},{"$f":"IF(V11>0,H19/H11,)","v":0},{"$f":"IF(W11>0,H19/H11,)","v":0},{"$f":"IF(X11>0,H19/H11,)","v":0},{"$f":"IF(Y11>0,H19/H11,)","v":0},{"$f":"IF(Z11>0,H19/H11,)","v":0},{"$f":"IF(AA11>0,H19/H11,)","v":0},{"$f":"IF(AB11>0,H19/H11,)","v":0}]
[null,null,{"$f":"'Biodiesel Production Inputs'!G5","v":"Grid Electricity"},{"$f":"SUM('Biodiesel Production Inputs'!G7:G30)","v":0},{"$f":"'Biodiesel Production Inputs'!G6","v":"kWh"},{"$f":"'Biodiesel Production Inputs'!C18","v":0},"gCO2e/kWh",0,{"$f":"IF(I11>0,H20/H11,)","v":0},{"$f":"IF(J11>0,H20/H11,)","v":0},{"$f":"IF(K11>0,H20/H11,)","v":0},{"$f":"IF(L11>0,H20/H11,)","v":0},{"$f":"IF(M11>0,H20/H11,)","v":0},{"$f":"IF(N11>0,H20/H11,)","v":0},{"$f":"IF(O11>0,H20/H11,)","v":0},{"$f":"IF(P11>0,H20/H11,)","v":0},{"$f":"IF(Q11>0,H20/H11,)","v":0},{"$f":"IF(R11>0,H20/H11,)","v":0},{"$f":"IF(S11>0,H20/H11,)","v":0},{"$f":"IF(T11>0,H20/H11,)","v":0},{"$f":"IF(U11>0,H20/H11,)","v":0},{"$f":"IF(V11>0,H20/H11,)","v":0},{"$f":"IF(W11>0,H20/H11,)","v":0},{"$f":"IF(X11>0,H20/H11,)","v":0},{"$f":"IF(Y11>0,H20/H11,)","v":0},{"$f":"IF(Z11>0,H20/H11,)","v":0},{"$f":"IF(AA11>0,H20/H11,)","v":0},{"$f":"IF(AB11>0,H20/H11,)","v":0}]
[null,null,{"$f":"'Biodiesel Production Inputs'!H5","v":"Directly-Supplied Low-CI Electricity"},{"$f":"SUM('Biodiesel Production Inputs'!H7:H30)","v":0},{"$f":"'Biodiesel Production Inputs'!H6","v":"kWh"},{"$f":"'Biodiesel Production Inputs'!C19","v":0},"gCO2e/kWh",0,{"$f":"IF(I11>0,H21/H11,)","v":0},{"$f":"IF(J11>0,H21/H11,)","v":0},{"$f":"IF(K11>0,H21/H11,)","v":0},{"$f":"IF(L11>0,H21/H11,)","v":0},{"$f":"IF(M11>0,H21/H11,)","v":0},{"$f":"IF(N11>0,H21/H11,)","v":0},{"$f":"IF(O11>0,H21/H11,)","v":0},{"$f":"IF(P11>0,H21/H11,)","v":0},{"$f":"IF(Q11>0,H21/H11,)","v":0},{"$f":"IF(R11>0,H21/H11,)","v":0},{"$f":"IF(S11>0,H21/H11,)","v":0},{"$f":"IF(T11>0,H21/H11,)","v":0},{"$f":"IF(U11>0,H21/H11,)","v":0},{"$f":"IF(V11>0,H21/H11,)","v":0},{"$f":"IF(W11>0,H21/H11,)","v":0},{"$f":"IF(X11>0,H21/H11,)","v":0},{"$f":"IF(Y11>0,H21/H11,)","v":0},{"$f":"IF(Z11>0,H21/H11,)","v":0},{"$f":"IF(AA11>0,H21/H11,)","v":0},{"$f":"IF(AB11>0,H21/H11,)","v":0}]
[null,null,{"$f":"'Biodiesel Production Inputs'!I5","v":"Alternate Fuel"},{"$f":"SUM('Biodiesel Production Inputs'!I7:I30)","v":0},"MMBtu, HHV",{"$f":"'Biodiesel Production Inputs'!C21","v":0},"gCO2e/MMBtu, HHV",0,{"$f":"IF(I11>0,H22/H11,)","v":0},{"$f":"IF(J11>0,H22/H11,)","v":0},{"$f":"IF(K11>0,H22/H11,)","v":0},{"$f":"IF(L11>0,H22/H11,)","v":0},{"$f":"IF(M11>0,H22/H11,)","v":0},{"$f":"IF(N11>0,H22/H11,)","v":0},{"$f":"IF(O11>0,H22/H11,)","v":0},{"$f":"IF(P11>0,H22/H11,)","v":0},{"$f":"IF(Q11>0,H22/H11,)","v":0},{"$f":"IF(R11>0,H22/H11,)","v":0},{"$f":"IF(S11>0,H22/H11,)","v":0},{"$f":"IF(T11>0,H22/H11,)","v":0},{"$f":"IF(U11>0,H22/H11,)","v":0},{"$f":"IF(V11>0,H22/H11,)","v":0},{"$f":"IF(W11>0,H22/H11,)","v":0},{"$f":"IF(X11>0,H22/H11,)","v":0},{"$f":"IF(Y11>0,H22/H11,)","v":0},{"$f":"IF(Z11>0,H22/H11,)","v":0},{"$f":"IF(AA11>0,H22/H11,)","v":0},{"$f":"IF(AB11>0,H22/H11,)","v":0}]
[null,"Transesterification Inputs",{"$f":"'CA-GREET4.0'!D22","v":"Chemicals"},{"$f":"H11","v":0},"MJ biodiesel",{"$f":"'CA-GREET4.0'!E22","v":0.65},"gCO2e/MJ biodiesel",0,{"$f":"IF(I11>0,H23/H11,)","v":0},{"$f":"IF(J11>0,H23/H11,)","v":0},{"$f":"IF(K11>0,H23/H11,)","v":0},{"$f":"IF(L11>0,H23/H11,)","v":0},{"$f":"IF(M11>0,H23/H11,)","v":0},{"$f":"IF(N11>0,H23/H11,)","v":0},{"$f":"IF(O11>0,H23/H11,)","v":0},{"$f":"IF(P11>0,H23/H11,)","v":0},{"$f":"IF(Q11>0,H23/H11,)","v":0},{"$f":"IF(R11>0,H23/H11,)","v":0},{"$f":"IF(S11>0,H23/H11,)","v":0},{"$f":"IF(T11>0,H23/H11,)","v":0},{"$f":"IF(U11>0,H23/H11,)","v":0},{"$f":"IF(V11>0,H23/H11,)","v":0},{"$f":"IF(W11>0,H23/H11,)","v":0},{"$f":"IF(X11>0,H23/H11,)","v":0},{"$f":"IF(Y11>0,H23/H11,)","v":0},{"$f":"IF(Z11>0,H23/H11,)","v":0},{"$f":"IF(AA11>0,H23/H11,)","v":0},{"$f":"IF(AB11>0,H23/H11,)","v":0}]
[null,null,"Methanol",{"$f":"SUM('Biodiesel Production Inputs'!J7:K30,-'Biodiesel Production Inputs'!L7:L30)","v":0},{"$f":"'Biodiesel Production Inputs'!L6","v":"gallons @ 60°F"},{"$f":"'CA-GREET4.0'!E21","v":7430.6490501030767},"gCO2e/gallon",0,{"$f":"IF(I11>0,H24/H11,)","v":0},{"$f":"IF(J11>0,H24/H11,)","v":0},{"$f":"IF(K11>0,H24/H11,)","v":0},{"$f":"IF(L11>0,H24/H11,)","v":0},{"$f":"IF(M11>0,H24/H11,)","v":0},{"$f":"IF(N11>0,H24/H11,)","v":0},{"$f":"IF(O11>0,H24/H11,)","v":0},{"$f":"IF(P11>0,H24/H11,)","v":0},{"$f":"IF(Q11>0,H24/H11,)","v":0},{"$f":"IF(R11>0,H24/H11,)","v":0},{"$f":"IF(S11>0,H24/H11,)","v":0},{"$f":"IF(T11>0,H24/H11,)","v":0},{"$f":"IF(U11>0,H24/H11,)","v":0},{"$f":"IF(V11>0,H24/H11,)","v":0},{"$f":"IF(W11>0,H24/H11,)","v":0},{"$f":"IF(X11>0,H24/H11,)","v":0},{"$f":"IF(Y11>0,H24/H11,)","v":0},{"$f":"IF(Z11>0,H24/H11,)","v":0},{"$f":"IF(AA11>0,H24/H11,)","v":0},{"$f":"IF(AB11>0,H24/H11,)","v":0}]
[null,"Coproduct Allocation",{"$f":"'Biodiesel Production Inputs'!M5","v":"Free Fatty Acids"},{"$f":"SUM('Biodiesel Production Inputs'!M7:M30)","v":0},{"$f":"'Biodiesel Production Inputs'!M6","v":"dry lbs"},{"$f":"IFERROR(H25/D25,)","v":0},"gCO2e/dry lb coproduct",{"$f":"SUMPRODUCT(I25:AB25,I11:AB11)","v":0},{"$f":"-IFERROR(IF(I11>0,D25*'Biodiesel Production Inputs'!C22/(H11*'CA-GREET4.0'!J9+D25*'Biodiesel Production Inputs'!C22+D26*'CA-GREET4.0'!E6+D27*'Biodiesel Production Inputs'!C23+D28*'Biodiesel Production Inputs'!C24)*SUM(I16:I17,I19:I24),),)","v":0},{"$f":"-IFERROR(IF(J11>0,D25*'Biodiesel Production Inputs'!C22/(H11*'CA-GREET4.0'!J9+D25*'Biodiesel Production Inputs'!C22+D26*'CA-GREET4.0'!E6+D27*'Biodiesel Production Inputs'!C23+D28*'Biodiesel Production Inputs'!C24)*SUM(J16:J17,J19:J24),),)","v":0},{"$f":"-IFERROR(IF(K11>0,D25*'Biodiesel Production Inputs'!C22/(H11*'CA-GREET4.0'!J9+D25*'Biodiesel Production Inputs'!C22+D26*'CA-GREET4.0'!E6+D27*'Biodiesel Production Inputs'!C23+D28*'Biodiesel Production Inputs'!C24)*SUM(K16:K17,K19:K24),),)","v":0},{"$f":"-IFERROR(IF(L11>0,D25*'Biodiesel Production Inputs'!C22/(H11*'CA-GREET4.0'!J9+D25*'Biodiesel Production Inputs'!C22+D26*'CA-GREET4.0'!E6+D27*'Biodiesel Production Inputs'!C23+D28*'Biodiesel Production Inputs'!C24)*SUM(L16:L17,L19:L24),),)","v":0},{"$f":"-IFERROR(IF(M11>0,D25*'Biodiesel Production Inputs'!C22/(H11*'CA-GREET4.0'!J9+D25*'Biodiesel Production Inputs'!C22+D26*'CA-GREET4.0'!E6+D27*'Biodiesel Production Inputs'!C23+D28*'Biodiesel Production Inputs'!C24)*SUM(M16:M17,M19:M24),),)","v":0},{"$f":"-IFERROR(IF(N11>0,D25*'Biodiesel Production Inputs'!C22/(H11*'CA-GREET4.0'!J9+D25*'Biodiesel Production Inputs'!C22+D26*'CA-GREET4.0'!E6+D27*'Biodiesel Production Inputs'!C23+D28*'Biodiesel Production Inputs'!C24)*SUM(N16:N17,N19:N24),),)","v":0},{"$f":"-IFERROR(IF(O11>0,D25*'Biodiesel Production Inputs'!C22/(H11*'CA-GREET4.0'!J9+D25*'Biodiesel Production Inputs'!C22+D26*'CA-GREET4.0'!E6+D27*'Biodiesel Production Inputs'!C23+D28*'Biodiesel Production Inputs'!C24)*SUM(O16:O17,O19:O24),),)","v":0},{"$f":"-IFERROR(IF(P11>0,D25*'Biodiesel Production Inputs'!C22/(H11*'CA-GREET4.0'!J9+D25*'Biodiesel Production Inputs'!C22+D26*'CA-GREET4.0'!E6+D27*'Biodiesel Production Inputs'!C23+D28*'Biodiesel Production Inputs'!C24)*SUM(P16:P17,P19:P24),),)","v":0},{"$f":"-IFERROR(IF(Q11>0,D25*'Biodiesel Production Inputs'!C22/(H11*'CA-GREET4.0'!J9+D25*'Biodiesel Production Inputs'!C22+D26*'CA-GREET4.0'!E6+D27*'Biodiesel Production Inputs'!C23+D28*'Biodiesel Production Inputs'!C24)*SUM(Q16:Q17,Q19:Q24),),)","v":0},{"$f":"-IFERROR(IF(R11>0,D25*'Biodiesel Production Inputs'!C22/(H11*'CA-GREET4.0'!J9+D25*'Biodiesel Production Inputs'!C22+D26*'CA-GREET4.0'!E6+D27*'Biodiesel Production Inputs'!C23+D28*'Biodiesel Production Inputs'!C24)*SUM(R16:R17,R19:R24),),)","v":0},{"$f":"-IFERROR(IF(S11>0,D25*'Biodiesel Production Inputs'!C22/(H11*'CA-GREET4.0'!J9+D25*'Biodiesel Production Inputs'!C22+D26*'CA-GREET4.0'!E6+D27*'Biodiesel Production Inputs'!C23+D28*'Biodiesel Production Inputs'!C24)*SUM(S16:S17,S19:S24),),)","v":0},{"$f":"-IFERROR(IF(T11>0,D25*'Biodiesel Production Inputs'!C22/(H11*'CA-GREET4.0'!J9+D25*'Biodiesel Production Inputs'!C22+D26*'CA-GREET4.0'!E6+D27*'Biodiesel Production Inputs'!C23+D28*'Biodiesel Production Inputs'!C24)*SUM(T16:T17,T19:T24),),)","v":0},{"$f":"-IFERROR(IF(U11>0,D25*'Biodiesel Production Inputs'!C22/(H11*'CA-GREET4.0'!J9+D25*'Biodiesel Production Inputs'!C22+D26*'CA-GREET4.0'!E6+D27*'Biodiesel Production Inputs'!C23+D28*'Biodiesel Production Inputs'!C24)*SUM(U16:U17,U19:U24),),)","v":0},{"$f":"-IFERROR(IF(V11>0,D25*'Biodiesel Production Inputs'!C22/(H11*'CA-GREET4.0'!J9+D25*'Biodiesel Production Inputs'!C22+D26*'CA-GREET4.0'!E6+D27*'Biodiesel Production Inputs'!C23+D28*'Biodiesel Production Inputs'!C24)*SUM(V16:V17,V19:V24),),)","v":0},{"$f":"-IFERROR(IF(W11>0,D25*'Biodiesel Production Inputs'!C22/(H11*'CA-GREET4.0'!J9+D25*'Biodiesel Production Inputs'!C22+D26*'CA-GREET4.0'!E6+D27*'Biodiesel Production Inputs'!C23+D28*'Biodiesel Production Inputs'!C24)*SUM(W16:W17,W19:W24),),)","v":0},{"$f":"-IFERROR(IF(X11>0,D25*'Biodiesel Production Inputs'!C22/(H11*'CA-GREET4.0'!J9+D25*'Biodiesel Production Inputs'!C22+D26*'CA-GREET4.0'!E6+D27*'Biodiesel Production Inputs'!C23+D28*'Biodiesel Production Inputs'!C24)*SUM(X16:X17,X19:X24),),)","v":0},{"$f":"-IFERROR(IF(Y11>0,D25*'Biodiesel Production Inputs'!C22/(H11*'CA-GREET4.0'!J9+D25*'Biodiesel Production Inputs'!C22+D26*'CA-GREET4.0'!E6+D27*'Biodiesel Production Inputs'!C23+D28*'Biodiesel Production Inputs'!C24)*SUM(Y16:Y17,Y19:Y24),),)","v":0},{"$f":"-IFERROR(IF(Z11>0,D25*'Biodiesel Production Inputs'!C22/(H11*'CA-GREET4.0'!J9+D25*'Biodiesel Production Inputs'!C22+D26*'CA-GREET4.0'!E6+D27*'Biodiesel Production Inputs'!C23+D28*'Biodiesel Production Inputs'!C24)*SUM(Z16:Z17,Z19:Z24),),)","v":0},{"$f":"-IFERROR(IF(AA11>0,D25*'Biodiesel Production Inputs'!C22/(H11*'CA-GREET4.0'!J9+D25*'Biodiesel Production Inputs'!C22+D26*'CA-GREET4.0'!E6+D27*'Biodiesel Production Inputs'!C23+D28*'Biodiesel Production Inputs'!C24)*SUM(AA16:AA17,AA19:AA24),),)","v":0},{"$f":"-IFERROR(IF(AB11>0,D25*'Biodiesel Production Inputs'!C22/(H11*'CA-GREET4.0'!J9+D25*'Biodiesel Production Inputs'!C22+D26*'CA-GREET4.0'!E6+D27*'Biodiesel Production Inputs'!C23+D28*'Biodiesel Production Inputs'!C24)*SUM(AB16:AB17,AB19:AB24),),)","v":0}]
[null,null,{"$f":"'Biodiesel Production Inputs'!N5","v":"Glycerin"},{"$f":"SUM('Biodiesel Production Inputs'!N7:N30)","v":0},{"$f":"'Biodiesel Production Inputs'!N6","v":"dry lbs"},{"$f":"IFERROR(H26/D26,)","v":0},"gCO2e/dry lb coproduct",{"$f":"SUMPRODUCT(I26:AB26,I11:AB11)","v":0},{"$f":"-IFERROR(IF(I11>0,D26*'CA-GREET4.0'!E6/(H11*'CA-GREET4.0'!J9+D25*'Biodiesel Production Inputs'!C22+D26*'CA-GREET4.0'!E6+D27*'Biodiesel Production Inputs'!C23+D28*'Biodiesel Production Inputs'!C24)*SUM(I16:I17,I19:I24),),)","v":0},{"$f":"-IFERROR(IF(J11>0,D26*'CA-GREET4.0'!E6/(H11*'CA-GREET4.0'!J9+D25*'Biodiesel Production Inputs'!C22+D26*'CA-GREET4.0'!E6+D27*'Biodiesel Production Inputs'!C23+D28*'Biodiesel Production Inputs'!C24)*SUM(J16:J17,J19:J24),),)","v":0},{"$f":"-IFERROR(IF(K11>0,D26*'CA-GREET4.0'!E6/(H11*'CA-GREET4.0'!J9+D25*'Biodiesel Production Inputs'!C22+D26*'CA-GREET4.0'!E6+D27*'Biodiesel Production Inputs'!C23+D28*'Biodiesel Production Inputs'!C24)*SUM(K16:K17,K19:K24),),)","v":0},{"$f":"-IFERROR(IF(L11>0,D26*'CA-GREET4.0'!E6/(H11*'CA-GREET4.0'!J9+D25*'Biodiesel Production Inputs'!C22+D26*'CA-GREET4.0'!E6+D27*'Biodiesel Production Inputs'!C23+D28*'Biodiesel Production Inputs'!C24)*SUM(L16:L17,L19:L24),),)","v":0},{"$f":"-IFERROR(IF(M11>0,D26*'CA-GREET4.0'!E6/(H11*'CA-GREET4.0'!J9+D25*'Biodiesel Production Inputs'!C22+D26*'CA-GREET4.0'!E6+D27*'Biodiesel Production Inputs'!C23+D28*'Biodiesel Production Inputs'!C24)*SUM(M16:M17,M19:M24),),)","v":0},{"$f":"-IFERROR(IF(N11>0,D26*'CA-GREET4.0'!E6/(H11*'CA-GREET4.0'!J9+D25*'Biodiesel Production Inputs'!C22+D26*'CA-GREET4.0'!E6+D27*'Biodiesel Production Inputs'!C23+D28*'Biodiesel Production Inputs'!C24)*SUM(N16:N17,N19:N24),),)","v":0},{"$f":"-IFERROR(IF(O11>0,D26*'CA-GREET4.0'!E6/(H11*'CA-GREET4.0'!J9+D25*'Biodiesel Production Inputs'!C22+D26*'CA-GREET4.0'!E6+D27*'Biodiesel Production Inputs'!C23+D28*'Biodiesel Production Inputs'!C24)*SUM(O16:O17,O19:O24),),)","v":0},{"$f":"-IFERROR(IF(P11>0,D26*'CA-GREET4.0'!E6/(H11*'CA-GREET4.0'!J9+D25*'Biodiesel Production Inputs'!C22+D26*'CA-GREET4.0'!E6+D27*'Biodiesel Production Inputs'!C23+D28*'Biodiesel Production Inputs'!C24)*SUM(P16:P17,P19:P24),),)","v":0},{"$f":"-IFERROR(IF(Q11>0,D26*'CA-GREET4.0'!E6/(H11*'CA-GREET4.0'!J9+D25*'Biodiesel Production Inputs'!C22+D26*'CA-GREET4.0'!E6+D27*'Biodiesel Production Inputs'!C23+D28*'Biodiesel Production Inputs'!C24)*SUM(Q16:Q17,Q19:Q24),),)","v":0},{"$f":"-IFERROR(IF(R11>0,D26*'CA-GREET4.0'!E6/(H11*'CA-GREET4.0'!J9+D25*'Biodiesel Production Inputs'!C22+D26*'CA-GREET4.0'!E6+D27*'Biodiesel Production Inputs'!C23+D28*'Biodiesel Production Inputs'!C24)*SUM(R16:R17,R19:R24),),)","v":0},{"$f":"-IFERROR(IF(S11>0,D26*'CA-GREET4.0'!E6/(H11*'CA-GREET4.0'!J9+D25*'Biodiesel Production Inputs'!C22+D26*'CA-GREET4.0'!E6+D27*'Biodiesel Production Inputs'!C23+D28*'Biodiesel Production Inputs'!C24)*SUM(S16:S17,S19:S24),),)","v":0},{"$f":"-IFERROR(IF(T11>0,D26*'CA-GREET4.0'!E6/(H11*'CA-GREET4.0'!J9+D25*'Biodiesel Production Inputs'!C22+D26*'CA-GREET4.0'!E6+D27*'Biodiesel Production Inputs'!C23+D28*'Biodiesel Production Inputs'!C24)*SUM(T16:T17,T19:T24),),)","v":0},{"$f":"-IFERROR(IF(U11>0,D26*'CA-GREET4.0'!E6/(H11*'CA-GREET4.0'!J9+D25*'Biodiesel Production Inputs'!C22+D26*'CA-GREET4.0'!E6+D27*'Biodiesel Production Inputs'!C23+D28*'Biodiesel Production Inputs'!C24)*SUM(U16:U17,U19:U24),),)","v":0},{"$f":"-IFERROR(IF(V11>0,D26*'CA-GREET4.0'!E6/(H11*'CA-GREET4.0'!J9+D25*'Biodiesel Production Inputs'!C22+D26*'CA-GREET4.0'!E6+D27*'Biodiesel Production Inputs'!C23+D28*'Biodiesel Production Inputs'!C24)*SUM(V16:V17,V19:V24),),)","v":0},{"$f":"-IFERROR(IF(W11>0,D26*'CA-GREET4.0'!E6/(H11*'CA-GREET4.0'!J9+D25*'Biodiesel Production Inputs'!C22+D26*'CA-GREET4.0'!E6+D27*'Biodiesel Production Inputs'!C23+D28*'Biodiesel Production Inputs'!C24)*SUM(W16:W17,W19:W24),),)","v":0},{"$f":"-IFERROR(IF(X11>0,D26*'CA-GREET4.0'!E6/(H11*'CA-GREET4.0'!J9+D25*'Biodiesel Production Inputs'!C22+D26*'CA-GREET4.0'!E6+D27*'Biodiesel Production Inputs'!C23+D28*'Biodiesel Production Inputs'!C24)*SUM(X16:X17,X19:X24),),)","v":0},{"$f":"-IFERROR(IF(Y11>0,D26*'CA-GREET4.0'!E6/(H11*'CA-GREET4.0'!J9+D25*'Biodiesel Production Inputs'!C22+D26*'CA-GREET4.0'!E6+D27*'Biodiesel Production Inputs'!C23+D28*'Biodiesel Production Inputs'!C24)*SUM(Y16:Y17,Y19:Y24),),)","v":0},{"$f":"-IFERROR(IF(Z11>0,D26*'CA-GREET4.0'!E6/(H11*'CA-GREET4.0'!J9+D25*'Biodiesel Production Inputs'!C22+D26*'CA-GREET4.0'!E6+D27*'Biodiesel Production Inputs'!C23+D28*'Biodiesel Production Inputs'!C24)*SUM(Z16:Z17,Z19:Z24),),)","v":0},{"$f":"-IFERROR(IF(AA11>0,D26*'CA-GREET4.0'!E6/(H11*'CA-GREET4.0'!J9+D25*'Biodiesel Production Inputs'!C22+D26*'CA-GREET4.0'!E6+D27*'Biodiesel Production Inputs'!C23+D28*'Biodiesel Production Inputs'!C24)*SUM(AA16:AA17,AA19:AA24),),)","v":0},{"$f":"-IFERROR(IF(AB11>0,D26*'CA-GREET4.0'!E6/(H11*'CA-GREET4.0'!J9+D25*'Biodiesel Production Inputs'!C22+D26*'CA-GREET4.0'!E6+D27*'Biodiesel Production Inputs'!C23+D28*'Biodiesel Production Inputs'!C24)*SUM(AB16:AB17,AB19:AB24),),)","v":0}]
[null,null,{"$f":"'Biodiesel Production Inputs'!O5","v":"Distillate Bottoms"},{"$f":"SUM('Biodiesel Production Inputs'!O7:O30)","v":0},{"$f":"'Biodiesel Production Inputs'!O6","v":"dry lbs"},0,"gCO2e/dry lb coproduct",{"$f":"SUMPRODUCT(I27:AB27,I11:AB11)","v":0},{"$f":"-IFERROR(IF(I11>0,D27*'Biodiesel Production Inputs'!C23/(H11*'CA-GREET4.0'!J9+D25*'Biodiesel Production Inputs'!C22+D26*'CA-GREET4.0'!E6+D27*'Biodiesel Production Inputs'!C23+D28*'Biodiesel Production Inputs'!C24)*SUM(I16:I17,I19:I24),),)","v":0},{"$f":"-IFERROR(IF(J11>0,D27*'Biodiesel Production Inputs'!C23/(H11*'CA-GREET4.0'!J9+D25*'Biodiesel Production Inputs'!C22+D26*'CA-GREET4.0'!E6+D27*'Biodiesel Production Inputs'!C23+D28*'Biodiesel Production Inputs'!C24)*SUM(J16:J17,J19:J24),),)","v":0},{"$f":"-IFERROR(IF(K11>0,D27*'Biodiesel Production Inputs'!C23/(H11*'CA-GREET4.0'!J9+D25*'Biodiesel Production Inputs'!C22+D26*'CA-GREET4.0'!E6+D27*'Biodiesel Production Inputs'!C23+D28*'Biodiesel Production Inputs'!C24)*SUM(K16:K17,K19:K24),),)","v":0},{"$f":"-IFERROR(IF(L11>0,D27*'Biodiesel Production Inputs'!C23/(H11*'CA-GREET4.0'!J9+D25*'Biodiesel Production Inputs'!C22+D26*'CA-GREET4.0'!E6+D27*'Biodiesel Production Inputs'!C23+D28*'Biodiesel Production Inputs'!C24)*SUM(L16:L17,L19:L24),),)","v":0},{"$f":"-IFERROR(IF(M11>0,D27*'Biodiesel Production Inputs'!C23/(H11*'CA-GREET4.0'!J9+D25*'Biodiesel Production Inputs'!C22+D26*'CA-GREET4.0'!E6+D27*'Biodiesel Production Inputs'!C23+D28*'Biodiesel Production Inputs'!C24)*SUM(M16:M17,M19:M24),),)","v":0},{"$f":"-IFERROR(IF(N11>0,D27*'Biodiesel Production Inputs'!C23/(H11*'CA-GREET4.0'!J9+D25*'Biodiesel Production Inputs'!C22+D26*'CA-GREET4.0'!E6+D27*'Biodiesel Production Inputs'!C23+D28*'Biodiesel Production Inputs'!C24)*SUM(N16:N17,N19:N24),),)","v":0},{"$f":"-IFERROR(IF(O11>0,D27*'Biodiesel Production Inputs'!C23/(H11*'CA-GREET4.0'!J9+D25*'Biodiesel Production Inputs'!C22+D26*'CA-GREET4.0'!E6+D27*'Biodiesel Production Inputs'!C23+D28*'Biodiesel Production Inputs'!C24)*SUM(O16:O17,O19:O24),),)","v":0},{"$f":"-IFERROR(IF(P11>0,D27*'Biodiesel Production Inputs'!C23/(H11*'CA-GREET4.0'!J9+D25*'Biodiesel Production Inputs'!C22+D26*'CA-GREET4.0'!E6+D27*'Biodiesel Production Inputs'!C23+D28*'Biodiesel Production Inputs'!C24)*SUM(P16:P17,P19:P24),),)","v":0},{"$f":"-IFERROR(IF(Q11>0,D27*'Biodiesel Production Inputs'!C23/(H11*'CA-GREET4.0'!J9+D25*'Biodiesel Production Inputs'!C22+D26*'CA-GREET4.0'!E6+D27*'Biodiesel Production Inputs'!C23+D28*'Biodiesel Production Inputs'!C24)*SUM(Q16:Q17,Q19:Q24),),)","v":0},{"$f":"-IFERROR(IF(R11>0,D27*'Biodiesel Production Inputs'!C23/(H11*'CA-GREET4.0'!J9+D25*'Biodiesel Production Inputs'!C22+D26*'CA-GREET4.0'!E6+D27*'Biodiesel Production Inputs'!C23+D28*'Biodiesel Production Inputs'!C24)*SUM(R16:R17,R19:R24),),)","v":0},{"$f":"-IFERROR(IF(S11>0,D27*'Biodiesel Production Inputs'!C23/(H11*'CA-GREET4.0'!J9+D25*'Biodiesel Production Inputs'!C22+D26*'CA-GREET4.0'!E6+D27*'Biodiesel Production Inputs'!C23+D28*'Biodiesel Production Inputs'!C24)*SUM(S16:S17,S19:S24),),)","v":0},{"$f":"-IFERROR(IF(T11>0,D27*'Biodiesel Production Inputs'!C23/(H11*'CA-GREET4.0'!J9+D25*'Biodiesel Production Inputs'!C22+D26*'CA-GREET4.0'!E6+D27*'Biodiesel Production Inputs'!C23+D28*'Biodiesel Production Inputs'!C24)*SUM(T16:T17,T19:T24),),)","v":0},{"$f":"-IFERROR(IF(U11>0,D27*'Biodiesel Production Inputs'!C23/(H11*'CA-GREET4.0'!J9+D25*'Biodiesel Production Inputs'!C22+D26*'CA-GREET4.0'!E6+D27*'Biodiesel Production Inputs'!C23+D28*'Biodiesel Production Inputs'!C24)*SUM(U16:U17,U19:U24),),)","v":0},{"$f":"-IFERROR(IF(V11>0,D27*'Biodiesel Production Inputs'!C23/(H11*'CA-GREET4.0'!J9+D25*'Biodiesel Production Inputs'!C22+D26*'CA-GREET4.0'!E6+D27*'Biodiesel Production Inputs'!C23+D28*'Biodiesel Production Inputs'!C24)*SUM(V16:V17,V19:V24),),)","v":0},{"$f":"-IFERROR(IF(W11>0,D27*'Biodiesel Production Inputs'!C23/(H11*'CA-GREET4.0'!J9+D25*'Biodiesel Production Inputs'!C22+D26*'CA-GREET4.0'!E6+D27*'Biodiesel Production Inputs'!C23+D28*'Biodiesel Production Inputs'!C24)*SUM(W16:W17,W19:W24),),)","v":0},{"$f":"-IFERROR(IF(X11>0,D27*'Biodiesel Production Inputs'!C23/(H11*'CA-GREET4.0'!J9+D25*'Biodiesel Production Inputs'!C22+D26*'CA-GREET4.0'!E6+D27*'Biodiesel Production Inputs'!C23+D28*'Biodiesel Production Inputs'!C24)*SUM(X16:X17,X19:X24),),)","v":0},{"$f":"-IFERROR(IF(Y11>0,D27*'Biodiesel Production Inputs'!C23/(H11*'CA-GREET4.0'!J9+D25*'Biodiesel Production Inputs'!C22+D26*'CA-GREET4.0'!E6+D27*'Biodiesel Production Inputs'!C23+D28*'Biodiesel Production Inputs'!C24)*SUM(Y16:Y17,Y19:Y24),),)","v":0},{"$f":"-IFERROR(IF(Z11>0,D27*'Biodiesel Production Inputs'!C23/(H11*'CA-GREET4.0'!J9+D25*'Biodiesel Production Inputs'!C22+D26*'CA-GREET4.0'!E6+D27*'Biodiesel Production Inputs'!C23+D28*'Biodiesel Production Inputs'!C24)*SUM(Z16:Z17,Z19:Z24),),)","v":0},{"$f":"-IFERROR(IF(AA11>0,D27*'Biodiesel Production Inputs'!C23/(H11*'CA-GREET4.0'!J9+D25*'Biodiesel Production Inputs'!C22+D26*'CA-GREET4.0'!E6+D27*'Biodiesel Production Inputs'!C23+D28*'Biodiesel Production Inputs'!C24)*SUM(AA16:AA17,AA19:AA24),),)","v":0},{"$f":"-IFERROR(IF(AB11>0,D27*'Biodiesel Production Inputs'!C23/(H11*'CA-GREET4.0'!J9+D25*'Biodiesel Production Inputs'!C22+D26*'CA-GREET4.0'!E6+D27*'Biodiesel Production Inputs'!C23+D28*'Biodiesel Production Inputs'!C24)*SUM(AB16:AB17,AB19:AB24),),)","v":0}]
[null,null,{"$f":"'Biodiesel Production Inputs'!P5","v":"Alternate Coproduct"},{"$f":"SUM('Biodiesel Production Inputs'!P7:P30)","v":0},{"$f":"'Biodiesel Production Inputs'!P6","v":"dry lbs"},0,"gCO2e/dry lb coproduct",{"$f":"SUMPRODUCT(I28:AB28,I11:AB11)","v":0},{"$f":"-IFERROR(IF(I11>0,D28*'Biodiesel Production Inputs'!C24/(H11*'CA-GREET4.0'!J9+D25*'Biodiesel Production Inputs'!C22+D26*'CA-GREET4.0'!E6+D27*'Biodiesel Production Inputs'!C23+D28*'Biodiesel Production Inputs'!C24)*SUM(I16:I17,I19:I24),),)","v":0},{"$f":"-IFERROR(IF(J11>0,D28*'Biodiesel Production Inputs'!C24/(H11*'CA-GREET4.0'!J9+D25*'Biodiesel Production Inputs'!C22+D26*'CA-GREET4.0'!E6+D27*'Biodiesel Production Inputs'!C23+D28*'Biodiesel Production Inputs'!C24)*SUM(J16:J17,J19:J24),),)","v":0},{"$f":"-IFERROR(IF(K11>0,D28*'Biodiesel Production Inputs'!C24/(H11*'CA-GREET4.0'!J9+D25*'Biodiesel Production Inputs'!C22+D26*'CA-GREET4.0'!E6+D27*'Biodiesel Production Inputs'!C23+D28*'Biodiesel Production Inputs'!C24)*SUM(K16:K17,K19:K24),),)","v":0},{"$f":"-IFERROR(IF(L11>0,D28*'Biodiesel Production Inputs'!C24/(H11*'CA-GREET4.0'!J9+D25*'Biodiesel Production Inputs'!C22+D26*'CA-GREET4.0'!E6+D27*'Biodiesel Production Inputs'!C23+D28*'Biodiesel Production Inputs'!C24)*SUM(L16:L17,L19:L24),),)","v":0},{"$f":"-IFERROR(IF(M11>0,D28*'Biodiesel Production Inputs'!C24/(H11*'CA-GREET4.0'!J9+D25*'Biodiesel Production Inputs'!C22+D26*'CA-GREET4.0'!E6+D27*'Biodiesel Production Inputs'!C23+D28*'Biodiesel Production Inputs'!C24)*SUM(M16:M17,M19:M24),),)","v":0},{"$f":"-IFERROR(IF(N11>0,D28*'Biodiesel Production Inputs'!C24/(H11*'CA-GREET4.0'!J9+D25*'Biodiesel Production Inputs'!C22+D26*'CA-GREET4.0'!E6+D27*'Biodiesel Production Inputs'!C23+D28*'Biodiesel Production Inputs'!C24)*SUM(N16:N17,N19:N24),),)","v":0},{"$f":"-IFERROR(IF(O11>0,D28*'Biodiesel Production Inputs'!C24/(H11*'CA-GREET4.0'!J9+D25*'Biodiesel Production Inputs'!C22+D26*'CA-GREET4.0'!E6+D27*'Biodiesel Production Inputs'!C23+D28*'Biodiesel Production Inputs'!C24)*SUM(O16:O17,O19:O24),),)","v":0},{"$f":"-IFERROR(IF(P11>0,D28*'Biodiesel Production Inputs'!C24/(H11*'CA-GREET4.0'!J9+D25*'Biodiesel Production Inputs'!C22+D26*'CA-GREET4.0'!E6+D27*'Biodiesel Production Inputs'!C23+D28*'Biodiesel Production Inputs'!C24)*SUM(P16:P17,P19:P24),),)","v":0},{"$f":"-IFERROR(IF(Q11>0,D28*'Biodiesel Production Inputs'!C24/(H11*'CA-GREET4.0'!J9+D25*'Biodiesel Production Inputs'!C22+D26*'CA-GREET4.0'!E6+D27*'Biodiesel Production Inputs'!C23+D28*'Biodiesel Production Inputs'!C24)*SUM(Q16:Q17,Q19:Q24),),)","v":0},{"$f":"-IFERROR(IF(R11>0,D28*'Biodiesel Production Inputs'!C24/(H11*'CA-GREET4.0'!J9+D25*'Biodiesel Production Inputs'!C22+D26*'CA-GREET4.0'!E6+D27*'Biodiesel Production Inputs'!C23+D28*'Biodiesel Production Inputs'!C24)*SUM(R16:R17,R19:R24),),)","v":0},{"$f":"-IFERROR(IF(S11>0,D28*'Biodiesel Production Inputs'!C24/(H11*'CA-GREET4.0'!J9+D25*'Biodiesel Production Inputs'!C22+D26*'CA-GREET4.0'!E6+D27*'Biodiesel Production Inputs'!C23+D28*'Biodiesel Production Inputs'!C24)*SUM(S16:S17,S19:S24),),)","v":0},{"$f":"-IFERROR(IF(T11>0,D28*'Biodiesel Production Inputs'!C24/(H11*'CA-GREET4.0'!J9+D25*'Biodiesel Production Inputs'!C22+D26*'CA-GREET4.0'!E6+D27*'Biodiesel Production Inputs'!C23+D28*'Biodiesel Production Inputs'!C24)*SUM(T16:T17,T19:T24),),)","v":0},{"$f":"-IFERROR(IF(U11>0,D28*'Biodiesel Production Inputs'!C24/(H11*'CA-GREET4.0'!J9+D25*'Biodiesel Production Inputs'!C22+D26*'CA-GREET4.0'!E6+D27*'Biodiesel Production Inputs'!C23+D28*'Biodiesel Production Inputs'!C24)*SUM(U16:U17,U19:U24),),)","v":0},{"$f":"-IFERROR(IF(V11>0,D28*'Biodiesel Production Inputs'!C24/(H11*'CA-GREET4.0'!J9+D25*'Biodiesel Production Inputs'!C22+D26*'CA-GREET4.0'!E6+D27*'Biodiesel Production Inputs'!C23+D28*'Biodiesel Production Inputs'!C24)*SUM(V16:V17,V19:V24),),)","v":0},{"$f":"-IFERROR(IF(W11>0,D28*'Biodiesel Production Inputs'!C24/(H11*'CA-GREET4.0'!J9+D25*'Biodiesel Production Inputs'!C22+D26*'CA-GREET4.0'!E6+D27*'Biodiesel Production Inputs'!C23+D28*'Biodiesel Production Inputs'!C24)*SUM(W16:W17,W19:W24),),)","v":0},{"$f":"-IFERROR(IF(X11>0,D28*'Biodiesel Production Inputs'!C24/(H11*'CA-GREET4.0'!J9+D25*'Biodiesel Production Inputs'!C22+D26*'CA-GREET4.0'!E6+D27*'Biodiesel Production Inputs'!C23+D28*'Biodiesel Production Inputs'!C24)*SUM(X16:X17,X19:X24),),)","v":0},{"$f":"-IFERROR(IF(Y11>0,D28*'Biodiesel Production Inputs'!C24/(H11*'CA-GREET4.0'!J9+D25*'Biodiesel Production Inputs'!C22+D26*'CA-GREET4.0'!E6+D27*'Biodiesel Production Inputs'!C23+D28*'Biodiesel Production Inputs'!C24)*SUM(Y16:Y17,Y19:Y24),),)","v":0},{"$f":"-IFERROR(IF(Z11>0,D28*'Biodiesel Production Inputs'!C24/(H11*'CA-GREET4.0'!J9+D25*'Biodiesel Production Inputs'!C22+D26*'CA-GREET4.0'!E6+D27*'Biodiesel Production Inputs'!C23+D28*'Biodiesel Production Inputs'!C24)*SUM(Z16:Z17,Z19:Z24),),)","v":0},{"$f":"-IFERROR(IF(AA11>0,D28*'Biodiesel Production Inputs'!C24/(H11*'CA-GREET4.0'!J9+D25*'Biodiesel Production Inputs'!C22+D26*'CA-GREET4.0'!E6+D27*'Biodiesel Production Inputs'!C23+D28*'Biodiesel Production Inputs'!C24)*SUM(AA16:AA17,AA19:AA24),),)","v":0},{"$f":"-IFERROR(IF(AB11>0,D28*'Biodiesel Production Inputs'!C24/(H11*'CA-GREET4.0'!J9+D25*'Biodiesel Production Inputs'!C22+D26*'CA-GREET4.0'!E6+D27*'Biodiesel Production Inputs'!C23+D28*'Biodiesel Production Inputs'!C24)*SUM(AB16:AB17,AB19:AB24),),)","v":0}]
[null,"Transport and Distribution",{"$f":"'CA-GREET4.0'!D23","v":"HHDT"},{"$f":"H10*'Biodiesel Production Inputs'!C25","v":0},"gallon-miles",{"$f":"'CA-GREET4.0'!E23","v":0.64077871200194081},"gCO2e/gallon-mile",{"$f":"D29*F29","v":0},{"$f":"IF(I11>0,H29/H11,)","v":0},{"$f":"IF(J11>0,H29/H11,)","v":0},{"$f":"IF(K11>0,H29/H11,)","v":0},{"$f":"IF(L11>0,H29/H11,)","v":0},{"$f":"IF(M11>0,H29/H11,)","v":0},{"$f":"IF(N11>0,H29/H11,)","v":0},{"$f":"IF(O11>0,H29/H11,)","v":0},{"$f":"IF(P11>0,H29/H11,)","v":0},{"$f":"IF(Q11>0,H29/H11,)","v":0},{"$f":"IF(R11>0,H29/H11,)","v":0},{"$f":"IF(S11>0,H29/H11,)","v":0},{"$f":"IF(T11>0,H29/H11,)","v":0},{"$f":"IF(U11>0,H29/H11,)","v":0},{"$f":"IF(V11>0,H29/H11,)","v":0},{"$f":"IF(W11>0,H29/H11,)","v":0},{"$f":"IF(X11>0,H29/H11,)","v":0},{"$f":"IF(Y11>0,H29/H11,)","v":0},{"$f":"IF(Z11>0,H29/H11,)","v":0},{"$f":"IF(AA11>0,H29/H11,)","v":0},{"$f":"IF(AB11>0,H29/H11,)","v":0}]
[null,null,{"$f":"'CA-GREET4.0'!D24","v":"Rail"},{"$f":"H10*'Biodiesel Production Inputs'!C26","v":0},"gallon-miles",{"$f":"'CA-GREET4.0'!E24","v":9.5533534359483072E-2},"gCO2e/gallon-mile",0,{"$f":"IF(I11>0,H30/H11,)","v":0},{"$f":"IF(J11>0,H30/H11,)","v":0},{"$f":"IF(K11>0,H30/H11,)","v":0},{"$f":"IF(L11>0,H30/H11,)","v":0},{"$f":"IF(M11>0,H30/H11,)","v":0},{"$f":"IF(N11>0,H30/H11,)","v":0},{"$f":"IF(O11>0,H30/H11,)","v":0},{"$f":"IF(P11>0,H30/H11,)","v":0},{"$f":"IF(Q11>0,H30/H11,)","v":0},{"$f":"IF(R11>0,H30/H11,)","v":0},{"$f":"IF(S11>0,H30/H11,)","v":0},{"$f":"IF(T11>0,H30/H11,)","v":0},{"$f":"IF(U11>0,H30/H11,)","v":0},{"$f":"IF(V11>0,H30/H11,)","v":0},{"$f":"IF(W11>0,H30/H11,)","v":0},{"$f":"IF(X11>0,H30/H11,)","v":0},{"$f":"IF(Y11>0,H30/H11,)","v":0},{"$f":"IF(Z11>0,H30/H11,)","v":0},{"$f":"IF(AA11>0,H30/H11,)","v":0},{"$f":"IF(AB11>0,H30/H11,)","v":0}]
[null,null,{"$f":"'CA-GREET4.0'!D25","v":"Barge"},{"$f":"H10*'Biodiesel Production Inputs'!C27","v":0},"gallon-miles",{"$f":"'CA-GREET4.0'!E25","v":0.15578726110995342},"gCO2e/gallon-mile",0,{"$f":"IF(I11>0,H31/H11,)","v":0},{"$f":"IF(J11>0,H31/H11,)","v":0},{"$f":"IF(K11>0,H31/H11,)","v":0},{"$f":"IF(L11>0,H31/H11,)","v":0},{"$f":"IF(M11>0,H31/H11,)","v":0},{"$f":"IF(N11>0,H31/H11,)","v":0},{"$f":"IF(O11>0,H31/H11,)","v":0},{"$f":"IF(P11>0,H31/H11,)","v":0},{"$f":"IF(Q11>0,H31/H11,)","v":0},{"$f":"IF(R11>0,H31/H11,)","v":0},{"$f":"IF(S11>0,H31/H11,)","v":0},{"$f":"IF(T11>0,H31/H11,)","v":0},{"$f":"IF(U11>0,H31/H11,)","v":0},{"$f":"IF(V11>0,H31/H11,)","v":0},{"$f":"IF(W11>0,H31/H11,)","v":0},{"$f":"IF(X11>0,H31/H11,)","v":0},{"$f":"IF(Y11>0,H31/H11,)","v":0},{"$f":"IF(Z11>0,H31/H11,)","v":0},{"$f":"IF(AA11>0,H31/H11,)","v":0},{"$f":"IF(AB11>0,H31/H11,)","v":0}]
[null,null,{"$f":"'CA-GREET4.0'!D26","v":"Ocean Tanker - 22,500 DWT"},{"$f":"H10*'Biodiesel Production Inputs'!C28","v":0},"gallon-miles",{"$f":"'Biodiesel Production Inputs'!C30","v":0},"gCO2e/gallon-mile",0,{"$f":"IF(I11>0,H32/H11,)","v":0},{"$f":"IF(J11>0,H32/H11,)","v":0},{"$f":"IF(K11>0,H32/H11,)","v":0},{"$f":"IF(L11>0,H32/H11,)","v":0},{"$f":"IF(M11>0,H32/H11,)","v":0},{"$f":"IF(N11>0,H32/H11,)","v":0},{"$f":"IF(O11>0,H32/H11,)","v":0},{"$f":"IF(P11>0,H32/H11,)","v":0},{"$f":"IF(Q11>0,H32/H11,)","v":0},{"$f":"IF(R11>0,H32/H11,)","v":0},{"$f":"IF(S11>0,H32/H11,)","v":0},{"$f":"IF(T11>0,H32/H11,)","v":0},{"$f":"IF(U11>0,H32/H11,)","v":0},{"$f":"IF(V11>0,H32/H11,)","v":0},{"$f":"IF(W11>0,H32/H11,)","v":0},{"$f":"IF(X11>0,H32/H11,)","v":0},{"$f":"IF(Y11>0,H32/H11,)","v":0},{"$f":"IF(Z11>0,H32/H11,)","v":0},{"$f":"IF(AA11>0,H32/H11,)","v":0},{"$f":"IF(AB11>0,H32/H11,)","v":0}]
[null,"Tailpipe Emissions",null,{"$f":"H11","v":0},"MJ biodiesel",{"$f":"'CA-GREET4.0'!E28","v":3.4965395124860694},"gCO2e/MJ biodiesel",{"$f":"D33*F33","v":0},{"$f":"IF(I11>0,H33/H11,)","v":0},{"$f":"IF(J11>0,H33/H11,)","v":0},{"$f":"IF(K11>0,H33/H11,)","v":0},{"$f":"IF(L11>0,H33/H11,)","v":0},{"$f":"IF(M11>0,H33/H11,)","v":0},{"$f":"IF(N11>0,H33/H11,)","v":0},{"$f":"IF(O11>0,H33/H11,)","v":0},{"$f":"IF(P11>0,H33/H11,)","v":0},{"$f":"IF(Q11>0,H33/H11,)","v":0},{"$f":"IF(R11>0,H33/H11,)","v":0},{"$f":"IF(S11>0,H33/H11,)","v":0},{"$f":"IF(T11>0,H33/H11,)","v":0},{"$f":"IF(U11>0,H33/H11,)","v":0},{"$f":"IF(V11>0,H33/H11,)","v":0},{"$f":"IF(W11>0,H33/H11,)","v":0},{"$f":"IF(X11>0,H33/H11,)","v":0},{"$f":"IF(Y11>0,H33/H11,)","v":0},{"$f":"IF(Z11>0,H33/H11,)","v":0},{"$f":"IF(AA11>0,H33/H11,)","v":0},{"$f":"IF(AB11>0,H33/H11,)","v":0}]
[null,"Fuel Pathway Carbon Intensity (gCO2e/MJ BD, LHV)",null,null,null,null,null,null,{"$f":"SUM(I16:I33)","v":0},0,0,0,0,0,0,0,0,0,0,0,0,0,0,0,0,0,0,0]
[null,"Margin of Safety (entered by applicant)"]
[null,"Fuel Pathway Carbon Intensity for Certification (gCO2e/MJ BD, LHV)",null,null,null,null,null,null,{"$f":"I34+I35","v":0},{"$f":"J34+J35","v":0},0,0,{"$f":"M34+M35","v":0},0,0,0,0,0,0,0,0,0,0,0,0,0,0,0]
[]
[null,"Operating Conditions"]
[]
[]
[]
[]
[]
[]
[]
[]
[]
[]
[null,null,"`"]

{"sheet":"CA-GREET4.0","index":4,"n_rows":59,"n_cols":13,"rows_kept":59,"cut":false,"hidden":false,"merged":[[28,5,57,5],[28,2,57,2],[28,1,57,1],[22,2,26,2],[22,1,26,1],[1,1,1,5],[1,7,1,12],[6,5,10,5],[6,2,10,2],[3,1,5,1],[6,1,18,1],[19,1,21,1],[22,5,25,5],[11,5,15,5],[11,2,13,2],[14,2,15,2],[16,5,18,5],[16,2,18,2]]}
[]
[null," CA-GREET4.0 Emission Factors and Specifications",null,null,null,null,null,"Unit Conversion"]
[null,"Category","Sub-Category","Name","Value","Unit",null,"Energy","1 kJ","1 MJ","1 kWh","1 BTU","1 MMBtu"]
[null,"Fuel Specifications","Biodiesel","Energy Density",126.13,"MJ/gal, LHV",null,"Joule (J)",1000,1000000,3600000,1055.05585,1055055850]
[null,null,"Natural Gas","Heating Value Ratio",0.90291262135922334,"LHV/HHV",null,"Kilojoule (kJ)",1,1000,3600,1.05505585,1055055.8500000001]
[null,null,"Glycerin","Energy Density",7979,"Btu/lb, LHV",null,"Megajoule (MJ)",1E-3,1,3.6,1.0550558499999999E-3,1055.05585]
[null,"Feedstock Production","Standard Values for US/Canadian Feedstocks","Soybean Oil",224.78526541950464,"gCO2e/lb oil",null,"Watt-hour (Wh)",0.27777777777777779,277.77777777777777,1000,0.29307106944444444,293071.06944444444]
[null,null,null,"Canola Oil",406.46568318363836,null,null,"Kilowatt-hour (kWh)",2.7777777777777778E-4,0.27777777777777779,1,2.9307106944444444E-4,293.07106944444445]
[null,null,null,"Distiller's Oil",226.13069999999999,null,null,"British Thermal Unit (BTU)",0.94781712266701335,947.81712266701334,3412.141641601248,1,1000000]
[null,null,null,"Used Cooking Oil",123.18795492287927,null,null,"Million British Thermal Unit (MMBtu)",9.4781712266701337E-7,9.4781712266701326E-4,3.4121416416012479E-3,9.9999999999999995E-7,1]
[null,null,null,"Animal Fat",286.08460035008176,null,null,"Mass","1 g","1 kg","1 MT","1 lb","1 short ton"]
[null,null,"Land Transport","Truck",8.7131391545724191E-2,"gCO2e/lb-mile oil",null,"Gram (g)",1,1000,1000000,453.59237000000002,907184.74]
[null,null,null,"Rail",1.2990396890709752E-2,null,null,"Kilogram (kg)",1E-3,1,1000,0.45359237000000002,907.18474000000003]
[null,null,null,"Barge",2.1183539014895059E-2,null,null,"Metric Ton (MT)",9.9999999999999995E-7,1E-3,1,4.5359237000000004E-4,0.90718474000000004]
[null,null,"Ocean Transport by DWT","12500 DWT",1.6944002487647946E-2,null,null,"Pound (lb)",2.2046226218487759E-3,2.2046226218487757,2204.6226218487759,1,2000]
[null,null,null,"22500 DWT",1.0343529509424659E-2,null,null,"Short Ton (US Ton)",1.102311310924388E-6,1.1023113109243879E-3,1.1023113109243878,5.0000000000000001E-4,1]
[null,null,"Land Use Change","Soybean Oil",29.1,"gCO2e/MJ biodiesel",null,"Volume","1 m3","1 ml","1 L","1 gal","1 ft3"]
[null,null,null,"Canola Oil",14.5,null,null,"Cubic Meter (m3)",1,9.9999999999999995E-7,1E-3,3.7854109999999998E-3,2.8316846999999999E-2]
[null,null,null,"Palm Oil",71.400000000000006,null,null,"Milliliter (ml)",1000000,1,1000.0000000000001,3785.4110000000001,28316.847000000002]
[null,"Biodiesel Production","Process Energy ","Natural Gas",75495.751250270754,"gCO2e/MMBtu NG, LHV",null,"Liter (L)",1000,1E-3,1,3.7854109999999999,28.316846999999999]
[null,null,{"$f":"'Pathway Summary'!B23","v":"Transesterification Inputs"},"Methanol",7430.6490501030767,"gCO2e/gal MeOH",null,"Gallon (gal)",264.17210707106841,2.6417210707106839E-4,0.26417210707106842,1,7.4805211375990615]
[null,null,"Other","Chemicals",0.65,"gCO2e/MJ biodiesel",null,"Cubic Foot (ft3)",35.314666212661322,3.5314666212661319E-5,3.5314666212661321E-2,0.13368052594273649,1]
[null,"Biodiesel Transport ","To Fueling Station","HHDT",0.64077871200194081,"gCO2e/gallon-mile biodiesel                                        "]
[null,null,null,"Rail",9.5533534359483072E-2]
[null,null,null,"Barge",0.15578726110995342]
[null,null,null,"Ocean Tanker - 22,500 DWT",6.9033952503116003E-2]
[null,null,null,"Biodiesel Loss Factor",1.0000389620844559,"BD produced/dispensed"]
[null,"End Use","Engine Combustion","Tailpipe Emissions",3.4965395124860694,"gCO2e/MJ biodiesel"]
[null,"Grid Electricity","2021 eGRID Region","U.S. Average",474.14818114696288,"gCO2e/kWh"]
[null,null,null,"AKGD",739.37369659441038]
[null,null,null,"AKMS",305.05954532367315]
[null,null,null,"AZNM",452.59799644549014]
[null,null,null,"CAMX",329.31550896542888]
[null,null,null,"ERCT",470.46037472212373]
[null,null,null,"FRCC",500.08978131814308]
[null,null,null,"HIMS",729.76964401039049]
[null,null,null,"HIOA",993.04090753329433]
[null,null,null,"MROE",835.17296460818841]
[null,null,null,"MROW",522.27552659353967]
[null,null,null,"NEWE",343.93337546212689]
[null,null,null,"NWPP",341.73208620640725]
[null,null,null,"NYCW",522.5910041112935]
[null,null,null,"NYLI",603.06056459569584]
[null,null,null,"NYUP",153.92030405584592]
[null,null,null,"PRMS",864.84803647299793]
[null,null,null,"RFCE",403.02327991490318]
[null,null,null,"RFCM",647.65601416559605]
[null,null,null,"RFCW",571.73848830541249]
[null,null,null,"RMPA",581.24471143848814]
[null,null,null,"SPNO",518.57796111835]
[null,null,null,"SPSO",538.18467102575312]
[null,null,null,"SRMV",480.14759046268892]
[null,null,null,"SRMW",820.12969419368847]
[null,null,null,"SRSO",508.71583031653392]
[null,null,null,"SRTV",503.56199416646967]
[null,null,null,"SRVC",370.78940202248185]
[null,null,null,"Brazil",110.5727335921882]
[null,null,null,"Canada",142.58733454776279]
[null,null,null,"User Defined"]