Workbook

Sheet READ ME
A1: Summary of Companies and Number of Products Reported in 2023
A3: This document presents a draft list of the Companies and their corresponding Number of Products that were reported to the California Air Resources Board (CARB) as part of the 2023 Consumer and Commercial Products Survey.
A4: The worksheet named 2023 List of Companies in this draft document allows the user to view the list of companies that reported in 2023 in all the survey categories. The worksheet named 2023 All Cat Codes in this draft document allows the user to view the list of product counts, by survey category, by company name.
A5: The worksheets named Filter Based On Category Name and Filter Based On Company Name in this draft document allows the user to select a specific category code or a specific company to view the number of products. If three or less companies reported for a given category, the category is not included in this document in order to protect confidentiality. Additionally, categories that had no companies and products reported for the year 2023 are not included in this document.

Sheet 2023 List of Companies
A1: Company Name | B1: Parent Company
A2: 3M Company | B2: 3M Company
A3: A&F Trading Co. | B3: A&F Trading Co.
A4: A. L. Wilson Chemical Co. | B4: A. L. Wilson Chemical Co.
A5: ABC Compounding | B5: ABC Compounding
A6: AG Hair Ltd. | B6: AG Hair Ltd.
A7: ALEN USA | B7: Grupo AlEn
A8: Abbe Laboratories | B8: Abbe Laboratories
A9: Abbvie | B9: Abbvie
A10: Ace Hardware Corporation | B10: Ace Hardware Corporation
A11: Acqua Di Parma LLC | B11: Acqua Di Parma LLC
A12: Aervoe LLC | B12: The Quintessential Group
... A457: theubeauty.com llc | B457: theubeauty.com llc

Sheet 2023 All Cat Codes
A1: Category Code | B1: Category Name | C1: Company Name | D1: Product Count
A2: 10209 | B2: Sealant or Caulking Compound -- Chemically Curing | C2: Henkel Corporation | D2: 311 | E2: =A2&" "&B2 -> 10209 Sealant or Caulking Compound -- Chemically Curing
A3: 10209 | B3: Sealant or Caulking Compound -- Chemically Curing | C3: Franklin International | D3: 150 | E3: =A3&" "&B3 -> 10209 Sealant or Caulking Compound -- Chemically Curing
A4: 10209 | B4: Sealant or Caulking Compound -- Chemically Curing | C4: Tremco CPG, Inc | D4: 72 | E4: =A4&" "&B4 -> 10209 Sealant or Caulking Compound -- Chemically Curing
A5: 10209 | B5: Sealant or Caulking Compound -- Chemically Curing | C5: The Sherwin-Williams Company | D5: 70 | E5: =A5&" "&B5 -> 10209 Sealant or Caulking Compound -- Chemically Curing
A6: 10209 | B6: Sealant or Caulking Compound -- Chemically Curing | C6: DAP Global Inc. | D6: 57 | E6: =A6&" "&B6 -> 10209 Sealant or Caulking Compound -- Chemically Curing
A7: 10209 | B7: Sealant or Caulking Compound -- Chemically Curing | C7: LATICRETE International, Inc | D7: 43 | E7: =A7&" "&B7 -> 10209 Sealant or Caulking Compound -- Chemically Curing
A8: 10209 | B8: Sealant or Caulking Compound -- Chemically Curing | C8: Custom Building Products | D8: 36 | E8: =A8&" "&B8 -> 10209 Sealant or Caulking Compound -- Chemically Curing
A9: 10209 | B9: Sealant or Caulking Compound -- Chemically Curing | C9: 3M Company | D9: 35 | E9: =A9&" "&B9 -> 10209 Sealant or Caulking Compound -- Chemically Curing
A10: 10209 | B10: Sealant or Caulking Compound -- Chemically Curing | C10: Dow Silicones Corporation | D10: 25 | E10: =A10&" "&B10 -> 10209 Sealant or Caulking Compound -- Chemically Curing
A11: 10209 | B11: Sealant or Caulking Compound -- Chemically Curing | C11: Midwest Motor Supply Co. dba Kimball Midwest | D11: 24 | E11: =A11&" "&B11 -> 10209 Sealant or Caulking Compound -- Chemically Curing
A12: 10209 | B12: Sealant or Caulking Compound -- Chemically Curing | C12: Lawson Products, Inc | D12: 17 | E12: =A12&" "&B12 -> 10209 Sealant or Caulking Compound -- Chemically Curing
A13: 10209 | B13: Sealant or Caulking Compound -- Chemically Curing | C13: Star brite | D13: 15 | E13: =A13&" "&B13 -> 10209 Sealant or Caulking Compound -- Chemically Curing
... A1645: 70117 | B1645: Undercoating (aerosol only) | C1645: International Epoxies & Sealers | D1645: 1 | E1645: =A1645&" "&B1645 -> 70117 Undercoating (aerosol only)
E1646: =A1646&" "&B1646

Sheet Filter Based On Category Name
A1: CARB Consumer and Commercial Products Survey for Year 2023
A2: October 5, 2026
A4: Select Category Name | B4: Sealant or Caulking Compound -- Chemically Curing
A5: Total Number of Companies (per selected category) | B5: {=COUNTA(_xlfn.UNIQUE(_xlfn._xlws.FILTER('2023 All Cat Codes'!C2:C1646,'2023 All Cat Codes'!B2:B1646='Filter Based On Category Name'!B4)))} -> 27
A6: Total Number of Products (per selected category) | B6: =SUMIFS('2023 All Cat Codes'!D2:D1646,'2023 All Cat Codes'!B2:B1646, B4) -> 926
A11: Category Code | B11: Company Names for Selected Category | C11: Total Product Count (Per Company)
A12: {=_xlfn.LET( _xlpm.category,B4, _xlpm.companies,_xlfn.UNIQUE(_xlfn._xlws.FILTER('2023 All Cat Codes'!C2:C1646,'2023 All Cat Codes'!B2:B1646=_xlpm.category)), _xlpm.codes,_xlfn.MAP(_xlpm.companies,_xlfn.LAMBDA(_xlpm.c, INDEX('2023 All Cat Codes'!A2:A1646, MATCH(1, ('2023 All Cat Codes'!C2:C1646=_xlpm.c)* ('2023 All Cat Codes'!B2:B1646=_xlpm.category), 0) ) )), _xlpm.counts,_xlfn.MAP(_xlpm.companies,_xlfn.LAMBDA(_xlpm.c, SUMIFS('2023 All Cat Codes'!D2:D1646, '2023 All Cat Codes'!C2:C1646,_xlpm.c, '2023 All Cat Codes'!B2:B1646,_xlpm.category) )), _xlfn.HSTACK(_xlpm.codes,_xlpm.companies,_xlpm.counts) )} -> 10209 | B12: Henkel Corporation | C12: 311
A13: 10209 | B13: Franklin International | C13: 150
A14: 10209 | B14: Tremco CPG, Inc | C14: 72
A15: 10209 | B15: The Sherwin-Williams Company | C15: 70
A16: 10209 | B16: DAP Global Inc. | C16: 57
A17: 10209 | B17: LATICRETE International, Inc | C17: 43
A18: 10209 | B18: Custom Building Products | C18: 36
A19: 10209 | B19: 3M Company | C19: 35
A20: 10209 | B20: Dow Silicones Corporation | C20: 25
A21: 10209 | B21: Midwest Motor Supply Co. dba Kimball Midwest | C21: 24
A22: 10209 | B22: Lawson Products, Inc | C22: 17
A23: 10209 | B23: Star brite | C23: 15
A24: 10209 | B24: International Epoxies & Sealers | C24: 15
... A38: 10209 | B38: W.M. Barr & Company, Inc. | C38: 1

Sheet Filter Based On Company Name
A1: CARB Draft Final Consumer and Commercial Products Survey for Year 2023
A2: October 5, 2026
A4: Select Company Name | B4: Henkel Corporation
A5: Total Number of Categories (per selected Company) | B5: {=COUNTA(_xlfn.UNIQUE(_xlfn._xlws.FILTER('2023 All Cat Codes'!B2:B1646,'2023 All Cat Codes'!C2:C1646='Filter Based On Company Name'!B4)))} -> 15
A6: Total Number of Products (per selected Company) | B6: =SUMIFS('2023 All Cat Codes'!D2:D1646,'2023 All Cat Codes'!C2:C1646, B4) -> 1823
A11: Category Code | B11: Category List for a Selected Company | C11: Product Count per Category
A12: {=_xlfn.LET( _xlpm.company,B4,_xlpm.categories,_xlfn.UNIQUE(_xlfn._xlws.FILTER('2023 All Cat Codes'!B2:B1646,'2023 All Cat Codes'!C2:C1646=_xlpm.company)),_xlpm.codes, _xlfn.MAP(_xlpm.categories,_xlfn.LAMBDA(_xlpm.c, INDEX('2023 All Cat Codes'!A2:A1646, MATCH(1,('2023 All Cat Codes'!C2:C1646=_xlpm.company)*('2023 All Cat Codes'!B2:B1646=_xlpm.c),0)) )), _xlpm.counts,_xlfn.MAP(_xlpm.categories,_xlfn.LAMBDA(_xlpm.c,SUMIFS('2023 All Cat Codes'!D2:D1646,'2023 All Cat Codes'!C2:C1646,_xlpm.company,'2023 All Cat Codes'!B2:B1646,_xlpm.c))),_xlfn.HSTACK(_xlpm.codes,_xlpm.categories,_xlpm.counts))} -> 10209 | B12: Sealant or Caulking Compound -- Chemically Curing | C12: 311
A13: 10210 | B13: Sealant or Caulking Compound -- Nonchemically Curing | C13: 109
A14: 20311 | B14: General Purpose Cleaner (nonaerosol) | C14: 18
A15: 20312 | B15: General Purpose Degreaser (aerosol) | C15: 1
A16: 20903 | B16: Laundry Detergent | C16: 229
A17: 20919 | B17: Liquid Fabric Softener | C17: 70
A18: 21012 | B18: Multi-purpose Dry Lubricant | C18: 1
A19: 21014 | B19: Penetrant | C19: 2
A20: 30101 | B20: Antiperspirant | C20: 1
A21: 30201 | B21: Anti-microbial Dry Hand Wash (Hand Sanitizer) | C21: 17
A22: 30207 | B22: Body Wash/Mousse/Gel/Soap/Foam/Scrub | C22: 112
A23: 30404 | B23: Hand and Body Conditioner, Cream, Lotion, and Moisturizer | C23: 2
A24: 30602 | B24: Conditioner without styling claims | C24: 88
... A26: 70117 | B26: Undercoating (aerosol only) | C26: 1
